BEGIN:VCALENDAR
VERSION:2.0
PRODID:-//Abundant Life Community Church - ECPv6.15.20//NONSGML v1.0//EN
CALSCALE:GREGORIAN
METHOD:PUBLISH
X-ORIGINAL-URL:https://alcconline.org
X-WR-CALDESC:Events for Abundant Life Community Church
REFRESH-INTERVAL;VALUE=DURATION:PT1H
X-Robots-Tag:noindex
X-PUBLISHED-TTL:PT1H
BEGIN:VTIMEZONE
TZID:UTC
BEGIN:STANDARD
TZOFFSETFROM:+0000
TZOFFSETTO:+0000
TZNAME:UTC
DTSTART:20220101T000000
END:STANDARD
END:VTIMEZONE
BEGIN:VEVENT
DTSTART;TZID=UTC:20231210T160000
DTEND;TZID=UTC:20231210T200000
DTSTAMP:20260425T091122
CREATED:20231128T035617Z
LAST-MODIFIED:20231128T035617Z
UID:4358-1702224000-1702238400@alcconline.org
SUMMARY:Family Christmas Fun Day
DESCRIPTION:Family Fun Day: December 10th\, 4:00 – 8:00 PM \nBaked potato bar dinner\, car light parade\, games
URL:https://alcconline.org/event/family-christmas-fun-day/
LOCATION:Abundant Life Community Church\, 10795 Alta Street\, Grass Valley\, CA\, 95945\, United States
CATEGORIES:Family
ATTACH;FMTTYPE=image/jpeg:https://alcconline.org/wp-content/uploads/2023/11/image4.jpeg
ORGANIZER;CN="ALCC Admin":MAILTO:office@alcconline.org
END:VEVENT
BEGIN:VEVENT
DTSTART;TZID=UTC:20231224T100000
DTEND;TZID=UTC:20231224T120000
DTSTAMP:20260425T091122
CREATED:20231128T040056Z
LAST-MODIFIED:20231128T040056Z
UID:4361-1703412000-1703419200@alcconline.org
SUMMARY:Christmas Eve Candlelight Service
DESCRIPTION:Christmas Eve Candlelight Service \nDecember 24th 10:00 AM
URL:https://alcconline.org/event/christmas-eve-candlelight-service-2/
LOCATION:Abundant Life Community Church\, 10795 Alta Street\, Grass Valley\, CA\, 95945\, United States
CATEGORIES:Family
ATTACH;FMTTYPE=image/jpeg:https://alcconline.org/wp-content/uploads/2023/11/christmas-eve_carousel.jpg
ORGANIZER;CN="ALCC Admin":MAILTO:office@alcconline.org
END:VEVENT
END:VCALENDAR