BEGIN:VCALENDAR
VERSION:2.0
PRODID:-//Abundant Life Community Church - ECPv6.15.20//NONSGML v1.0//EN
CALSCALE:GREGORIAN
METHOD:PUBLISH
X-WR-CALNAME:Abundant Life Community Church
X-ORIGINAL-URL:https://alcconline.org
X-WR-CALDESC:Events for Abundant Life Community Church
REFRESH-INTERVAL;VALUE=DURATION:PT1H
X-Robots-Tag:noindex
X-PUBLISHED-TTL:PT1H
BEGIN:VTIMEZONE
TZID:America/Los_Angeles
BEGIN:DAYLIGHT
TZOFFSETFROM:-0800
TZOFFSETTO:-0700
TZNAME:PDT
DTSTART:20250309T100000
END:DAYLIGHT
BEGIN:STANDARD
TZOFFSETFROM:-0700
TZOFFSETTO:-0800
TZNAME:PST
DTSTART:20251102T090000
END:STANDARD
BEGIN:DAYLIGHT
TZOFFSETFROM:-0800
TZOFFSETTO:-0700
TZNAME:PDT
DTSTART:20260308T100000
END:DAYLIGHT
BEGIN:STANDARD
TZOFFSETFROM:-0700
TZOFFSETTO:-0800
TZNAME:PST
DTSTART:20261101T090000
END:STANDARD
BEGIN:DAYLIGHT
TZOFFSETFROM:-0800
TZOFFSETTO:-0700
TZNAME:PDT
DTSTART:20270314T100000
END:DAYLIGHT
BEGIN:STANDARD
TZOFFSETFROM:-0700
TZOFFSETTO:-0800
TZNAME:PST
DTSTART:20271107T090000
END:STANDARD
BEGIN:DAYLIGHT
TZOFFSETFROM:-0800
TZOFFSETTO:-0700
TZNAME:PDT
DTSTART:20280312T100000
END:DAYLIGHT
BEGIN:STANDARD
TZOFFSETFROM:-0700
TZOFFSETTO:-0800
TZNAME:PST
DTSTART:20281105T090000
END:STANDARD
END:VTIMEZONE
BEGIN:VTIMEZONE
TZID:UTC
BEGIN:STANDARD
TZOFFSETFROM:+0000
TZOFFSETTO:+0000
TZNAME:UTC
DTSTART:20260101T000000
END:STANDARD
END:VTIMEZONE
BEGIN:VEVENT
DTSTART;TZID=America/Los_Angeles:20261211T173000
DTEND;TZID=America/Los_Angeles:20261211T190000
DTSTAMP:20260424T092528
CREATED:20260309T165331Z
LAST-MODIFIED:20260309T165331Z
UID:6023-1797010200-1797015600@alcconline.org
SUMMARY:Kingdom Kids
DESCRIPTION:Friday Nights 5:30 – 7:00 PM \nGrades K- 5th
URL:https://alcconline.org/event/kingdom-kids/2026-12-11/
LOCATION:Abundant Life Community Church\, 10795 Alta Street\, Grass Valley\, CA\, 95945\, United States
ATTACH;FMTTYPE=image/png:https://alcconline.org/wp-content/uploads/2026/03/Kingdom-.png
ORGANIZER;CN="ALCC Admin":MAILTO:office@alcconline.org
END:VEVENT
BEGIN:VEVENT
DTSTART;TZID=America/Los_Angeles:20261211T190000
DTEND;TZID=America/Los_Angeles:20261211T203000
DTSTAMP:20260424T092528
CREATED:20260309T165518Z
LAST-MODIFIED:20260309T165518Z
UID:6076-1797015600-1797021000@alcconline.org
SUMMARY:Youth Group
DESCRIPTION:Friday Nights 7:00 – 8:30 PM \nGrades 6 – 12
URL:https://alcconline.org/event/youth-group/2026-12-11/
LOCATION:Abundant Life Community Church\, 10795 Alta Street\, Grass Valley\, CA\, 95945\, United States
ATTACH;FMTTYPE=image/jpeg:https://alcconline.org/wp-content/uploads/2026/03/youth.jpg
ORGANIZER;CN="ALCC Admin":MAILTO:office@alcconline.org
END:VEVENT
BEGIN:VEVENT
DTSTART;TZID=America/Los_Angeles:20261213T100000
DTEND;TZID=America/Los_Angeles:20261213T120000
DTSTAMP:20260424T092528
CREATED:20200827T002832Z
LAST-MODIFIED:20200827T002832Z
UID:5216-1797156000-1797163200@alcconline.org
SUMMARY:Sunday Service 10:00 AM
DESCRIPTION:
URL:https://alcconline.org/event/sunday-service-845-a-m/2026-12-13/
LOCATION:Abundant Life Community Church\, 10795 Alta Street\, Grass Valley\, CA\, 95945\, United States
ATTACH;FMTTYPE=image/jpeg:https://alcconline.org/wp-content/uploads/2020/08/20190816_173221820_iOS.jpg
ORGANIZER;CN="ALCC Admin":MAILTO:office@alcconline.org
END:VEVENT
BEGIN:VEVENT
DTSTART;TZID=America/Los_Angeles:20261218T173000
DTEND;TZID=America/Los_Angeles:20261218T190000
DTSTAMP:20260424T092528
CREATED:20260309T165331Z
LAST-MODIFIED:20260309T165331Z
UID:6024-1797615000-1797620400@alcconline.org
SUMMARY:Kingdom Kids
DESCRIPTION:Friday Nights 5:30 – 7:00 PM \nGrades K- 5th
URL:https://alcconline.org/event/kingdom-kids/2026-12-18/
LOCATION:Abundant Life Community Church\, 10795 Alta Street\, Grass Valley\, CA\, 95945\, United States
ATTACH;FMTTYPE=image/png:https://alcconline.org/wp-content/uploads/2026/03/Kingdom-.png
ORGANIZER;CN="ALCC Admin":MAILTO:office@alcconline.org
END:VEVENT
BEGIN:VEVENT
DTSTART;TZID=America/Los_Angeles:20261218T190000
DTEND;TZID=America/Los_Angeles:20261218T203000
DTSTAMP:20260424T092528
CREATED:20260309T165518Z
LAST-MODIFIED:20260309T165518Z
UID:6077-1797620400-1797625800@alcconline.org
SUMMARY:Youth Group
DESCRIPTION:Friday Nights 7:00 – 8:30 PM \nGrades 6 – 12
URL:https://alcconline.org/event/youth-group/2026-12-18/
LOCATION:Abundant Life Community Church\, 10795 Alta Street\, Grass Valley\, CA\, 95945\, United States
ATTACH;FMTTYPE=image/jpeg:https://alcconline.org/wp-content/uploads/2026/03/youth.jpg
ORGANIZER;CN="ALCC Admin":MAILTO:office@alcconline.org
END:VEVENT
BEGIN:VEVENT
DTSTART;TZID=America/Los_Angeles:20261220T100000
DTEND;TZID=America/Los_Angeles:20261220T120000
DTSTAMP:20260424T092528
CREATED:20200827T002832Z
LAST-MODIFIED:20200827T002832Z
UID:5227-1797760800-1797768000@alcconline.org
SUMMARY:Sunday Service 10:00 AM
DESCRIPTION:
URL:https://alcconline.org/event/sunday-service-845-a-m/2026-12-20/
LOCATION:Abundant Life Community Church\, 10795 Alta Street\, Grass Valley\, CA\, 95945\, United States
ATTACH;FMTTYPE=image/jpeg:https://alcconline.org/wp-content/uploads/2020/08/20190816_173221820_iOS.jpg
ORGANIZER;CN="ALCC Admin":MAILTO:office@alcconline.org
END:VEVENT
BEGIN:VEVENT
DTSTART;TZID=America/Los_Angeles:20261225T173000
DTEND;TZID=America/Los_Angeles:20261225T190000
DTSTAMP:20260424T092528
CREATED:20260309T165331Z
LAST-MODIFIED:20260309T165331Z
UID:6026-1798219800-1798225200@alcconline.org
SUMMARY:Kingdom Kids
DESCRIPTION:Friday Nights 5:30 – 7:00 PM \nGrades K- 5th
URL:https://alcconline.org/event/kingdom-kids/2026-12-25/
LOCATION:Abundant Life Community Church\, 10795 Alta Street\, Grass Valley\, CA\, 95945\, United States
ATTACH;FMTTYPE=image/png:https://alcconline.org/wp-content/uploads/2026/03/Kingdom-.png
ORGANIZER;CN="ALCC Admin":MAILTO:office@alcconline.org
END:VEVENT
BEGIN:VEVENT
DTSTART;TZID=America/Los_Angeles:20261225T190000
DTEND;TZID=America/Los_Angeles:20261225T203000
DTSTAMP:20260424T092528
CREATED:20260309T165518Z
LAST-MODIFIED:20260309T165518Z
UID:6078-1798225200-1798230600@alcconline.org
SUMMARY:Youth Group
DESCRIPTION:Friday Nights 7:00 – 8:30 PM \nGrades 6 – 12
URL:https://alcconline.org/event/youth-group/2026-12-25/
LOCATION:Abundant Life Community Church\, 10795 Alta Street\, Grass Valley\, CA\, 95945\, United States
ATTACH;FMTTYPE=image/jpeg:https://alcconline.org/wp-content/uploads/2026/03/youth.jpg
ORGANIZER;CN="ALCC Admin":MAILTO:office@alcconline.org
END:VEVENT
BEGIN:VEVENT
DTSTART;TZID=America/Los_Angeles:20261227T100000
DTEND;TZID=America/Los_Angeles:20261227T120000
DTSTAMP:20260424T092528
CREATED:20200827T002832Z
LAST-MODIFIED:20200827T002832Z
UID:5237-1798365600-1798372800@alcconline.org
SUMMARY:Sunday Service 10:00 AM
DESCRIPTION:
URL:https://alcconline.org/event/sunday-service-845-a-m/2026-12-27/
LOCATION:Abundant Life Community Church\, 10795 Alta Street\, Grass Valley\, CA\, 95945\, United States
ATTACH;FMTTYPE=image/jpeg:https://alcconline.org/wp-content/uploads/2020/08/20190816_173221820_iOS.jpg
ORGANIZER;CN="ALCC Admin":MAILTO:office@alcconline.org
END:VEVENT
BEGIN:VEVENT
DTSTART;TZID=America/Los_Angeles:20270101T173000
DTEND;TZID=America/Los_Angeles:20270101T190000
DTSTAMP:20260424T092528
CREATED:20260309T165331Z
LAST-MODIFIED:20260309T165331Z
UID:6027-1798824600-1798830000@alcconline.org
SUMMARY:Kingdom Kids
DESCRIPTION:Friday Nights 5:30 – 7:00 PM \nGrades K- 5th
URL:https://alcconline.org/event/kingdom-kids/2027-01-01/
LOCATION:Abundant Life Community Church\, 10795 Alta Street\, Grass Valley\, CA\, 95945\, United States
ATTACH;FMTTYPE=image/png:https://alcconline.org/wp-content/uploads/2026/03/Kingdom-.png
ORGANIZER;CN="ALCC Admin":MAILTO:office@alcconline.org
END:VEVENT
BEGIN:VEVENT
DTSTART;TZID=America/Los_Angeles:20270101T190000
DTEND;TZID=America/Los_Angeles:20270101T203000
DTSTAMP:20260424T092528
CREATED:20260309T165518Z
LAST-MODIFIED:20260309T165518Z
UID:6079-1798830000-1798835400@alcconline.org
SUMMARY:Youth Group
DESCRIPTION:Friday Nights 7:00 – 8:30 PM \nGrades 6 – 12
URL:https://alcconline.org/event/youth-group/2027-01-01/
LOCATION:Abundant Life Community Church\, 10795 Alta Street\, Grass Valley\, CA\, 95945\, United States
ATTACH;FMTTYPE=image/jpeg:https://alcconline.org/wp-content/uploads/2026/03/youth.jpg
ORGANIZER;CN="ALCC Admin":MAILTO:office@alcconline.org
END:VEVENT
BEGIN:VEVENT
DTSTART;TZID=America/Los_Angeles:20270103T100000
DTEND;TZID=America/Los_Angeles:20270103T120000
DTSTAMP:20260424T092528
CREATED:20200827T002832Z
LAST-MODIFIED:20200827T002832Z
UID:5250-1798970400-1798977600@alcconline.org
SUMMARY:Sunday Service 10:00 AM
DESCRIPTION:
URL:https://alcconline.org/event/sunday-service-845-a-m/2027-01-03/
LOCATION:Abundant Life Community Church\, 10795 Alta Street\, Grass Valley\, CA\, 95945\, United States
ATTACH;FMTTYPE=image/jpeg:https://alcconline.org/wp-content/uploads/2020/08/20190816_173221820_iOS.jpg
ORGANIZER;CN="ALCC Admin":MAILTO:office@alcconline.org
END:VEVENT
BEGIN:VEVENT
DTSTART;TZID=UTC:20270107T133000
DTEND;TZID=UTC:20270107T143000
DTSTAMP:20260424T092528
CREATED:20240213T025044Z
LAST-MODIFIED:20240213T025044Z
UID:5268-1799328600-1799332200@alcconline.org
SUMMARY:Nursing Home Visit
DESCRIPTION:On the first Thursday of each month at 1:30 PM\, we visit Golden Empire Convalescent and sing songs\, share communion\, and love on the residents there. We’d love to have you join us!
URL:https://alcconline.org/event/nursing-home-visit/2027-01-07/
LOCATION:Abundant Life Community Church\, 10795 Alta Street\, Grass Valley\, CA\, 95945\, United States
CATEGORIES:Outreach
ATTACH;FMTTYPE=image/jpeg:https://alcconline.org/wp-content/uploads/2024/02/psalm-100-vs-1-2.jpg
ORGANIZER;CN="ALCC Admin":MAILTO:office@alcconline.org
END:VEVENT
BEGIN:VEVENT
DTSTART;TZID=America/Los_Angeles:20270108T173000
DTEND;TZID=America/Los_Angeles:20270108T190000
DTSTAMP:20260424T092528
CREATED:20260309T165331Z
LAST-MODIFIED:20260309T165331Z
UID:6028-1799429400-1799434800@alcconline.org
SUMMARY:Kingdom Kids
DESCRIPTION:Friday Nights 5:30 – 7:00 PM \nGrades K- 5th
URL:https://alcconline.org/event/kingdom-kids/2027-01-08/
LOCATION:Abundant Life Community Church\, 10795 Alta Street\, Grass Valley\, CA\, 95945\, United States
ATTACH;FMTTYPE=image/png:https://alcconline.org/wp-content/uploads/2026/03/Kingdom-.png
ORGANIZER;CN="ALCC Admin":MAILTO:office@alcconline.org
END:VEVENT
BEGIN:VEVENT
DTSTART;TZID=America/Los_Angeles:20270108T190000
DTEND;TZID=America/Los_Angeles:20270108T203000
DTSTAMP:20260424T092528
CREATED:20260309T165518Z
LAST-MODIFIED:20260309T165518Z
UID:6080-1799434800-1799440200@alcconline.org
SUMMARY:Youth Group
DESCRIPTION:Friday Nights 7:00 – 8:30 PM \nGrades 6 – 12
URL:https://alcconline.org/event/youth-group/2027-01-08/
LOCATION:Abundant Life Community Church\, 10795 Alta Street\, Grass Valley\, CA\, 95945\, United States
ATTACH;FMTTYPE=image/jpeg:https://alcconline.org/wp-content/uploads/2026/03/youth.jpg
ORGANIZER;CN="ALCC Admin":MAILTO:office@alcconline.org
END:VEVENT
BEGIN:VEVENT
DTSTART;TZID=America/Los_Angeles:20270110T100000
DTEND;TZID=America/Los_Angeles:20270110T120000
DTSTAMP:20260424T092528
CREATED:20200827T002832Z
LAST-MODIFIED:20200827T002832Z
UID:5273-1799575200-1799582400@alcconline.org
SUMMARY:Sunday Service 10:00 AM
DESCRIPTION:
URL:https://alcconline.org/event/sunday-service-845-a-m/2027-01-10/
LOCATION:Abundant Life Community Church\, 10795 Alta Street\, Grass Valley\, CA\, 95945\, United States
ATTACH;FMTTYPE=image/jpeg:https://alcconline.org/wp-content/uploads/2020/08/20190816_173221820_iOS.jpg
ORGANIZER;CN="ALCC Admin":MAILTO:office@alcconline.org
END:VEVENT
BEGIN:VEVENT
DTSTART;TZID=America/Los_Angeles:20270115T173000
DTEND;TZID=America/Los_Angeles:20270115T190000
DTSTAMP:20260424T092528
CREATED:20260309T165331Z
LAST-MODIFIED:20260309T165331Z
UID:6029-1800034200-1800039600@alcconline.org
SUMMARY:Kingdom Kids
DESCRIPTION:Friday Nights 5:30 – 7:00 PM \nGrades K- 5th
URL:https://alcconline.org/event/kingdom-kids/2027-01-15/
LOCATION:Abundant Life Community Church\, 10795 Alta Street\, Grass Valley\, CA\, 95945\, United States
ATTACH;FMTTYPE=image/png:https://alcconline.org/wp-content/uploads/2026/03/Kingdom-.png
ORGANIZER;CN="ALCC Admin":MAILTO:office@alcconline.org
END:VEVENT
BEGIN:VEVENT
DTSTART;TZID=America/Los_Angeles:20270115T190000
DTEND;TZID=America/Los_Angeles:20270115T203000
DTSTAMP:20260424T092528
CREATED:20260309T165518Z
LAST-MODIFIED:20260309T165518Z
UID:6081-1800039600-1800045000@alcconline.org
SUMMARY:Youth Group
DESCRIPTION:Friday Nights 7:00 – 8:30 PM \nGrades 6 – 12
URL:https://alcconline.org/event/youth-group/2027-01-15/
LOCATION:Abundant Life Community Church\, 10795 Alta Street\, Grass Valley\, CA\, 95945\, United States
ATTACH;FMTTYPE=image/jpeg:https://alcconline.org/wp-content/uploads/2026/03/youth.jpg
ORGANIZER;CN="ALCC Admin":MAILTO:office@alcconline.org
END:VEVENT
BEGIN:VEVENT
DTSTART;TZID=America/Los_Angeles:20270117T100000
DTEND;TZID=America/Los_Angeles:20270117T120000
DTSTAMP:20260424T092528
CREATED:20200827T002832Z
LAST-MODIFIED:20200827T002832Z
UID:5281-1800180000-1800187200@alcconline.org
SUMMARY:Sunday Service 10:00 AM
DESCRIPTION:
URL:https://alcconline.org/event/sunday-service-845-a-m/2027-01-17/
LOCATION:Abundant Life Community Church\, 10795 Alta Street\, Grass Valley\, CA\, 95945\, United States
ATTACH;FMTTYPE=image/jpeg:https://alcconline.org/wp-content/uploads/2020/08/20190816_173221820_iOS.jpg
ORGANIZER;CN="ALCC Admin":MAILTO:office@alcconline.org
END:VEVENT
BEGIN:VEVENT
DTSTART;TZID=America/Los_Angeles:20270122T173000
DTEND;TZID=America/Los_Angeles:20270122T190000
DTSTAMP:20260424T092528
CREATED:20260309T165331Z
LAST-MODIFIED:20260309T165331Z
UID:6030-1800639000-1800644400@alcconline.org
SUMMARY:Kingdom Kids
DESCRIPTION:Friday Nights 5:30 – 7:00 PM \nGrades K- 5th
URL:https://alcconline.org/event/kingdom-kids/2027-01-22/
LOCATION:Abundant Life Community Church\, 10795 Alta Street\, Grass Valley\, CA\, 95945\, United States
ATTACH;FMTTYPE=image/png:https://alcconline.org/wp-content/uploads/2026/03/Kingdom-.png
ORGANIZER;CN="ALCC Admin":MAILTO:office@alcconline.org
END:VEVENT
BEGIN:VEVENT
DTSTART;TZID=America/Los_Angeles:20270122T190000
DTEND;TZID=America/Los_Angeles:20270122T203000
DTSTAMP:20260424T092528
CREATED:20260309T165518Z
LAST-MODIFIED:20260309T165518Z
UID:6082-1800644400-1800649800@alcconline.org
SUMMARY:Youth Group
DESCRIPTION:Friday Nights 7:00 – 8:30 PM \nGrades 6 – 12
URL:https://alcconline.org/event/youth-group/2027-01-22/
LOCATION:Abundant Life Community Church\, 10795 Alta Street\, Grass Valley\, CA\, 95945\, United States
ATTACH;FMTTYPE=image/jpeg:https://alcconline.org/wp-content/uploads/2026/03/youth.jpg
ORGANIZER;CN="ALCC Admin":MAILTO:office@alcconline.org
END:VEVENT
BEGIN:VEVENT
DTSTART;TZID=America/Los_Angeles:20270124T100000
DTEND;TZID=America/Los_Angeles:20270124T120000
DTSTAMP:20260424T092528
CREATED:20200827T002832Z
LAST-MODIFIED:20200827T002832Z
UID:5290-1800784800-1800792000@alcconline.org
SUMMARY:Sunday Service 10:00 AM
DESCRIPTION:
URL:https://alcconline.org/event/sunday-service-845-a-m/2027-01-24/
LOCATION:Abundant Life Community Church\, 10795 Alta Street\, Grass Valley\, CA\, 95945\, United States
ATTACH;FMTTYPE=image/jpeg:https://alcconline.org/wp-content/uploads/2020/08/20190816_173221820_iOS.jpg
ORGANIZER;CN="ALCC Admin":MAILTO:office@alcconline.org
END:VEVENT
BEGIN:VEVENT
DTSTART;TZID=America/Los_Angeles:20270129T173000
DTEND;TZID=America/Los_Angeles:20270129T190000
DTSTAMP:20260424T092528
CREATED:20260309T165331Z
LAST-MODIFIED:20260309T165331Z
UID:6031-1801243800-1801249200@alcconline.org
SUMMARY:Kingdom Kids
DESCRIPTION:Friday Nights 5:30 – 7:00 PM \nGrades K- 5th
URL:https://alcconline.org/event/kingdom-kids/2027-01-29/
LOCATION:Abundant Life Community Church\, 10795 Alta Street\, Grass Valley\, CA\, 95945\, United States
ATTACH;FMTTYPE=image/png:https://alcconline.org/wp-content/uploads/2026/03/Kingdom-.png
ORGANIZER;CN="ALCC Admin":MAILTO:office@alcconline.org
END:VEVENT
BEGIN:VEVENT
DTSTART;TZID=America/Los_Angeles:20270129T190000
DTEND;TZID=America/Los_Angeles:20270129T203000
DTSTAMP:20260424T092528
CREATED:20260309T165518Z
LAST-MODIFIED:20260309T165518Z
UID:6083-1801249200-1801254600@alcconline.org
SUMMARY:Youth Group
DESCRIPTION:Friday Nights 7:00 – 8:30 PM \nGrades 6 – 12
URL:https://alcconline.org/event/youth-group/2027-01-29/
LOCATION:Abundant Life Community Church\, 10795 Alta Street\, Grass Valley\, CA\, 95945\, United States
ATTACH;FMTTYPE=image/jpeg:https://alcconline.org/wp-content/uploads/2026/03/youth.jpg
ORGANIZER;CN="ALCC Admin":MAILTO:office@alcconline.org
END:VEVENT
BEGIN:VEVENT
DTSTART;TZID=America/Los_Angeles:20270131T100000
DTEND;TZID=America/Los_Angeles:20270131T120000
DTSTAMP:20260424T092528
CREATED:20200827T002832Z
LAST-MODIFIED:20200827T002832Z
UID:5299-1801389600-1801396800@alcconline.org
SUMMARY:Sunday Service 10:00 AM
DESCRIPTION:
URL:https://alcconline.org/event/sunday-service-845-a-m/2027-01-31/
LOCATION:Abundant Life Community Church\, 10795 Alta Street\, Grass Valley\, CA\, 95945\, United States
ATTACH;FMTTYPE=image/jpeg:https://alcconline.org/wp-content/uploads/2020/08/20190816_173221820_iOS.jpg
ORGANIZER;CN="ALCC Admin":MAILTO:office@alcconline.org
END:VEVENT
BEGIN:VEVENT
DTSTART;TZID=UTC:20270204T133000
DTEND;TZID=UTC:20270204T143000
DTSTAMP:20260424T092528
CREATED:20240213T025044Z
LAST-MODIFIED:20240213T025044Z
UID:5312-1801747800-1801751400@alcconline.org
SUMMARY:Nursing Home Visit
DESCRIPTION:On the first Thursday of each month at 1:30 PM\, we visit Golden Empire Convalescent and sing songs\, share communion\, and love on the residents there. We’d love to have you join us!
URL:https://alcconline.org/event/nursing-home-visit/2027-02-04/
LOCATION:Abundant Life Community Church\, 10795 Alta Street\, Grass Valley\, CA\, 95945\, United States
CATEGORIES:Outreach
ATTACH;FMTTYPE=image/jpeg:https://alcconline.org/wp-content/uploads/2024/02/psalm-100-vs-1-2.jpg
ORGANIZER;CN="ALCC Admin":MAILTO:office@alcconline.org
END:VEVENT
BEGIN:VEVENT
DTSTART;TZID=America/Los_Angeles:20270205T173000
DTEND;TZID=America/Los_Angeles:20270205T190000
DTSTAMP:20260424T092528
CREATED:20260309T165331Z
LAST-MODIFIED:20260309T165331Z
UID:6032-1801848600-1801854000@alcconline.org
SUMMARY:Kingdom Kids
DESCRIPTION:Friday Nights 5:30 – 7:00 PM \nGrades K- 5th
URL:https://alcconline.org/event/kingdom-kids/2027-02-05/
LOCATION:Abundant Life Community Church\, 10795 Alta Street\, Grass Valley\, CA\, 95945\, United States
ATTACH;FMTTYPE=image/png:https://alcconline.org/wp-content/uploads/2026/03/Kingdom-.png
ORGANIZER;CN="ALCC Admin":MAILTO:office@alcconline.org
END:VEVENT
BEGIN:VEVENT
DTSTART;TZID=America/Los_Angeles:20270205T190000
DTEND;TZID=America/Los_Angeles:20270205T203000
DTSTAMP:20260424T092528
CREATED:20260309T165518Z
LAST-MODIFIED:20260309T165518Z
UID:6084-1801854000-1801859400@alcconline.org
SUMMARY:Youth Group
DESCRIPTION:Friday Nights 7:00 – 8:30 PM \nGrades 6 – 12
URL:https://alcconline.org/event/youth-group/2027-02-05/
LOCATION:Abundant Life Community Church\, 10795 Alta Street\, Grass Valley\, CA\, 95945\, United States
ATTACH;FMTTYPE=image/jpeg:https://alcconline.org/wp-content/uploads/2026/03/youth.jpg
ORGANIZER;CN="ALCC Admin":MAILTO:office@alcconline.org
END:VEVENT
BEGIN:VEVENT
DTSTART;TZID=America/Los_Angeles:20270207T100000
DTEND;TZID=America/Los_Angeles:20270207T120000
DTSTAMP:20260424T092528
CREATED:20200827T002832Z
LAST-MODIFIED:20200827T002832Z
UID:5318-1801994400-1802001600@alcconline.org
SUMMARY:Sunday Service 10:00 AM
DESCRIPTION:
URL:https://alcconline.org/event/sunday-service-845-a-m/2027-02-07/
LOCATION:Abundant Life Community Church\, 10795 Alta Street\, Grass Valley\, CA\, 95945\, United States
ATTACH;FMTTYPE=image/jpeg:https://alcconline.org/wp-content/uploads/2020/08/20190816_173221820_iOS.jpg
ORGANIZER;CN="ALCC Admin":MAILTO:office@alcconline.org
END:VEVENT
BEGIN:VEVENT
DTSTART;TZID=America/Los_Angeles:20270212T173000
DTEND;TZID=America/Los_Angeles:20270212T190000
DTSTAMP:20260424T092528
CREATED:20260309T165331Z
LAST-MODIFIED:20260309T165331Z
UID:6033-1802453400-1802458800@alcconline.org
SUMMARY:Kingdom Kids
DESCRIPTION:Friday Nights 5:30 – 7:00 PM \nGrades K- 5th
URL:https://alcconline.org/event/kingdom-kids/2027-02-12/
LOCATION:Abundant Life Community Church\, 10795 Alta Street\, Grass Valley\, CA\, 95945\, United States
ATTACH;FMTTYPE=image/png:https://alcconline.org/wp-content/uploads/2026/03/Kingdom-.png
ORGANIZER;CN="ALCC Admin":MAILTO:office@alcconline.org
END:VEVENT
END:VCALENDAR