BEGIN:VCALENDAR
VERSION:2.0
PRODID:-//Abundant Life Community Church - ECPv6.15.20//NONSGML v1.0//EN
CALSCALE:GREGORIAN
METHOD:PUBLISH
X-ORIGINAL-URL:https://alcconline.org
X-WR-CALDESC:Events for Abundant Life Community Church
REFRESH-INTERVAL;VALUE=DURATION:PT1H
X-Robots-Tag:noindex
X-PUBLISHED-TTL:PT1H
BEGIN:VTIMEZONE
TZID:America/Los_Angeles
BEGIN:DAYLIGHT
TZOFFSETFROM:-0800
TZOFFSETTO:-0700
TZNAME:PDT
DTSTART:20260308T100000
END:DAYLIGHT
BEGIN:STANDARD
TZOFFSETFROM:-0700
TZOFFSETTO:-0800
TZNAME:PST
DTSTART:20261101T090000
END:STANDARD
BEGIN:DAYLIGHT
TZOFFSETFROM:-0800
TZOFFSETTO:-0700
TZNAME:PDT
DTSTART:20270314T100000
END:DAYLIGHT
BEGIN:STANDARD
TZOFFSETFROM:-0700
TZOFFSETTO:-0800
TZNAME:PST
DTSTART:20271107T090000
END:STANDARD
BEGIN:DAYLIGHT
TZOFFSETFROM:-0800
TZOFFSETTO:-0700
TZNAME:PDT
DTSTART:20280312T100000
END:DAYLIGHT
BEGIN:STANDARD
TZOFFSETFROM:-0700
TZOFFSETTO:-0800
TZNAME:PST
DTSTART:20281105T090000
END:STANDARD
END:VTIMEZONE
BEGIN:VTIMEZONE
TZID:UTC
BEGIN:STANDARD
TZOFFSETFROM:+0000
TZOFFSETTO:+0000
TZNAME:UTC
DTSTART:20260101T000000
END:STANDARD
END:VTIMEZONE
BEGIN:VEVENT
DTSTART;TZID=America/Los_Angeles:20270702T173000
DTEND;TZID=America/Los_Angeles:20270702T190000
DTSTAMP:20260425T091611
CREATED:20260309T165331Z
LAST-MODIFIED:20260309T165331Z
UID:6163-1814549400-1814554800@alcconline.org
SUMMARY:Kingdom Kids
DESCRIPTION:Friday Nights 5:30 – 7:00 PM \nGrades K- 5th
URL:https://alcconline.org/event/kingdom-kids/2027-07-02/
LOCATION:Abundant Life Community Church\, 10795 Alta Street\, Grass Valley\, CA\, 95945\, United States
ATTACH;FMTTYPE=image/png:https://alcconline.org/wp-content/uploads/2026/03/Kingdom-.png
ORGANIZER;CN="ALCC Admin":MAILTO:office@alcconline.org
END:VEVENT
BEGIN:VEVENT
DTSTART;TZID=America/Los_Angeles:20270702T190000
DTEND;TZID=America/Los_Angeles:20270702T203000
DTSTAMP:20260425T091612
CREATED:20260309T165518Z
LAST-MODIFIED:20260309T165518Z
UID:6105-1814554800-1814560200@alcconline.org
SUMMARY:Youth Group
DESCRIPTION:Friday Nights 7:00 – 8:30 PM \nGrades 6 – 12
URL:https://alcconline.org/event/youth-group/2027-07-02/
LOCATION:Abundant Life Community Church\, 10795 Alta Street\, Grass Valley\, CA\, 95945\, United States
ATTACH;FMTTYPE=image/jpeg:https://alcconline.org/wp-content/uploads/2026/03/youth.jpg
ORGANIZER;CN="ALCC Admin":MAILTO:office@alcconline.org
END:VEVENT
BEGIN:VEVENT
DTSTART;TZID=America/Los_Angeles:20270704T100000
DTEND;TZID=America/Los_Angeles:20270704T120000
DTSTAMP:20260425T091612
CREATED:20200827T002832Z
LAST-MODIFIED:20200827T002832Z
UID:5574-1814695200-1814702400@alcconline.org
SUMMARY:Sunday Service 10:00 AM
DESCRIPTION:
URL:https://alcconline.org/event/sunday-service-845-a-m/2027-07-04/
LOCATION:Abundant Life Community Church\, 10795 Alta Street\, Grass Valley\, CA\, 95945\, United States
ATTACH;FMTTYPE=image/jpeg:https://alcconline.org/wp-content/uploads/2020/08/20190816_173221820_iOS.jpg
ORGANIZER;CN="ALCC Admin":MAILTO:office@alcconline.org
END:VEVENT
BEGIN:VEVENT
DTSTART;TZID=America/Los_Angeles:20270709T173000
DTEND;TZID=America/Los_Angeles:20270709T190000
DTSTAMP:20260425T091612
CREATED:20260309T165331Z
LAST-MODIFIED:20260309T165331Z
UID:6164-1815154200-1815159600@alcconline.org
SUMMARY:Kingdom Kids
DESCRIPTION:Friday Nights 5:30 – 7:00 PM \nGrades K- 5th
URL:https://alcconline.org/event/kingdom-kids/2027-07-09/
LOCATION:Abundant Life Community Church\, 10795 Alta Street\, Grass Valley\, CA\, 95945\, United States
ATTACH;FMTTYPE=image/png:https://alcconline.org/wp-content/uploads/2026/03/Kingdom-.png
ORGANIZER;CN="ALCC Admin":MAILTO:office@alcconline.org
END:VEVENT
BEGIN:VEVENT
DTSTART;TZID=America/Los_Angeles:20270709T190000
DTEND;TZID=America/Los_Angeles:20270709T203000
DTSTAMP:20260425T091612
CREATED:20260309T165518Z
LAST-MODIFIED:20260309T165518Z
UID:6106-1815159600-1815165000@alcconline.org
SUMMARY:Youth Group
DESCRIPTION:Friday Nights 7:00 – 8:30 PM \nGrades 6 – 12
URL:https://alcconline.org/event/youth-group/2027-07-09/
LOCATION:Abundant Life Community Church\, 10795 Alta Street\, Grass Valley\, CA\, 95945\, United States
ATTACH;FMTTYPE=image/jpeg:https://alcconline.org/wp-content/uploads/2026/03/youth.jpg
ORGANIZER;CN="ALCC Admin":MAILTO:office@alcconline.org
END:VEVENT
BEGIN:VEVENT
DTSTART;TZID=America/Los_Angeles:20270711T100000
DTEND;TZID=America/Los_Angeles:20270711T120000
DTSTAMP:20260425T091612
CREATED:20200827T002832Z
LAST-MODIFIED:20200827T002832Z
UID:5585-1815300000-1815307200@alcconline.org
SUMMARY:Sunday Service 10:00 AM
DESCRIPTION:
URL:https://alcconline.org/event/sunday-service-845-a-m/2027-07-11/
LOCATION:Abundant Life Community Church\, 10795 Alta Street\, Grass Valley\, CA\, 95945\, United States
ATTACH;FMTTYPE=image/jpeg:https://alcconline.org/wp-content/uploads/2020/08/20190816_173221820_iOS.jpg
ORGANIZER;CN="ALCC Admin":MAILTO:office@alcconline.org
END:VEVENT
BEGIN:VEVENT
DTSTART;TZID=America/Los_Angeles:20270716T173000
DTEND;TZID=America/Los_Angeles:20270716T190000
DTSTAMP:20260425T091612
CREATED:20260309T165331Z
LAST-MODIFIED:20260309T165331Z
UID:6165-1815759000-1815764400@alcconline.org
SUMMARY:Kingdom Kids
DESCRIPTION:Friday Nights 5:30 – 7:00 PM \nGrades K- 5th
URL:https://alcconline.org/event/kingdom-kids/2027-07-16/
LOCATION:Abundant Life Community Church\, 10795 Alta Street\, Grass Valley\, CA\, 95945\, United States
ATTACH;FMTTYPE=image/png:https://alcconline.org/wp-content/uploads/2026/03/Kingdom-.png
ORGANIZER;CN="ALCC Admin":MAILTO:office@alcconline.org
END:VEVENT
BEGIN:VEVENT
DTSTART;TZID=America/Los_Angeles:20270716T190000
DTEND;TZID=America/Los_Angeles:20270716T203000
DTSTAMP:20260425T091612
CREATED:20260309T165518Z
LAST-MODIFIED:20260309T165518Z
UID:6107-1815764400-1815769800@alcconline.org
SUMMARY:Youth Group
DESCRIPTION:Friday Nights 7:00 – 8:30 PM \nGrades 6 – 12
URL:https://alcconline.org/event/youth-group/2027-07-16/
LOCATION:Abundant Life Community Church\, 10795 Alta Street\, Grass Valley\, CA\, 95945\, United States
ATTACH;FMTTYPE=image/jpeg:https://alcconline.org/wp-content/uploads/2026/03/youth.jpg
ORGANIZER;CN="ALCC Admin":MAILTO:office@alcconline.org
END:VEVENT
BEGIN:VEVENT
DTSTART;TZID=America/Los_Angeles:20270718T100000
DTEND;TZID=America/Los_Angeles:20270718T120000
DTSTAMP:20260425T091612
CREATED:20200827T002832Z
LAST-MODIFIED:20200827T002832Z
UID:5597-1815904800-1815912000@alcconline.org
SUMMARY:Sunday Service 10:00 AM
DESCRIPTION:
URL:https://alcconline.org/event/sunday-service-845-a-m/2027-07-18/
LOCATION:Abundant Life Community Church\, 10795 Alta Street\, Grass Valley\, CA\, 95945\, United States
ATTACH;FMTTYPE=image/jpeg:https://alcconline.org/wp-content/uploads/2020/08/20190816_173221820_iOS.jpg
ORGANIZER;CN="ALCC Admin":MAILTO:office@alcconline.org
END:VEVENT
BEGIN:VEVENT
DTSTART;TZID=America/Los_Angeles:20270723T173000
DTEND;TZID=America/Los_Angeles:20270723T190000
DTSTAMP:20260425T091612
CREATED:20260309T165331Z
LAST-MODIFIED:20260309T165331Z
UID:6166-1816363800-1816369200@alcconline.org
SUMMARY:Kingdom Kids
DESCRIPTION:Friday Nights 5:30 – 7:00 PM \nGrades K- 5th
URL:https://alcconline.org/event/kingdom-kids/2027-07-23/
LOCATION:Abundant Life Community Church\, 10795 Alta Street\, Grass Valley\, CA\, 95945\, United States
ATTACH;FMTTYPE=image/png:https://alcconline.org/wp-content/uploads/2026/03/Kingdom-.png
ORGANIZER;CN="ALCC Admin":MAILTO:office@alcconline.org
END:VEVENT
BEGIN:VEVENT
DTSTART;TZID=America/Los_Angeles:20270723T190000
DTEND;TZID=America/Los_Angeles:20270723T203000
DTSTAMP:20260425T091612
CREATED:20260309T165518Z
LAST-MODIFIED:20260309T165518Z
UID:6108-1816369200-1816374600@alcconline.org
SUMMARY:Youth Group
DESCRIPTION:Friday Nights 7:00 – 8:30 PM \nGrades 6 – 12
URL:https://alcconline.org/event/youth-group/2027-07-23/
LOCATION:Abundant Life Community Church\, 10795 Alta Street\, Grass Valley\, CA\, 95945\, United States
ATTACH;FMTTYPE=image/jpeg:https://alcconline.org/wp-content/uploads/2026/03/youth.jpg
ORGANIZER;CN="ALCC Admin":MAILTO:office@alcconline.org
END:VEVENT
BEGIN:VEVENT
DTSTART;TZID=America/Los_Angeles:20270725T100000
DTEND;TZID=America/Los_Angeles:20270725T120000
DTSTAMP:20260425T091612
CREATED:20200827T002832Z
LAST-MODIFIED:20200827T002832Z
UID:5607-1816509600-1816516800@alcconline.org
SUMMARY:Sunday Service 10:00 AM
DESCRIPTION:
URL:https://alcconline.org/event/sunday-service-845-a-m/2027-07-25/
LOCATION:Abundant Life Community Church\, 10795 Alta Street\, Grass Valley\, CA\, 95945\, United States
ATTACH;FMTTYPE=image/jpeg:https://alcconline.org/wp-content/uploads/2020/08/20190816_173221820_iOS.jpg
ORGANIZER;CN="ALCC Admin":MAILTO:office@alcconline.org
END:VEVENT
BEGIN:VEVENT
DTSTART;TZID=America/Los_Angeles:20270730T173000
DTEND;TZID=America/Los_Angeles:20270730T190000
DTSTAMP:20260425T091612
CREATED:20260309T165331Z
LAST-MODIFIED:20260309T165331Z
UID:6167-1816968600-1816974000@alcconline.org
SUMMARY:Kingdom Kids
DESCRIPTION:Friday Nights 5:30 – 7:00 PM \nGrades K- 5th
URL:https://alcconline.org/event/kingdom-kids/2027-07-30/
LOCATION:Abundant Life Community Church\, 10795 Alta Street\, Grass Valley\, CA\, 95945\, United States
ATTACH;FMTTYPE=image/png:https://alcconline.org/wp-content/uploads/2026/03/Kingdom-.png
ORGANIZER;CN="ALCC Admin":MAILTO:office@alcconline.org
END:VEVENT
BEGIN:VEVENT
DTSTART;TZID=America/Los_Angeles:20270730T190000
DTEND;TZID=America/Los_Angeles:20270730T203000
DTSTAMP:20260425T091612
CREATED:20260309T165518Z
LAST-MODIFIED:20260309T165518Z
UID:6109-1816974000-1816979400@alcconline.org
SUMMARY:Youth Group
DESCRIPTION:Friday Nights 7:00 – 8:30 PM \nGrades 6 – 12
URL:https://alcconline.org/event/youth-group/2027-07-30/
LOCATION:Abundant Life Community Church\, 10795 Alta Street\, Grass Valley\, CA\, 95945\, United States
ATTACH;FMTTYPE=image/jpeg:https://alcconline.org/wp-content/uploads/2026/03/youth.jpg
ORGANIZER;CN="ALCC Admin":MAILTO:office@alcconline.org
END:VEVENT
BEGIN:VEVENT
DTSTART;TZID=America/Los_Angeles:20270801T100000
DTEND;TZID=America/Los_Angeles:20270801T120000
DTSTAMP:20260425T091612
CREATED:20200827T002832Z
LAST-MODIFIED:20200827T002832Z
UID:5616-1817114400-1817121600@alcconline.org
SUMMARY:Sunday Service 10:00 AM
DESCRIPTION:
URL:https://alcconline.org/event/sunday-service-845-a-m/2027-08-01/
LOCATION:Abundant Life Community Church\, 10795 Alta Street\, Grass Valley\, CA\, 95945\, United States
ATTACH;FMTTYPE=image/jpeg:https://alcconline.org/wp-content/uploads/2020/08/20190816_173221820_iOS.jpg
ORGANIZER;CN="ALCC Admin":MAILTO:office@alcconline.org
END:VEVENT
BEGIN:VEVENT
DTSTART;TZID=UTC:20270805T133000
DTEND;TZID=UTC:20270805T143000
DTSTAMP:20260425T091612
CREATED:20240213T025044Z
LAST-MODIFIED:20240213T025044Z
UID:5628-1817472600-1817476200@alcconline.org
SUMMARY:Nursing Home Visit
DESCRIPTION:On the first Thursday of each month at 1:30 PM\, we visit Golden Empire Convalescent and sing songs\, share communion\, and love on the residents there. We’d love to have you join us!
URL:https://alcconline.org/event/nursing-home-visit/2027-08-05/
LOCATION:Abundant Life Community Church\, 10795 Alta Street\, Grass Valley\, CA\, 95945\, United States
CATEGORIES:Outreach
ATTACH;FMTTYPE=image/jpeg:https://alcconline.org/wp-content/uploads/2024/02/psalm-100-vs-1-2.jpg
ORGANIZER;CN="ALCC Admin":MAILTO:office@alcconline.org
END:VEVENT
BEGIN:VEVENT
DTSTART;TZID=America/Los_Angeles:20270806T173000
DTEND;TZID=America/Los_Angeles:20270806T190000
DTSTAMP:20260425T091612
CREATED:20260309T165331Z
LAST-MODIFIED:20260309T165331Z
UID:6168-1817573400-1817578800@alcconline.org
SUMMARY:Kingdom Kids
DESCRIPTION:Friday Nights 5:30 – 7:00 PM \nGrades K- 5th
URL:https://alcconline.org/event/kingdom-kids/2027-08-06/
LOCATION:Abundant Life Community Church\, 10795 Alta Street\, Grass Valley\, CA\, 95945\, United States
ATTACH;FMTTYPE=image/png:https://alcconline.org/wp-content/uploads/2026/03/Kingdom-.png
ORGANIZER;CN="ALCC Admin":MAILTO:office@alcconline.org
END:VEVENT
BEGIN:VEVENT
DTSTART;TZID=America/Los_Angeles:20270806T190000
DTEND;TZID=America/Los_Angeles:20270806T203000
DTSTAMP:20260425T091612
CREATED:20260309T165518Z
LAST-MODIFIED:20260309T165518Z
UID:6110-1817578800-1817584200@alcconline.org
SUMMARY:Youth Group
DESCRIPTION:Friday Nights 7:00 – 8:30 PM \nGrades 6 – 12
URL:https://alcconline.org/event/youth-group/2027-08-06/
LOCATION:Abundant Life Community Church\, 10795 Alta Street\, Grass Valley\, CA\, 95945\, United States
ATTACH;FMTTYPE=image/jpeg:https://alcconline.org/wp-content/uploads/2026/03/youth.jpg
ORGANIZER;CN="ALCC Admin":MAILTO:office@alcconline.org
END:VEVENT
BEGIN:VEVENT
DTSTART;TZID=America/Los_Angeles:20270808T100000
DTEND;TZID=America/Los_Angeles:20270808T120000
DTSTAMP:20260425T091612
CREATED:20200827T002832Z
LAST-MODIFIED:20200827T002832Z
UID:5636-1817719200-1817726400@alcconline.org
SUMMARY:Sunday Service 10:00 AM
DESCRIPTION:
URL:https://alcconline.org/event/sunday-service-845-a-m/2027-08-08/
LOCATION:Abundant Life Community Church\, 10795 Alta Street\, Grass Valley\, CA\, 95945\, United States
ATTACH;FMTTYPE=image/jpeg:https://alcconline.org/wp-content/uploads/2020/08/20190816_173221820_iOS.jpg
ORGANIZER;CN="ALCC Admin":MAILTO:office@alcconline.org
END:VEVENT
BEGIN:VEVENT
DTSTART;TZID=America/Los_Angeles:20270813T173000
DTEND;TZID=America/Los_Angeles:20270813T190000
DTSTAMP:20260425T091612
CREATED:20260309T165331Z
LAST-MODIFIED:20260309T165331Z
UID:6169-1818178200-1818183600@alcconline.org
SUMMARY:Kingdom Kids
DESCRIPTION:Friday Nights 5:30 – 7:00 PM \nGrades K- 5th
URL:https://alcconline.org/event/kingdom-kids/2027-08-13/
LOCATION:Abundant Life Community Church\, 10795 Alta Street\, Grass Valley\, CA\, 95945\, United States
ATTACH;FMTTYPE=image/png:https://alcconline.org/wp-content/uploads/2026/03/Kingdom-.png
ORGANIZER;CN="ALCC Admin":MAILTO:office@alcconline.org
END:VEVENT
BEGIN:VEVENT
DTSTART;TZID=America/Los_Angeles:20270813T190000
DTEND;TZID=America/Los_Angeles:20270813T203000
DTSTAMP:20260425T091612
CREATED:20260309T165518Z
LAST-MODIFIED:20260309T165518Z
UID:6111-1818183600-1818189000@alcconline.org
SUMMARY:Youth Group
DESCRIPTION:Friday Nights 7:00 – 8:30 PM \nGrades 6 – 12
URL:https://alcconline.org/event/youth-group/2027-08-13/
LOCATION:Abundant Life Community Church\, 10795 Alta Street\, Grass Valley\, CA\, 95945\, United States
ATTACH;FMTTYPE=image/jpeg:https://alcconline.org/wp-content/uploads/2026/03/youth.jpg
ORGANIZER;CN="ALCC Admin":MAILTO:office@alcconline.org
END:VEVENT
BEGIN:VEVENT
DTSTART;TZID=America/Los_Angeles:20270815T100000
DTEND;TZID=America/Los_Angeles:20270815T120000
DTSTAMP:20260425T091612
CREATED:20200827T002832Z
LAST-MODIFIED:20200827T002832Z
UID:5649-1818324000-1818331200@alcconline.org
SUMMARY:Sunday Service 10:00 AM
DESCRIPTION:
URL:https://alcconline.org/event/sunday-service-845-a-m/2027-08-15/
LOCATION:Abundant Life Community Church\, 10795 Alta Street\, Grass Valley\, CA\, 95945\, United States
ATTACH;FMTTYPE=image/jpeg:https://alcconline.org/wp-content/uploads/2020/08/20190816_173221820_iOS.jpg
ORGANIZER;CN="ALCC Admin":MAILTO:office@alcconline.org
END:VEVENT
BEGIN:VEVENT
DTSTART;TZID=America/Los_Angeles:20270820T173000
DTEND;TZID=America/Los_Angeles:20270820T190000
DTSTAMP:20260425T091612
CREATED:20260309T165331Z
LAST-MODIFIED:20260309T165331Z
UID:6170-1818783000-1818788400@alcconline.org
SUMMARY:Kingdom Kids
DESCRIPTION:Friday Nights 5:30 – 7:00 PM \nGrades K- 5th
URL:https://alcconline.org/event/kingdom-kids/2027-08-20/
LOCATION:Abundant Life Community Church\, 10795 Alta Street\, Grass Valley\, CA\, 95945\, United States
ATTACH;FMTTYPE=image/png:https://alcconline.org/wp-content/uploads/2026/03/Kingdom-.png
ORGANIZER;CN="ALCC Admin":MAILTO:office@alcconline.org
END:VEVENT
BEGIN:VEVENT
DTSTART;TZID=America/Los_Angeles:20270820T190000
DTEND;TZID=America/Los_Angeles:20270820T203000
DTSTAMP:20260425T091612
CREATED:20260309T165518Z
LAST-MODIFIED:20260309T165518Z
UID:6112-1818788400-1818793800@alcconline.org
SUMMARY:Youth Group
DESCRIPTION:Friday Nights 7:00 – 8:30 PM \nGrades 6 – 12
URL:https://alcconline.org/event/youth-group/2027-08-20/
LOCATION:Abundant Life Community Church\, 10795 Alta Street\, Grass Valley\, CA\, 95945\, United States
ATTACH;FMTTYPE=image/jpeg:https://alcconline.org/wp-content/uploads/2026/03/youth.jpg
ORGANIZER;CN="ALCC Admin":MAILTO:office@alcconline.org
END:VEVENT
BEGIN:VEVENT
DTSTART;TZID=America/Los_Angeles:20270822T100000
DTEND;TZID=America/Los_Angeles:20270822T120000
DTSTAMP:20260425T091612
CREATED:20200827T002832Z
LAST-MODIFIED:20200827T002832Z
UID:5660-1818928800-1818936000@alcconline.org
SUMMARY:Sunday Service 10:00 AM
DESCRIPTION:
URL:https://alcconline.org/event/sunday-service-845-a-m/2027-08-22/
LOCATION:Abundant Life Community Church\, 10795 Alta Street\, Grass Valley\, CA\, 95945\, United States
ATTACH;FMTTYPE=image/jpeg:https://alcconline.org/wp-content/uploads/2020/08/20190816_173221820_iOS.jpg
ORGANIZER;CN="ALCC Admin":MAILTO:office@alcconline.org
END:VEVENT
BEGIN:VEVENT
DTSTART;TZID=America/Los_Angeles:20270827T173000
DTEND;TZID=America/Los_Angeles:20270827T190000
DTSTAMP:20260425T091612
CREATED:20260309T165331Z
LAST-MODIFIED:20260309T165331Z
UID:6171-1819387800-1819393200@alcconline.org
SUMMARY:Kingdom Kids
DESCRIPTION:Friday Nights 5:30 – 7:00 PM \nGrades K- 5th
URL:https://alcconline.org/event/kingdom-kids/2027-08-27/
LOCATION:Abundant Life Community Church\, 10795 Alta Street\, Grass Valley\, CA\, 95945\, United States
ATTACH;FMTTYPE=image/png:https://alcconline.org/wp-content/uploads/2026/03/Kingdom-.png
ORGANIZER;CN="ALCC Admin":MAILTO:office@alcconline.org
END:VEVENT
BEGIN:VEVENT
DTSTART;TZID=America/Los_Angeles:20270827T190000
DTEND;TZID=America/Los_Angeles:20270827T203000
DTSTAMP:20260425T091612
CREATED:20260309T165518Z
LAST-MODIFIED:20260309T165518Z
UID:6113-1819393200-1819398600@alcconline.org
SUMMARY:Youth Group
DESCRIPTION:Friday Nights 7:00 – 8:30 PM \nGrades 6 – 12
URL:https://alcconline.org/event/youth-group/2027-08-27/
LOCATION:Abundant Life Community Church\, 10795 Alta Street\, Grass Valley\, CA\, 95945\, United States
ATTACH;FMTTYPE=image/jpeg:https://alcconline.org/wp-content/uploads/2026/03/youth.jpg
ORGANIZER;CN="ALCC Admin":MAILTO:office@alcconline.org
END:VEVENT
BEGIN:VEVENT
DTSTART;TZID=America/Los_Angeles:20270829T100000
DTEND;TZID=America/Los_Angeles:20270829T120000
DTSTAMP:20260425T091612
CREATED:20200827T002832Z
LAST-MODIFIED:20200827T002832Z
UID:5672-1819533600-1819540800@alcconline.org
SUMMARY:Sunday Service 10:00 AM
DESCRIPTION:
URL:https://alcconline.org/event/sunday-service-845-a-m/2027-08-29/
LOCATION:Abundant Life Community Church\, 10795 Alta Street\, Grass Valley\, CA\, 95945\, United States
ATTACH;FMTTYPE=image/jpeg:https://alcconline.org/wp-content/uploads/2020/08/20190816_173221820_iOS.jpg
ORGANIZER;CN="ALCC Admin":MAILTO:office@alcconline.org
END:VEVENT
BEGIN:VEVENT
DTSTART;TZID=UTC:20270902T133000
DTEND;TZID=UTC:20270902T143000
DTSTAMP:20260425T091612
CREATED:20240213T025044Z
LAST-MODIFIED:20240213T025044Z
UID:5677-1819891800-1819895400@alcconline.org
SUMMARY:Nursing Home Visit
DESCRIPTION:On the first Thursday of each month at 1:30 PM\, we visit Golden Empire Convalescent and sing songs\, share communion\, and love on the residents there. We’d love to have you join us!
URL:https://alcconline.org/event/nursing-home-visit/2027-09-02/
LOCATION:Abundant Life Community Church\, 10795 Alta Street\, Grass Valley\, CA\, 95945\, United States
CATEGORIES:Outreach
ATTACH;FMTTYPE=image/jpeg:https://alcconline.org/wp-content/uploads/2024/02/psalm-100-vs-1-2.jpg
ORGANIZER;CN="ALCC Admin":MAILTO:office@alcconline.org
END:VEVENT
BEGIN:VEVENT
DTSTART;TZID=America/Los_Angeles:20270903T173000
DTEND;TZID=America/Los_Angeles:20270903T190000
DTSTAMP:20260425T091612
CREATED:20260309T165331Z
LAST-MODIFIED:20260309T165331Z
UID:6172-1819992600-1819998000@alcconline.org
SUMMARY:Kingdom Kids
DESCRIPTION:Friday Nights 5:30 – 7:00 PM \nGrades K- 5th
URL:https://alcconline.org/event/kingdom-kids/2027-09-03/
LOCATION:Abundant Life Community Church\, 10795 Alta Street\, Grass Valley\, CA\, 95945\, United States
ATTACH;FMTTYPE=image/png:https://alcconline.org/wp-content/uploads/2026/03/Kingdom-.png
ORGANIZER;CN="ALCC Admin":MAILTO:office@alcconline.org
END:VEVENT
END:VCALENDAR