BEGIN:VCALENDAR
VERSION:2.0
PRODID:-//Abundant Life Community Church - ECPv6.15.20//NONSGML v1.0//EN
CALSCALE:GREGORIAN
METHOD:PUBLISH
X-ORIGINAL-URL:https://alcconline.org
X-WR-CALDESC:Events for Abundant Life Community Church
REFRESH-INTERVAL;VALUE=DURATION:PT1H
X-Robots-Tag:noindex
X-PUBLISHED-TTL:PT1H
BEGIN:VTIMEZONE
TZID:America/Los_Angeles
BEGIN:DAYLIGHT
TZOFFSETFROM:-0800
TZOFFSETTO:-0700
TZNAME:PDT
DTSTART:20260308T100000
END:DAYLIGHT
BEGIN:STANDARD
TZOFFSETFROM:-0700
TZOFFSETTO:-0800
TZNAME:PST
DTSTART:20261101T090000
END:STANDARD
BEGIN:DAYLIGHT
TZOFFSETFROM:-0800
TZOFFSETTO:-0700
TZNAME:PDT
DTSTART:20270314T100000
END:DAYLIGHT
BEGIN:STANDARD
TZOFFSETFROM:-0700
TZOFFSETTO:-0800
TZNAME:PST
DTSTART:20271107T090000
END:STANDARD
BEGIN:DAYLIGHT
TZOFFSETFROM:-0800
TZOFFSETTO:-0700
TZNAME:PDT
DTSTART:20280312T100000
END:DAYLIGHT
BEGIN:STANDARD
TZOFFSETFROM:-0700
TZOFFSETTO:-0800
TZNAME:PST
DTSTART:20281105T090000
END:STANDARD
END:VTIMEZONE
BEGIN:VTIMEZONE
TZID:UTC
BEGIN:STANDARD
TZOFFSETFROM:+0000
TZOFFSETTO:+0000
TZNAME:UTC
DTSTART:20260101T000000
END:STANDARD
END:VTIMEZONE
BEGIN:VEVENT
DTSTART;TZID=America/Los_Angeles:20270924T190000
DTEND;TZID=America/Los_Angeles:20270924T203000
DTSTAMP:20260425T042719
CREATED:20260309T165518Z
LAST-MODIFIED:20260309T165518Z
UID:6117-1821812400-1821817800@alcconline.org
SUMMARY:Youth Group
DESCRIPTION:Friday Nights 7:00 – 8:30 PM \nGrades 6 – 12
URL:https://alcconline.org/event/youth-group/2027-09-24/
LOCATION:Abundant Life Community Church\, 10795 Alta Street\, Grass Valley\, CA\, 95945\, United States
ATTACH;FMTTYPE=image/jpeg:https://alcconline.org/wp-content/uploads/2026/03/youth.jpg
ORGANIZER;CN="ALCC Admin":MAILTO:office@alcconline.org
END:VEVENT
BEGIN:VEVENT
DTSTART;TZID=America/Los_Angeles:20270926T100000
DTEND;TZID=America/Los_Angeles:20270926T120000
DTSTAMP:20260425T042719
CREATED:20200827T002832Z
LAST-MODIFIED:20200827T002832Z
UID:5711-1821952800-1821960000@alcconline.org
SUMMARY:Sunday Service 10:00 AM
DESCRIPTION:
URL:https://alcconline.org/event/sunday-service-845-a-m/2027-09-26/
LOCATION:Abundant Life Community Church\, 10795 Alta Street\, Grass Valley\, CA\, 95945\, United States
ATTACH;FMTTYPE=image/jpeg:https://alcconline.org/wp-content/uploads/2020/08/20190816_173221820_iOS.jpg
ORGANIZER;CN="ALCC Admin":MAILTO:office@alcconline.org
END:VEVENT
BEGIN:VEVENT
DTSTART;TZID=America/Los_Angeles:20271001T173000
DTEND;TZID=America/Los_Angeles:20271001T190000
DTSTAMP:20260425T042719
CREATED:20260309T165331Z
LAST-MODIFIED:20260309T165331Z
UID:6176-1822411800-1822417200@alcconline.org
SUMMARY:Kingdom Kids
DESCRIPTION:Friday Nights 5:30 – 7:00 PM \nGrades K- 5th
URL:https://alcconline.org/event/kingdom-kids/2027-10-01/
LOCATION:Abundant Life Community Church\, 10795 Alta Street\, Grass Valley\, CA\, 95945\, United States
ATTACH;FMTTYPE=image/png:https://alcconline.org/wp-content/uploads/2026/03/Kingdom-.png
ORGANIZER;CN="ALCC Admin":MAILTO:office@alcconline.org
END:VEVENT
BEGIN:VEVENT
DTSTART;TZID=America/Los_Angeles:20271001T190000
DTEND;TZID=America/Los_Angeles:20271001T203000
DTSTAMP:20260425T042719
CREATED:20260309T165518Z
LAST-MODIFIED:20260309T165518Z
UID:6118-1822417200-1822422600@alcconline.org
SUMMARY:Youth Group
DESCRIPTION:Friday Nights 7:00 – 8:30 PM \nGrades 6 – 12
URL:https://alcconline.org/event/youth-group/2027-10-01/
LOCATION:Abundant Life Community Church\, 10795 Alta Street\, Grass Valley\, CA\, 95945\, United States
ATTACH;FMTTYPE=image/jpeg:https://alcconline.org/wp-content/uploads/2026/03/youth.jpg
ORGANIZER;CN="ALCC Admin":MAILTO:office@alcconline.org
END:VEVENT
BEGIN:VEVENT
DTSTART;TZID=America/Los_Angeles:20271003T100000
DTEND;TZID=America/Los_Angeles:20271003T120000
DTSTAMP:20260425T042719
CREATED:20200827T002832Z
LAST-MODIFIED:20200827T002832Z
UID:5720-1822557600-1822564800@alcconline.org
SUMMARY:Sunday Service 10:00 AM
DESCRIPTION:
URL:https://alcconline.org/event/sunday-service-845-a-m/2027-10-03/
LOCATION:Abundant Life Community Church\, 10795 Alta Street\, Grass Valley\, CA\, 95945\, United States
ATTACH;FMTTYPE=image/jpeg:https://alcconline.org/wp-content/uploads/2020/08/20190816_173221820_iOS.jpg
ORGANIZER;CN="ALCC Admin":MAILTO:office@alcconline.org
END:VEVENT
BEGIN:VEVENT
DTSTART;TZID=UTC:20271007T133000
DTEND;TZID=UTC:20271007T143000
DTSTAMP:20260425T042719
CREATED:20240213T025044Z
LAST-MODIFIED:20240213T025044Z
UID:5726-1822915800-1822919400@alcconline.org
SUMMARY:Nursing Home Visit
DESCRIPTION:On the first Thursday of each month at 1:30 PM\, we visit Golden Empire Convalescent and sing songs\, share communion\, and love on the residents there. We’d love to have you join us!
URL:https://alcconline.org/event/nursing-home-visit/2027-10-07/
LOCATION:Abundant Life Community Church\, 10795 Alta Street\, Grass Valley\, CA\, 95945\, United States
CATEGORIES:Outreach
ATTACH;FMTTYPE=image/jpeg:https://alcconline.org/wp-content/uploads/2024/02/psalm-100-vs-1-2.jpg
ORGANIZER;CN="ALCC Admin":MAILTO:office@alcconline.org
END:VEVENT
BEGIN:VEVENT
DTSTART;TZID=America/Los_Angeles:20271008T173000
DTEND;TZID=America/Los_Angeles:20271008T190000
DTSTAMP:20260425T042719
CREATED:20260309T165331Z
LAST-MODIFIED:20260309T165331Z
UID:6177-1823016600-1823022000@alcconline.org
SUMMARY:Kingdom Kids
DESCRIPTION:Friday Nights 5:30 – 7:00 PM \nGrades K- 5th
URL:https://alcconline.org/event/kingdom-kids/2027-10-08/
LOCATION:Abundant Life Community Church\, 10795 Alta Street\, Grass Valley\, CA\, 95945\, United States
ATTACH;FMTTYPE=image/png:https://alcconline.org/wp-content/uploads/2026/03/Kingdom-.png
ORGANIZER;CN="ALCC Admin":MAILTO:office@alcconline.org
END:VEVENT
BEGIN:VEVENT
DTSTART;TZID=America/Los_Angeles:20271008T190000
DTEND;TZID=America/Los_Angeles:20271008T203000
DTSTAMP:20260425T042719
CREATED:20260309T165518Z
LAST-MODIFIED:20260309T165518Z
UID:6119-1823022000-1823027400@alcconline.org
SUMMARY:Youth Group
DESCRIPTION:Friday Nights 7:00 – 8:30 PM \nGrades 6 – 12
URL:https://alcconline.org/event/youth-group/2027-10-08/
LOCATION:Abundant Life Community Church\, 10795 Alta Street\, Grass Valley\, CA\, 95945\, United States
ATTACH;FMTTYPE=image/jpeg:https://alcconline.org/wp-content/uploads/2026/03/youth.jpg
ORGANIZER;CN="ALCC Admin":MAILTO:office@alcconline.org
END:VEVENT
BEGIN:VEVENT
DTSTART;TZID=America/Los_Angeles:20271010T100000
DTEND;TZID=America/Los_Angeles:20271010T120000
DTSTAMP:20260425T042719
CREATED:20200827T002832Z
LAST-MODIFIED:20200827T002832Z
UID:5739-1823162400-1823169600@alcconline.org
SUMMARY:Sunday Service 10:00 AM
DESCRIPTION:
URL:https://alcconline.org/event/sunday-service-845-a-m/2027-10-10/
LOCATION:Abundant Life Community Church\, 10795 Alta Street\, Grass Valley\, CA\, 95945\, United States
ATTACH;FMTTYPE=image/jpeg:https://alcconline.org/wp-content/uploads/2020/08/20190816_173221820_iOS.jpg
ORGANIZER;CN="ALCC Admin":MAILTO:office@alcconline.org
END:VEVENT
BEGIN:VEVENT
DTSTART;TZID=America/Los_Angeles:20271015T173000
DTEND;TZID=America/Los_Angeles:20271015T190000
DTSTAMP:20260425T042719
CREATED:20260309T165331Z
LAST-MODIFIED:20260309T165331Z
UID:6178-1823621400-1823626800@alcconline.org
SUMMARY:Kingdom Kids
DESCRIPTION:Friday Nights 5:30 – 7:00 PM \nGrades K- 5th
URL:https://alcconline.org/event/kingdom-kids/2027-10-15/
LOCATION:Abundant Life Community Church\, 10795 Alta Street\, Grass Valley\, CA\, 95945\, United States
ATTACH;FMTTYPE=image/png:https://alcconline.org/wp-content/uploads/2026/03/Kingdom-.png
ORGANIZER;CN="ALCC Admin":MAILTO:office@alcconline.org
END:VEVENT
BEGIN:VEVENT
DTSTART;TZID=America/Los_Angeles:20271015T190000
DTEND;TZID=America/Los_Angeles:20271015T203000
DTSTAMP:20260425T042719
CREATED:20260309T165518Z
LAST-MODIFIED:20260309T165518Z
UID:6120-1823626800-1823632200@alcconline.org
SUMMARY:Youth Group
DESCRIPTION:Friday Nights 7:00 – 8:30 PM \nGrades 6 – 12
URL:https://alcconline.org/event/youth-group/2027-10-15/
LOCATION:Abundant Life Community Church\, 10795 Alta Street\, Grass Valley\, CA\, 95945\, United States
ATTACH;FMTTYPE=image/jpeg:https://alcconline.org/wp-content/uploads/2026/03/youth.jpg
ORGANIZER;CN="ALCC Admin":MAILTO:office@alcconline.org
END:VEVENT
BEGIN:VEVENT
DTSTART;TZID=America/Los_Angeles:20271017T100000
DTEND;TZID=America/Los_Angeles:20271017T120000
DTSTAMP:20260425T042719
CREATED:20200827T002832Z
LAST-MODIFIED:20200827T002832Z
UID:5747-1823767200-1823774400@alcconline.org
SUMMARY:Sunday Service 10:00 AM
DESCRIPTION:
URL:https://alcconline.org/event/sunday-service-845-a-m/2027-10-17/
LOCATION:Abundant Life Community Church\, 10795 Alta Street\, Grass Valley\, CA\, 95945\, United States
ATTACH;FMTTYPE=image/jpeg:https://alcconline.org/wp-content/uploads/2020/08/20190816_173221820_iOS.jpg
ORGANIZER;CN="ALCC Admin":MAILTO:office@alcconline.org
END:VEVENT
BEGIN:VEVENT
DTSTART;TZID=America/Los_Angeles:20271022T173000
DTEND;TZID=America/Los_Angeles:20271022T190000
DTSTAMP:20260425T042719
CREATED:20260309T165331Z
LAST-MODIFIED:20260309T165331Z
UID:6179-1824226200-1824231600@alcconline.org
SUMMARY:Kingdom Kids
DESCRIPTION:Friday Nights 5:30 – 7:00 PM \nGrades K- 5th
URL:https://alcconline.org/event/kingdom-kids/2027-10-22/
LOCATION:Abundant Life Community Church\, 10795 Alta Street\, Grass Valley\, CA\, 95945\, United States
ATTACH;FMTTYPE=image/png:https://alcconline.org/wp-content/uploads/2026/03/Kingdom-.png
ORGANIZER;CN="ALCC Admin":MAILTO:office@alcconline.org
END:VEVENT
BEGIN:VEVENT
DTSTART;TZID=America/Los_Angeles:20271022T190000
DTEND;TZID=America/Los_Angeles:20271022T203000
DTSTAMP:20260425T042719
CREATED:20260309T165518Z
LAST-MODIFIED:20260309T165518Z
UID:6121-1824231600-1824237000@alcconline.org
SUMMARY:Youth Group
DESCRIPTION:Friday Nights 7:00 – 8:30 PM \nGrades 6 – 12
URL:https://alcconline.org/event/youth-group/2027-10-22/
LOCATION:Abundant Life Community Church\, 10795 Alta Street\, Grass Valley\, CA\, 95945\, United States
ATTACH;FMTTYPE=image/jpeg:https://alcconline.org/wp-content/uploads/2026/03/youth.jpg
ORGANIZER;CN="ALCC Admin":MAILTO:office@alcconline.org
END:VEVENT
BEGIN:VEVENT
DTSTART;TZID=America/Los_Angeles:20271024T100000
DTEND;TZID=America/Los_Angeles:20271024T120000
DTSTAMP:20260425T042719
CREATED:20200827T002832Z
LAST-MODIFIED:20200827T002832Z
UID:5748-1824372000-1824379200@alcconline.org
SUMMARY:Sunday Service 10:00 AM
DESCRIPTION:
URL:https://alcconline.org/event/sunday-service-845-a-m/2027-10-24/
LOCATION:Abundant Life Community Church\, 10795 Alta Street\, Grass Valley\, CA\, 95945\, United States
ATTACH;FMTTYPE=image/jpeg:https://alcconline.org/wp-content/uploads/2020/08/20190816_173221820_iOS.jpg
ORGANIZER;CN="ALCC Admin":MAILTO:office@alcconline.org
END:VEVENT
BEGIN:VEVENT
DTSTART;TZID=America/Los_Angeles:20271029T173000
DTEND;TZID=America/Los_Angeles:20271029T190000
DTSTAMP:20260425T042719
CREATED:20260309T165331Z
LAST-MODIFIED:20260309T165331Z
UID:6180-1824831000-1824836400@alcconline.org
SUMMARY:Kingdom Kids
DESCRIPTION:Friday Nights 5:30 – 7:00 PM \nGrades K- 5th
URL:https://alcconline.org/event/kingdom-kids/2027-10-29/
LOCATION:Abundant Life Community Church\, 10795 Alta Street\, Grass Valley\, CA\, 95945\, United States
ATTACH;FMTTYPE=image/png:https://alcconline.org/wp-content/uploads/2026/03/Kingdom-.png
ORGANIZER;CN="ALCC Admin":MAILTO:office@alcconline.org
END:VEVENT
BEGIN:VEVENT
DTSTART;TZID=America/Los_Angeles:20271029T190000
DTEND;TZID=America/Los_Angeles:20271029T203000
DTSTAMP:20260425T042719
CREATED:20260309T165518Z
LAST-MODIFIED:20260309T165518Z
UID:6122-1824836400-1824841800@alcconline.org
SUMMARY:Youth Group
DESCRIPTION:Friday Nights 7:00 – 8:30 PM \nGrades 6 – 12
URL:https://alcconline.org/event/youth-group/2027-10-29/
LOCATION:Abundant Life Community Church\, 10795 Alta Street\, Grass Valley\, CA\, 95945\, United States
ATTACH;FMTTYPE=image/jpeg:https://alcconline.org/wp-content/uploads/2026/03/youth.jpg
ORGANIZER;CN="ALCC Admin":MAILTO:office@alcconline.org
END:VEVENT
BEGIN:VEVENT
DTSTART;TZID=America/Los_Angeles:20271031T100000
DTEND;TZID=America/Los_Angeles:20271031T120000
DTSTAMP:20260425T042719
CREATED:20200827T002832Z
LAST-MODIFIED:20200827T002832Z
UID:5760-1824976800-1824984000@alcconline.org
SUMMARY:Sunday Service 10:00 AM
DESCRIPTION:
URL:https://alcconline.org/event/sunday-service-845-a-m/2027-10-31/
LOCATION:Abundant Life Community Church\, 10795 Alta Street\, Grass Valley\, CA\, 95945\, United States
ATTACH;FMTTYPE=image/jpeg:https://alcconline.org/wp-content/uploads/2020/08/20190816_173221820_iOS.jpg
ORGANIZER;CN="ALCC Admin":MAILTO:office@alcconline.org
END:VEVENT
BEGIN:VEVENT
DTSTART;TZID=UTC:20271104T133000
DTEND;TZID=UTC:20271104T143000
DTSTAMP:20260425T042719
CREATED:20240213T025044Z
LAST-MODIFIED:20240213T025044Z
UID:5767-1825335000-1825338600@alcconline.org
SUMMARY:Nursing Home Visit
DESCRIPTION:On the first Thursday of each month at 1:30 PM\, we visit Golden Empire Convalescent and sing songs\, share communion\, and love on the residents there. We’d love to have you join us!
URL:https://alcconline.org/event/nursing-home-visit/2027-11-04/
LOCATION:Abundant Life Community Church\, 10795 Alta Street\, Grass Valley\, CA\, 95945\, United States
CATEGORIES:Outreach
ATTACH;FMTTYPE=image/jpeg:https://alcconline.org/wp-content/uploads/2024/02/psalm-100-vs-1-2.jpg
ORGANIZER;CN="ALCC Admin":MAILTO:office@alcconline.org
END:VEVENT
BEGIN:VEVENT
DTSTART;TZID=America/Los_Angeles:20271105T173000
DTEND;TZID=America/Los_Angeles:20271105T190000
DTSTAMP:20260425T042719
CREATED:20260309T165331Z
LAST-MODIFIED:20260309T165331Z
UID:6181-1825435800-1825441200@alcconline.org
SUMMARY:Kingdom Kids
DESCRIPTION:Friday Nights 5:30 – 7:00 PM \nGrades K- 5th
URL:https://alcconline.org/event/kingdom-kids/2027-11-05/
LOCATION:Abundant Life Community Church\, 10795 Alta Street\, Grass Valley\, CA\, 95945\, United States
ATTACH;FMTTYPE=image/png:https://alcconline.org/wp-content/uploads/2026/03/Kingdom-.png
ORGANIZER;CN="ALCC Admin":MAILTO:office@alcconline.org
END:VEVENT
BEGIN:VEVENT
DTSTART;TZID=America/Los_Angeles:20271105T190000
DTEND;TZID=America/Los_Angeles:20271105T203000
DTSTAMP:20260425T042719
CREATED:20260309T165518Z
LAST-MODIFIED:20260309T165518Z
UID:6123-1825441200-1825446600@alcconline.org
SUMMARY:Youth Group
DESCRIPTION:Friday Nights 7:00 – 8:30 PM \nGrades 6 – 12
URL:https://alcconline.org/event/youth-group/2027-11-05/
LOCATION:Abundant Life Community Church\, 10795 Alta Street\, Grass Valley\, CA\, 95945\, United States
ATTACH;FMTTYPE=image/jpeg:https://alcconline.org/wp-content/uploads/2026/03/youth.jpg
ORGANIZER;CN="ALCC Admin":MAILTO:office@alcconline.org
END:VEVENT
BEGIN:VEVENT
DTSTART;TZID=America/Los_Angeles:20271107T100000
DTEND;TZID=America/Los_Angeles:20271107T120000
DTSTAMP:20260425T042719
CREATED:20200827T002832Z
LAST-MODIFIED:20200827T002832Z
UID:5773-1825581600-1825588800@alcconline.org
SUMMARY:Sunday Service 10:00 AM
DESCRIPTION:
URL:https://alcconline.org/event/sunday-service-845-a-m/2027-11-07/
LOCATION:Abundant Life Community Church\, 10795 Alta Street\, Grass Valley\, CA\, 95945\, United States
ATTACH;FMTTYPE=image/jpeg:https://alcconline.org/wp-content/uploads/2020/08/20190816_173221820_iOS.jpg
ORGANIZER;CN="ALCC Admin":MAILTO:office@alcconline.org
END:VEVENT
BEGIN:VEVENT
DTSTART;TZID=America/Los_Angeles:20271112T173000
DTEND;TZID=America/Los_Angeles:20271112T190000
DTSTAMP:20260425T042719
CREATED:20260309T165331Z
LAST-MODIFIED:20260309T165331Z
UID:6182-1826040600-1826046000@alcconline.org
SUMMARY:Kingdom Kids
DESCRIPTION:Friday Nights 5:30 – 7:00 PM \nGrades K- 5th
URL:https://alcconline.org/event/kingdom-kids/2027-11-12/
LOCATION:Abundant Life Community Church\, 10795 Alta Street\, Grass Valley\, CA\, 95945\, United States
ATTACH;FMTTYPE=image/png:https://alcconline.org/wp-content/uploads/2026/03/Kingdom-.png
ORGANIZER;CN="ALCC Admin":MAILTO:office@alcconline.org
END:VEVENT
BEGIN:VEVENT
DTSTART;TZID=America/Los_Angeles:20271112T190000
DTEND;TZID=America/Los_Angeles:20271112T203000
DTSTAMP:20260425T042719
CREATED:20260309T165518Z
LAST-MODIFIED:20260309T165518Z
UID:6124-1826046000-1826051400@alcconline.org
SUMMARY:Youth Group
DESCRIPTION:Friday Nights 7:00 – 8:30 PM \nGrades 6 – 12
URL:https://alcconline.org/event/youth-group/2027-11-12/
LOCATION:Abundant Life Community Church\, 10795 Alta Street\, Grass Valley\, CA\, 95945\, United States
ATTACH;FMTTYPE=image/jpeg:https://alcconline.org/wp-content/uploads/2026/03/youth.jpg
ORGANIZER;CN="ALCC Admin":MAILTO:office@alcconline.org
END:VEVENT
BEGIN:VEVENT
DTSTART;TZID=America/Los_Angeles:20271114T100000
DTEND;TZID=America/Los_Angeles:20271114T120000
DTSTAMP:20260425T042719
CREATED:20200827T002832Z
LAST-MODIFIED:20200827T002832Z
UID:5784-1826186400-1826193600@alcconline.org
SUMMARY:Sunday Service 10:00 AM
DESCRIPTION:
URL:https://alcconline.org/event/sunday-service-845-a-m/2027-11-14/
LOCATION:Abundant Life Community Church\, 10795 Alta Street\, Grass Valley\, CA\, 95945\, United States
ATTACH;FMTTYPE=image/jpeg:https://alcconline.org/wp-content/uploads/2020/08/20190816_173221820_iOS.jpg
ORGANIZER;CN="ALCC Admin":MAILTO:office@alcconline.org
END:VEVENT
BEGIN:VEVENT
DTSTART;TZID=America/Los_Angeles:20271119T173000
DTEND;TZID=America/Los_Angeles:20271119T190000
DTSTAMP:20260425T042719
CREATED:20260309T165331Z
LAST-MODIFIED:20260309T165331Z
UID:6183-1826645400-1826650800@alcconline.org
SUMMARY:Kingdom Kids
DESCRIPTION:Friday Nights 5:30 – 7:00 PM \nGrades K- 5th
URL:https://alcconline.org/event/kingdom-kids/2027-11-19/
LOCATION:Abundant Life Community Church\, 10795 Alta Street\, Grass Valley\, CA\, 95945\, United States
ATTACH;FMTTYPE=image/png:https://alcconline.org/wp-content/uploads/2026/03/Kingdom-.png
ORGANIZER;CN="ALCC Admin":MAILTO:office@alcconline.org
END:VEVENT
BEGIN:VEVENT
DTSTART;TZID=America/Los_Angeles:20271119T190000
DTEND;TZID=America/Los_Angeles:20271119T203000
DTSTAMP:20260425T042719
CREATED:20260309T165518Z
LAST-MODIFIED:20260309T165518Z
UID:6125-1826650800-1826656200@alcconline.org
SUMMARY:Youth Group
DESCRIPTION:Friday Nights 7:00 – 8:30 PM \nGrades 6 – 12
URL:https://alcconline.org/event/youth-group/2027-11-19/
LOCATION:Abundant Life Community Church\, 10795 Alta Street\, Grass Valley\, CA\, 95945\, United States
ATTACH;FMTTYPE=image/jpeg:https://alcconline.org/wp-content/uploads/2026/03/youth.jpg
ORGANIZER;CN="ALCC Admin":MAILTO:office@alcconline.org
END:VEVENT
BEGIN:VEVENT
DTSTART;TZID=America/Los_Angeles:20271121T100000
DTEND;TZID=America/Los_Angeles:20271121T120000
DTSTAMP:20260425T042719
CREATED:20200827T002832Z
LAST-MODIFIED:20200827T002832Z
UID:5801-1826791200-1826798400@alcconline.org
SUMMARY:Sunday Service 10:00 AM
DESCRIPTION:
URL:https://alcconline.org/event/sunday-service-845-a-m/2027-11-21/
LOCATION:Abundant Life Community Church\, 10795 Alta Street\, Grass Valley\, CA\, 95945\, United States
ATTACH;FMTTYPE=image/jpeg:https://alcconline.org/wp-content/uploads/2020/08/20190816_173221820_iOS.jpg
ORGANIZER;CN="ALCC Admin":MAILTO:office@alcconline.org
END:VEVENT
BEGIN:VEVENT
DTSTART;TZID=America/Los_Angeles:20271126T173000
DTEND;TZID=America/Los_Angeles:20271126T190000
DTSTAMP:20260425T042719
CREATED:20260309T165331Z
LAST-MODIFIED:20260309T165331Z
UID:6184-1827250200-1827255600@alcconline.org
SUMMARY:Kingdom Kids
DESCRIPTION:Friday Nights 5:30 – 7:00 PM \nGrades K- 5th
URL:https://alcconline.org/event/kingdom-kids/2027-11-26/
LOCATION:Abundant Life Community Church\, 10795 Alta Street\, Grass Valley\, CA\, 95945\, United States
ATTACH;FMTTYPE=image/png:https://alcconline.org/wp-content/uploads/2026/03/Kingdom-.png
ORGANIZER;CN="ALCC Admin":MAILTO:office@alcconline.org
END:VEVENT
BEGIN:VEVENT
DTSTART;TZID=America/Los_Angeles:20271126T190000
DTEND;TZID=America/Los_Angeles:20271126T203000
DTSTAMP:20260425T042719
CREATED:20260309T165518Z
LAST-MODIFIED:20260309T165518Z
UID:6126-1827255600-1827261000@alcconline.org
SUMMARY:Youth Group
DESCRIPTION:Friday Nights 7:00 – 8:30 PM \nGrades 6 – 12
URL:https://alcconline.org/event/youth-group/2027-11-26/
LOCATION:Abundant Life Community Church\, 10795 Alta Street\, Grass Valley\, CA\, 95945\, United States
ATTACH;FMTTYPE=image/jpeg:https://alcconline.org/wp-content/uploads/2026/03/youth.jpg
ORGANIZER;CN="ALCC Admin":MAILTO:office@alcconline.org
END:VEVENT
END:VCALENDAR