BEGIN:VCALENDAR
VERSION:2.0
PRODID:-//Abundant Life Community Church - ECPv6.15.20//NONSGML v1.0//EN
CALSCALE:GREGORIAN
METHOD:PUBLISH
X-WR-CALNAME:Abundant Life Community Church
X-ORIGINAL-URL:https://alcconline.org
X-WR-CALDESC:Events for Abundant Life Community Church
REFRESH-INTERVAL;VALUE=DURATION:PT1H
X-Robots-Tag:noindex
X-PUBLISHED-TTL:PT1H
BEGIN:VTIMEZONE
TZID:UTC
BEGIN:STANDARD
TZOFFSETFROM:+0000
TZOFFSETTO:+0000
TZNAME:UTC
DTSTART:20220101T000000
END:STANDARD
END:VTIMEZONE
BEGIN:VTIMEZONE
TZID:America/Los_Angeles
BEGIN:DAYLIGHT
TZOFFSETFROM:-0800
TZOFFSETTO:-0700
TZNAME:PDT
DTSTART:20230312T100000
END:DAYLIGHT
BEGIN:STANDARD
TZOFFSETFROM:-0700
TZOFFSETTO:-0800
TZNAME:PST
DTSTART:20231105T090000
END:STANDARD
BEGIN:DAYLIGHT
TZOFFSETFROM:-0800
TZOFFSETTO:-0700
TZNAME:PDT
DTSTART:20240310T100000
END:DAYLIGHT
BEGIN:STANDARD
TZOFFSETFROM:-0700
TZOFFSETTO:-0800
TZNAME:PST
DTSTART:20241103T090000
END:STANDARD
BEGIN:DAYLIGHT
TZOFFSETFROM:-0800
TZOFFSETTO:-0700
TZNAME:PDT
DTSTART:20250309T100000
END:DAYLIGHT
BEGIN:STANDARD
TZOFFSETFROM:-0700
TZOFFSETTO:-0800
TZNAME:PST
DTSTART:20251102T090000
END:STANDARD
END:VTIMEZONE
BEGIN:VEVENT
DTSTART;TZID=UTC:20240801T190000
DTEND;TZID=UTC:20240801T200000
DTSTAMP:20260425T042413
CREATED:20240130T035548Z
LAST-MODIFIED:20240130T035548Z
UID:4450-1722538800-1722542400@alcconline.org
SUMMARY:Worship Night
DESCRIPTION:The 1st Thursday of each month \n7:00 PM \nSing & make music with our hearts to our Savior!
URL:https://alcconline.org/event/worship-night-2/2024-08-01/
LOCATION:Abundant Life Community Church\, 10795 Alta Street\, Grass Valley\, CA\, 95945\, United States
CATEGORIES:Family
ATTACH;FMTTYPE=image/jpeg:https://alcconline.org/wp-content/uploads/2024/01/worshipnightsplash.jpg
ORGANIZER;CN="ALCC Admin":MAILTO:office@alcconline.org
END:VEVENT
BEGIN:VEVENT
DTSTART;TZID=UTC:20240801T133000
DTEND;TZID=UTC:20240801T143000
DTSTAMP:20260425T042413
CREATED:20240213T025044Z
LAST-MODIFIED:20240213T025044Z
UID:4492-1722519000-1722522600@alcconline.org
SUMMARY:Nursing Home Visit
DESCRIPTION:On the first Thursday of each month at 1:30 PM\, we visit Golden Empire Convalescent and sing songs\, share communion\, and love on the residents there. We’d love to have you join us!
URL:https://alcconline.org/event/nursing-home-visit/2024-08-01/
LOCATION:Abundant Life Community Church\, 10795 Alta Street\, Grass Valley\, CA\, 95945\, United States
CATEGORIES:Outreach
ATTACH;FMTTYPE=image/jpeg:https://alcconline.org/wp-content/uploads/2024/02/psalm-100-vs-1-2.jpg
ORGANIZER;CN="ALCC Admin":MAILTO:office@alcconline.org
END:VEVENT
BEGIN:VEVENT
DTSTART;TZID=America/Los_Angeles:20240728T100000
DTEND;TZID=America/Los_Angeles:20240728T120000
DTSTAMP:20260425T042413
CREATED:20200827T002832Z
LAST-MODIFIED:20200827T002832Z
UID:3740-1722160800-1722168000@alcconline.org
SUMMARY:Sunday Service 10:00 AM
DESCRIPTION:
URL:https://alcconline.org/event/sunday-service-845-a-m/2024-07-28/
LOCATION:Abundant Life Community Church\, 10795 Alta Street\, Grass Valley\, CA\, 95945\, United States
ATTACH;FMTTYPE=image/jpeg:https://alcconline.org/wp-content/uploads/2020/08/20190816_173221820_iOS.jpg
ORGANIZER;CN="ALCC Admin":MAILTO:office@alcconline.org
END:VEVENT
BEGIN:VEVENT
DTSTART;TZID=America/Los_Angeles:20240721T100000
DTEND;TZID=America/Los_Angeles:20240721T120000
DTSTAMP:20260425T042413
CREATED:20200827T002832Z
LAST-MODIFIED:20200827T002832Z
UID:3732-1721556000-1721563200@alcconline.org
SUMMARY:Sunday Service 10:00 AM
DESCRIPTION:
URL:https://alcconline.org/event/sunday-service-845-a-m/2024-07-21/
LOCATION:Abundant Life Community Church\, 10795 Alta Street\, Grass Valley\, CA\, 95945\, United States
ATTACH;FMTTYPE=image/jpeg:https://alcconline.org/wp-content/uploads/2020/08/20190816_173221820_iOS.jpg
ORGANIZER;CN="ALCC Admin":MAILTO:office@alcconline.org
END:VEVENT
BEGIN:VEVENT
DTSTART;TZID=America/Los_Angeles:20240714T100000
DTEND;TZID=America/Los_Angeles:20240714T120000
DTSTAMP:20260425T042413
CREATED:20200827T002832Z
LAST-MODIFIED:20200827T002832Z
UID:3675-1720951200-1720958400@alcconline.org
SUMMARY:Sunday Service 10:00 AM
DESCRIPTION:
URL:https://alcconline.org/event/sunday-service-845-a-m/2024-07-14/
LOCATION:Abundant Life Community Church\, 10795 Alta Street\, Grass Valley\, CA\, 95945\, United States
ATTACH;FMTTYPE=image/jpeg:https://alcconline.org/wp-content/uploads/2020/08/20190816_173221820_iOS.jpg
ORGANIZER;CN="ALCC Admin":MAILTO:office@alcconline.org
END:VEVENT
BEGIN:VEVENT
DTSTART;TZID=America/Los_Angeles:20240707T100000
DTEND;TZID=America/Los_Angeles:20240707T120000
DTSTAMP:20260425T042413
CREATED:20200827T002832Z
LAST-MODIFIED:20200827T002832Z
UID:3665-1720346400-1720353600@alcconline.org
SUMMARY:Sunday Service 10:00 AM
DESCRIPTION:
URL:https://alcconline.org/event/sunday-service-845-a-m/2024-07-07/
LOCATION:Abundant Life Community Church\, 10795 Alta Street\, Grass Valley\, CA\, 95945\, United States
ATTACH;FMTTYPE=image/jpeg:https://alcconline.org/wp-content/uploads/2020/08/20190816_173221820_iOS.jpg
ORGANIZER;CN="ALCC Admin":MAILTO:office@alcconline.org
END:VEVENT
BEGIN:VEVENT
DTSTART;TZID=UTC:20240704T190000
DTEND;TZID=UTC:20240704T200000
DTSTAMP:20260425T042413
CREATED:20240130T035548Z
LAST-MODIFIED:20240130T035548Z
UID:4449-1720119600-1720123200@alcconline.org
SUMMARY:Worship Night
DESCRIPTION:The 1st Thursday of each month \n7:00 PM \nSing & make music with our hearts to our Savior!
URL:https://alcconline.org/event/worship-night-2/2024-07-04/
LOCATION:Abundant Life Community Church\, 10795 Alta Street\, Grass Valley\, CA\, 95945\, United States
CATEGORIES:Family
ATTACH;FMTTYPE=image/jpeg:https://alcconline.org/wp-content/uploads/2024/01/worshipnightsplash.jpg
ORGANIZER;CN="ALCC Admin":MAILTO:office@alcconline.org
END:VEVENT
BEGIN:VEVENT
DTSTART;TZID=UTC:20240704T133000
DTEND;TZID=UTC:20240704T143000
DTSTAMP:20260425T042413
CREATED:20240213T025044Z
LAST-MODIFIED:20240213T025044Z
UID:4491-1720099800-1720103400@alcconline.org
SUMMARY:Nursing Home Visit
DESCRIPTION:On the first Thursday of each month at 1:30 PM\, we visit Golden Empire Convalescent and sing songs\, share communion\, and love on the residents there. We’d love to have you join us!
URL:https://alcconline.org/event/nursing-home-visit/2024-07-04/
LOCATION:Abundant Life Community Church\, 10795 Alta Street\, Grass Valley\, CA\, 95945\, United States
CATEGORIES:Outreach
ATTACH;FMTTYPE=image/jpeg:https://alcconline.org/wp-content/uploads/2024/02/psalm-100-vs-1-2.jpg
ORGANIZER;CN="ALCC Admin":MAILTO:office@alcconline.org
END:VEVENT
BEGIN:VEVENT
DTSTART;TZID=America/Los_Angeles:20240630T100000
DTEND;TZID=America/Los_Angeles:20240630T120000
DTSTAMP:20260425T042413
CREATED:20200827T002832Z
LAST-MODIFIED:20200827T002832Z
UID:3655-1719741600-1719748800@alcconline.org
SUMMARY:Sunday Service 10:00 AM
DESCRIPTION:
URL:https://alcconline.org/event/sunday-service-845-a-m/2024-06-30/
LOCATION:Abundant Life Community Church\, 10795 Alta Street\, Grass Valley\, CA\, 95945\, United States
ATTACH;FMTTYPE=image/jpeg:https://alcconline.org/wp-content/uploads/2020/08/20190816_173221820_iOS.jpg
ORGANIZER;CN="ALCC Admin":MAILTO:office@alcconline.org
END:VEVENT
BEGIN:VEVENT
DTSTART;TZID=America/Los_Angeles:20240623T100000
DTEND;TZID=America/Los_Angeles:20240623T120000
DTSTAMP:20260425T042413
CREATED:20200827T002832Z
LAST-MODIFIED:20200827T002832Z
UID:3640-1719136800-1719144000@alcconline.org
SUMMARY:Sunday Service 10:00 AM
DESCRIPTION:
URL:https://alcconline.org/event/sunday-service-845-a-m/2024-06-23/
LOCATION:Abundant Life Community Church\, 10795 Alta Street\, Grass Valley\, CA\, 95945\, United States
ATTACH;FMTTYPE=image/jpeg:https://alcconline.org/wp-content/uploads/2020/08/20190816_173221820_iOS.jpg
ORGANIZER;CN="ALCC Admin":MAILTO:office@alcconline.org
END:VEVENT
BEGIN:VEVENT
DTSTART;TZID=America/Los_Angeles:20240616T100000
DTEND;TZID=America/Los_Angeles:20240616T120000
DTSTAMP:20260425T042413
CREATED:20200827T002832Z
LAST-MODIFIED:20200827T002832Z
UID:3633-1718532000-1718539200@alcconline.org
SUMMARY:Sunday Service 10:00 AM
DESCRIPTION:
URL:https://alcconline.org/event/sunday-service-845-a-m/2024-06-16/
LOCATION:Abundant Life Community Church\, 10795 Alta Street\, Grass Valley\, CA\, 95945\, United States
ATTACH;FMTTYPE=image/jpeg:https://alcconline.org/wp-content/uploads/2020/08/20190816_173221820_iOS.jpg
ORGANIZER;CN="ALCC Admin":MAILTO:office@alcconline.org
END:VEVENT
BEGIN:VEVENT
DTSTART;TZID=America/Los_Angeles:20240609T100000
DTEND;TZID=America/Los_Angeles:20240609T120000
DTSTAMP:20260425T042413
CREATED:20200827T002832Z
LAST-MODIFIED:20200827T002832Z
UID:3625-1717927200-1717934400@alcconline.org
SUMMARY:Sunday Service 10:00 AM
DESCRIPTION:
URL:https://alcconline.org/event/sunday-service-845-a-m/2024-06-09/
LOCATION:Abundant Life Community Church\, 10795 Alta Street\, Grass Valley\, CA\, 95945\, United States
ATTACH;FMTTYPE=image/jpeg:https://alcconline.org/wp-content/uploads/2020/08/20190816_173221820_iOS.jpg
ORGANIZER;CN="ALCC Admin":MAILTO:office@alcconline.org
END:VEVENT
BEGIN:VEVENT
DTSTART;TZID=UTC:20240606T190000
DTEND;TZID=UTC:20240606T200000
DTSTAMP:20260425T042413
CREATED:20240130T035548Z
LAST-MODIFIED:20240130T035548Z
UID:4448-1717700400-1717704000@alcconline.org
SUMMARY:Worship Night
DESCRIPTION:The 1st Thursday of each month \n7:00 PM \nSing & make music with our hearts to our Savior!
URL:https://alcconline.org/event/worship-night-2/2024-06-06/
LOCATION:Abundant Life Community Church\, 10795 Alta Street\, Grass Valley\, CA\, 95945\, United States
CATEGORIES:Family
ATTACH;FMTTYPE=image/jpeg:https://alcconline.org/wp-content/uploads/2024/01/worshipnightsplash.jpg
ORGANIZER;CN="ALCC Admin":MAILTO:office@alcconline.org
END:VEVENT
BEGIN:VEVENT
DTSTART;TZID=UTC:20240606T133000
DTEND;TZID=UTC:20240606T143000
DTSTAMP:20260425T042413
CREATED:20240213T025044Z
LAST-MODIFIED:20240213T025044Z
UID:4490-1717680600-1717684200@alcconline.org
SUMMARY:Nursing Home Visit
DESCRIPTION:On the first Thursday of each month at 1:30 PM\, we visit Golden Empire Convalescent and sing songs\, share communion\, and love on the residents there. We’d love to have you join us!
URL:https://alcconline.org/event/nursing-home-visit/2024-06-06/
LOCATION:Abundant Life Community Church\, 10795 Alta Street\, Grass Valley\, CA\, 95945\, United States
CATEGORIES:Outreach
ATTACH;FMTTYPE=image/jpeg:https://alcconline.org/wp-content/uploads/2024/02/psalm-100-vs-1-2.jpg
ORGANIZER;CN="ALCC Admin":MAILTO:office@alcconline.org
END:VEVENT
BEGIN:VEVENT
DTSTART;TZID=America/Los_Angeles:20240602T100000
DTEND;TZID=America/Los_Angeles:20240602T120000
DTSTAMP:20260425T042413
CREATED:20200827T002832Z
LAST-MODIFIED:20200827T002832Z
UID:3613-1717322400-1717329600@alcconline.org
SUMMARY:Sunday Service 10:00 AM
DESCRIPTION:
URL:https://alcconline.org/event/sunday-service-845-a-m/2024-06-02/
LOCATION:Abundant Life Community Church\, 10795 Alta Street\, Grass Valley\, CA\, 95945\, United States
ATTACH;FMTTYPE=image/jpeg:https://alcconline.org/wp-content/uploads/2020/08/20190816_173221820_iOS.jpg
ORGANIZER;CN="ALCC Admin":MAILTO:office@alcconline.org
END:VEVENT
BEGIN:VEVENT
DTSTART;TZID=America/Los_Angeles:20240526T100000
DTEND;TZID=America/Los_Angeles:20240526T120000
DTSTAMP:20260425T042413
CREATED:20200827T002832Z
LAST-MODIFIED:20200827T002832Z
UID:3607-1716717600-1716724800@alcconline.org
SUMMARY:Sunday Service 10:00 AM
DESCRIPTION:
URL:https://alcconline.org/event/sunday-service-845-a-m/2024-05-26/
LOCATION:Abundant Life Community Church\, 10795 Alta Street\, Grass Valley\, CA\, 95945\, United States
ATTACH;FMTTYPE=image/jpeg:https://alcconline.org/wp-content/uploads/2020/08/20190816_173221820_iOS.jpg
ORGANIZER;CN="ALCC Admin":MAILTO:office@alcconline.org
END:VEVENT
BEGIN:VEVENT
DTSTART;TZID=America/Los_Angeles:20240519T100000
DTEND;TZID=America/Los_Angeles:20240519T120000
DTSTAMP:20260425T042413
CREATED:20200827T002832Z
LAST-MODIFIED:20200827T002832Z
UID:3600-1716112800-1716120000@alcconline.org
SUMMARY:Sunday Service 10:00 AM
DESCRIPTION:
URL:https://alcconline.org/event/sunday-service-845-a-m/2024-05-19/
LOCATION:Abundant Life Community Church\, 10795 Alta Street\, Grass Valley\, CA\, 95945\, United States
ATTACH;FMTTYPE=image/jpeg:https://alcconline.org/wp-content/uploads/2020/08/20190816_173221820_iOS.jpg
ORGANIZER;CN="ALCC Admin":MAILTO:office@alcconline.org
END:VEVENT
BEGIN:VEVENT
DTSTART;TZID=America/Los_Angeles:20240512T100000
DTEND;TZID=America/Los_Angeles:20240512T120000
DTSTAMP:20260425T042413
CREATED:20200827T002832Z
LAST-MODIFIED:20200827T002832Z
UID:3590-1715508000-1715515200@alcconline.org
SUMMARY:Sunday Service 10:00 AM
DESCRIPTION:
URL:https://alcconline.org/event/sunday-service-845-a-m/2024-05-12/
LOCATION:Abundant Life Community Church\, 10795 Alta Street\, Grass Valley\, CA\, 95945\, United States
ATTACH;FMTTYPE=image/jpeg:https://alcconline.org/wp-content/uploads/2020/08/20190816_173221820_iOS.jpg
ORGANIZER;CN="ALCC Admin":MAILTO:office@alcconline.org
END:VEVENT
BEGIN:VEVENT
DTSTART;TZID=America/Los_Angeles:20240505T100000
DTEND;TZID=America/Los_Angeles:20240505T120000
DTSTAMP:20260425T042413
CREATED:20200827T002832Z
LAST-MODIFIED:20200827T002832Z
UID:3584-1714903200-1714910400@alcconline.org
SUMMARY:Sunday Service 10:00 AM
DESCRIPTION:
URL:https://alcconline.org/event/sunday-service-845-a-m/2024-05-05/
LOCATION:Abundant Life Community Church\, 10795 Alta Street\, Grass Valley\, CA\, 95945\, United States
ATTACH;FMTTYPE=image/jpeg:https://alcconline.org/wp-content/uploads/2020/08/20190816_173221820_iOS.jpg
ORGANIZER;CN="ALCC Admin":MAILTO:office@alcconline.org
END:VEVENT
BEGIN:VEVENT
DTSTART;TZID=UTC:20240502T190000
DTEND;TZID=UTC:20240502T200000
DTSTAMP:20260425T042413
CREATED:20240130T035548Z
LAST-MODIFIED:20240130T035548Z
UID:4447-1714676400-1714680000@alcconline.org
SUMMARY:Worship Night
DESCRIPTION:The 1st Thursday of each month \n7:00 PM \nSing & make music with our hearts to our Savior!
URL:https://alcconline.org/event/worship-night-2/2024-05-02/
LOCATION:Abundant Life Community Church\, 10795 Alta Street\, Grass Valley\, CA\, 95945\, United States
CATEGORIES:Family
ATTACH;FMTTYPE=image/jpeg:https://alcconline.org/wp-content/uploads/2024/01/worshipnightsplash.jpg
ORGANIZER;CN="ALCC Admin":MAILTO:office@alcconline.org
END:VEVENT
BEGIN:VEVENT
DTSTART;TZID=UTC:20240502T133000
DTEND;TZID=UTC:20240502T143000
DTSTAMP:20260425T042413
CREATED:20240213T025044Z
LAST-MODIFIED:20240213T025044Z
UID:4489-1714656600-1714660200@alcconline.org
SUMMARY:Nursing Home Visit
DESCRIPTION:On the first Thursday of each month at 1:30 PM\, we visit Golden Empire Convalescent and sing songs\, share communion\, and love on the residents there. We’d love to have you join us!
URL:https://alcconline.org/event/nursing-home-visit/2024-05-02/
LOCATION:Abundant Life Community Church\, 10795 Alta Street\, Grass Valley\, CA\, 95945\, United States
CATEGORIES:Outreach
ATTACH;FMTTYPE=image/jpeg:https://alcconline.org/wp-content/uploads/2024/02/psalm-100-vs-1-2.jpg
ORGANIZER;CN="ALCC Admin":MAILTO:office@alcconline.org
END:VEVENT
BEGIN:VEVENT
DTSTART;TZID=UTC:20240501T180000
DTEND;TZID=UTC:20240501T193000
DTSTAMP:20260425T042413
CREATED:20210618T054020Z
LAST-MODIFIED:20210618T054020Z
UID:4753-1714586400-1714591800@alcconline.org
SUMMARY:Prayer Meeting
DESCRIPTION:
URL:https://alcconline.org/event/prayer-meeting/2024-05-01/
LOCATION:Abundant Life Community Church\, 10795 Alta Street\, Grass Valley\, CA\, 95945\, United States
ATTACH;FMTTYPE=image/jpeg:https://alcconline.org/wp-content/uploads/2021/06/prayer_with_us.jpg
ORGANIZER;CN="ALCC Admin":MAILTO:office@alcconline.org
END:VEVENT
BEGIN:VEVENT
DTSTART;TZID=UTC:20240428T113000
DTEND;TZID=UTC:20240428T140000
DTSTAMP:20260425T042413
CREATED:20240415T233437Z
LAST-MODIFIED:20240415T233437Z
UID:4737-1714303800-1714312800@alcconline.org
SUMMARY:Potluck
DESCRIPTION:Potluck April 28th after service
URL:https://alcconline.org/event/potluck-2/
LOCATION:Abundant Life Community Church\, 10795 Alta Street\, Grass Valley\, CA\, 95945\, United States
CATEGORIES:Family
ATTACH;FMTTYPE=image/jpeg:https://alcconline.org/wp-content/uploads/2023/10/potluck.jpg
ORGANIZER;CN="ALCC Admin":MAILTO:office@alcconline.org
END:VEVENT
BEGIN:VEVENT
DTSTART;TZID=America/Los_Angeles:20240428T100000
DTEND;TZID=America/Los_Angeles:20240428T120000
DTSTAMP:20260425T042413
CREATED:20200827T002832Z
LAST-MODIFIED:20200827T002832Z
UID:3315-1714298400-1714305600@alcconline.org
SUMMARY:Sunday Service 10:00 AM
DESCRIPTION:
URL:https://alcconline.org/event/sunday-service-845-a-m/2024-04-28/
LOCATION:Abundant Life Community Church\, 10795 Alta Street\, Grass Valley\, CA\, 95945\, United States
ATTACH;FMTTYPE=image/jpeg:https://alcconline.org/wp-content/uploads/2020/08/20190816_173221820_iOS.jpg
ORGANIZER;CN="ALCC Admin":MAILTO:office@alcconline.org
END:VEVENT
BEGIN:VEVENT
DTSTART;TZID=UTC:20240328T180000
DTEND;TZID=UTC:20240328T200000
DTSTAMP:20260425T042413
CREATED:20240305T035626Z
LAST-MODIFIED:20240305T035626Z
UID:4532-1711648800-1711656000@alcconline.org
SUMMARY:Passover Dinner
DESCRIPTION:Passover Dinner \nMarch 28 at 6:00 PM
URL:https://alcconline.org/event/passover-dinner/
LOCATION:Abundant Life Community Church\, 10795 Alta Street\, Grass Valley\, CA\, 95945\, United States
CATEGORIES:Family
ATTACH;FMTTYPE=image/jpeg:https://alcconline.org/wp-content/uploads/2024/03/passover.jpeg
ORGANIZER;CN="ALCC Admin":MAILTO:office@alcconline.org
END:VEVENT
BEGIN:VEVENT
DTSTART;TZID=UTC:20240307T133000
DTEND;TZID=UTC:20240307T143000
DTSTAMP:20260425T042413
CREATED:20240213T025044Z
LAST-MODIFIED:20240213T025044Z
UID:4486-1709818200-1709821800@alcconline.org
SUMMARY:Nursing Home Visit
DESCRIPTION:On the first Thursday of each month at 1:30 PM\, we visit Golden Empire Convalescent and sing songs\, share communion\, and love on the residents there. We’d love to have you join us!
URL:https://alcconline.org/event/nursing-home-visit/2024-03-07/
LOCATION:Abundant Life Community Church\, 10795 Alta Street\, Grass Valley\, CA\, 95945\, United States
CATEGORIES:Outreach
ATTACH;FMTTYPE=image/jpeg:https://alcconline.org/wp-content/uploads/2024/02/psalm-100-vs-1-2.jpg
ORGANIZER;CN="ALCC Admin":MAILTO:office@alcconline.org
END:VEVENT
BEGIN:VEVENT
DTSTART;TZID=UTC:20240201T190000
DTEND;TZID=UTC:20240201T200000
DTSTAMP:20260425T042413
CREATED:20240130T035548Z
LAST-MODIFIED:20240130T035548Z
UID:4443-1706814000-1706817600@alcconline.org
SUMMARY:Worship Night
DESCRIPTION:The 1st Thursday of each month \n7:00 PM \nSing & make music with our hearts to our Savior!
URL:https://alcconline.org/event/worship-night-2/2024-02-01/
LOCATION:Abundant Life Community Church\, 10795 Alta Street\, Grass Valley\, CA\, 95945\, United States
CATEGORIES:Family
ATTACH;FMTTYPE=image/jpeg:https://alcconline.org/wp-content/uploads/2024/01/worshipnightsplash.jpg
ORGANIZER;CN="ALCC Admin":MAILTO:office@alcconline.org
END:VEVENT
BEGIN:VEVENT
DTSTART;TZID=UTC:20231224T100000
DTEND;TZID=UTC:20231224T120000
DTSTAMP:20260425T042413
CREATED:20231128T040056Z
LAST-MODIFIED:20231128T040056Z
UID:4361-1703412000-1703419200@alcconline.org
SUMMARY:Christmas Eve Candlelight Service
DESCRIPTION:Christmas Eve Candlelight Service \nDecember 24th 10:00 AM
URL:https://alcconline.org/event/christmas-eve-candlelight-service-2/
LOCATION:Abundant Life Community Church\, 10795 Alta Street\, Grass Valley\, CA\, 95945\, United States
CATEGORIES:Family
ATTACH;FMTTYPE=image/jpeg:https://alcconline.org/wp-content/uploads/2023/11/christmas-eve_carousel.jpg
ORGANIZER;CN="ALCC Admin":MAILTO:office@alcconline.org
END:VEVENT
BEGIN:VEVENT
DTSTART;TZID=UTC:20231210T160000
DTEND;TZID=UTC:20231210T200000
DTSTAMP:20260425T042413
CREATED:20231128T035617Z
LAST-MODIFIED:20231128T035617Z
UID:4358-1702224000-1702238400@alcconline.org
SUMMARY:Family Christmas Fun Day
DESCRIPTION:Family Fun Day: December 10th\, 4:00 – 8:00 PM \nBaked potato bar dinner\, car light parade\, games
URL:https://alcconline.org/event/family-christmas-fun-day/
LOCATION:Abundant Life Community Church\, 10795 Alta Street\, Grass Valley\, CA\, 95945\, United States
CATEGORIES:Family
ATTACH;FMTTYPE=image/jpeg:https://alcconline.org/wp-content/uploads/2023/11/image4.jpeg
ORGANIZER;CN="ALCC Admin":MAILTO:office@alcconline.org
END:VEVENT
BEGIN:VEVENT
DTSTART;TZID=UTC:20231029T113000
DTEND;TZID=UTC:20231029T133000
DTSTAMP:20260425T042413
CREATED:20231010T000008Z
LAST-MODIFIED:20231010T000008Z
UID:4296-1698579000-1698586200@alcconline.org
SUMMARY:Potluck
DESCRIPTION:Potluck after church October 29th
URL:https://alcconline.org/event/potluck/
LOCATION:Abundant Life Community Church\, 10795 Alta Street\, Grass Valley\, CA\, 95945\, United States
CATEGORIES:Family
ATTACH;FMTTYPE=image/jpeg:https://alcconline.org/wp-content/uploads/2023/10/potluck.jpg
ORGANIZER;CN="ALCC Admin":MAILTO:office@alcconline.org
END:VEVENT
END:VCALENDAR