BEGIN:VCALENDAR
VERSION:2.0
PRODID:-//Abundant Life Community Church - ECPv6.15.20//NONSGML v1.0//EN
CALSCALE:GREGORIAN
METHOD:PUBLISH
X-ORIGINAL-URL:https://alcconline.org
X-WR-CALDESC:Events for Abundant Life Community Church
REFRESH-INTERVAL;VALUE=DURATION:PT1H
X-Robots-Tag:noindex
X-PUBLISHED-TTL:PT1H
BEGIN:VTIMEZONE
TZID:UTC
BEGIN:STANDARD
TZOFFSETFROM:+0000
TZOFFSETTO:+0000
TZNAME:UTC
DTSTART:20260101T000000
END:STANDARD
END:VTIMEZONE
BEGIN:VTIMEZONE
TZID:America/Los_Angeles
BEGIN:DAYLIGHT
TZOFFSETFROM:-0800
TZOFFSETTO:-0700
TZNAME:PDT
DTSTART:20260308T100000
END:DAYLIGHT
BEGIN:STANDARD
TZOFFSETFROM:-0700
TZOFFSETTO:-0800
TZNAME:PST
DTSTART:20261101T090000
END:STANDARD
BEGIN:DAYLIGHT
TZOFFSETFROM:-0800
TZOFFSETTO:-0700
TZNAME:PDT
DTSTART:20270314T100000
END:DAYLIGHT
BEGIN:STANDARD
TZOFFSETFROM:-0700
TZOFFSETTO:-0800
TZNAME:PST
DTSTART:20271107T090000
END:STANDARD
BEGIN:DAYLIGHT
TZOFFSETFROM:-0800
TZOFFSETTO:-0700
TZNAME:PDT
DTSTART:20280312T100000
END:DAYLIGHT
BEGIN:STANDARD
TZOFFSETFROM:-0700
TZOFFSETTO:-0800
TZNAME:PST
DTSTART:20281105T090000
END:STANDARD
END:VTIMEZONE
BEGIN:VEVENT
DTSTART;TZID=UTC:20270401T133000
DTEND;TZID=UTC:20270401T143000
DTSTAMP:20260425T054520
CREATED:20240213T025044Z
LAST-MODIFIED:20240213T025044Z
UID:5410-1806586200-1806589800@alcconline.org
SUMMARY:Nursing Home Visit
DESCRIPTION:On the first Thursday of each month at 1:30 PM\, we visit Golden Empire Convalescent and sing songs\, share communion\, and love on the residents there. We’d love to have you join us!
URL:https://alcconline.org/event/nursing-home-visit/2027-04-01/
LOCATION:Abundant Life Community Church\, 10795 Alta Street\, Grass Valley\, CA\, 95945\, United States
CATEGORIES:Outreach
ATTACH;FMTTYPE=image/jpeg:https://alcconline.org/wp-content/uploads/2024/02/psalm-100-vs-1-2.jpg
ORGANIZER;CN="ALCC Admin":MAILTO:office@alcconline.org
END:VEVENT
BEGIN:VEVENT
DTSTART;TZID=America/Los_Angeles:20270402T173000
DTEND;TZID=America/Los_Angeles:20270402T190000
DTSTAMP:20260425T054520
CREATED:20260309T165331Z
LAST-MODIFIED:20260309T165331Z
UID:6150-1806687000-1806692400@alcconline.org
SUMMARY:Kingdom Kids
DESCRIPTION:Friday Nights 5:30 – 7:00 PM \nGrades K- 5th
URL:https://alcconline.org/event/kingdom-kids/2027-04-02/
LOCATION:Abundant Life Community Church\, 10795 Alta Street\, Grass Valley\, CA\, 95945\, United States
ATTACH;FMTTYPE=image/png:https://alcconline.org/wp-content/uploads/2026/03/Kingdom-.png
ORGANIZER;CN="ALCC Admin":MAILTO:office@alcconline.org
END:VEVENT
BEGIN:VEVENT
DTSTART;TZID=America/Los_Angeles:20270402T190000
DTEND;TZID=America/Los_Angeles:20270402T203000
DTSTAMP:20260425T054520
CREATED:20260309T165518Z
LAST-MODIFIED:20260309T165518Z
UID:6092-1806692400-1806697800@alcconline.org
SUMMARY:Youth Group
DESCRIPTION:Friday Nights 7:00 – 8:30 PM \nGrades 6 – 12
URL:https://alcconline.org/event/youth-group/2027-04-02/
LOCATION:Abundant Life Community Church\, 10795 Alta Street\, Grass Valley\, CA\, 95945\, United States
ATTACH;FMTTYPE=image/jpeg:https://alcconline.org/wp-content/uploads/2026/03/youth.jpg
ORGANIZER;CN="ALCC Admin":MAILTO:office@alcconline.org
END:VEVENT
BEGIN:VEVENT
DTSTART;TZID=America/Los_Angeles:20270404T100000
DTEND;TZID=America/Los_Angeles:20270404T120000
DTSTAMP:20260425T054520
CREATED:20200827T002832Z
LAST-MODIFIED:20200827T002832Z
UID:5417-1806832800-1806840000@alcconline.org
SUMMARY:Sunday Service 10:00 AM
DESCRIPTION:
URL:https://alcconline.org/event/sunday-service-845-a-m/2027-04-04/
LOCATION:Abundant Life Community Church\, 10795 Alta Street\, Grass Valley\, CA\, 95945\, United States
ATTACH;FMTTYPE=image/jpeg:https://alcconline.org/wp-content/uploads/2020/08/20190816_173221820_iOS.jpg
ORGANIZER;CN="ALCC Admin":MAILTO:office@alcconline.org
END:VEVENT
BEGIN:VEVENT
DTSTART;TZID=America/Los_Angeles:20270409T173000
DTEND;TZID=America/Los_Angeles:20270409T190000
DTSTAMP:20260425T054520
CREATED:20260309T165331Z
LAST-MODIFIED:20260309T165331Z
UID:6151-1807291800-1807297200@alcconline.org
SUMMARY:Kingdom Kids
DESCRIPTION:Friday Nights 5:30 – 7:00 PM \nGrades K- 5th
URL:https://alcconline.org/event/kingdom-kids/2027-04-09/
LOCATION:Abundant Life Community Church\, 10795 Alta Street\, Grass Valley\, CA\, 95945\, United States
ATTACH;FMTTYPE=image/png:https://alcconline.org/wp-content/uploads/2026/03/Kingdom-.png
ORGANIZER;CN="ALCC Admin":MAILTO:office@alcconline.org
END:VEVENT
BEGIN:VEVENT
DTSTART;TZID=America/Los_Angeles:20270409T190000
DTEND;TZID=America/Los_Angeles:20270409T203000
DTSTAMP:20260425T054520
CREATED:20260309T165518Z
LAST-MODIFIED:20260309T165518Z
UID:6093-1807297200-1807302600@alcconline.org
SUMMARY:Youth Group
DESCRIPTION:Friday Nights 7:00 – 8:30 PM \nGrades 6 – 12
URL:https://alcconline.org/event/youth-group/2027-04-09/
LOCATION:Abundant Life Community Church\, 10795 Alta Street\, Grass Valley\, CA\, 95945\, United States
ATTACH;FMTTYPE=image/jpeg:https://alcconline.org/wp-content/uploads/2026/03/youth.jpg
ORGANIZER;CN="ALCC Admin":MAILTO:office@alcconline.org
END:VEVENT
BEGIN:VEVENT
DTSTART;TZID=America/Los_Angeles:20270411T100000
DTEND;TZID=America/Los_Angeles:20270411T120000
DTSTAMP:20260425T054520
CREATED:20200827T002832Z
LAST-MODIFIED:20200827T002832Z
UID:5429-1807437600-1807444800@alcconline.org
SUMMARY:Sunday Service 10:00 AM
DESCRIPTION:
URL:https://alcconline.org/event/sunday-service-845-a-m/2027-04-11/
LOCATION:Abundant Life Community Church\, 10795 Alta Street\, Grass Valley\, CA\, 95945\, United States
ATTACH;FMTTYPE=image/jpeg:https://alcconline.org/wp-content/uploads/2020/08/20190816_173221820_iOS.jpg
ORGANIZER;CN="ALCC Admin":MAILTO:office@alcconline.org
END:VEVENT
BEGIN:VEVENT
DTSTART;TZID=America/Los_Angeles:20270416T173000
DTEND;TZID=America/Los_Angeles:20270416T190000
DTSTAMP:20260425T054520
CREATED:20260309T165331Z
LAST-MODIFIED:20260309T165331Z
UID:6152-1807896600-1807902000@alcconline.org
SUMMARY:Kingdom Kids
DESCRIPTION:Friday Nights 5:30 – 7:00 PM \nGrades K- 5th
URL:https://alcconline.org/event/kingdom-kids/2027-04-16/
LOCATION:Abundant Life Community Church\, 10795 Alta Street\, Grass Valley\, CA\, 95945\, United States
ATTACH;FMTTYPE=image/png:https://alcconline.org/wp-content/uploads/2026/03/Kingdom-.png
ORGANIZER;CN="ALCC Admin":MAILTO:office@alcconline.org
END:VEVENT
BEGIN:VEVENT
DTSTART;TZID=America/Los_Angeles:20270416T190000
DTEND;TZID=America/Los_Angeles:20270416T203000
DTSTAMP:20260425T054520
CREATED:20260309T165518Z
LAST-MODIFIED:20260309T165518Z
UID:6094-1807902000-1807907400@alcconline.org
SUMMARY:Youth Group
DESCRIPTION:Friday Nights 7:00 – 8:30 PM \nGrades 6 – 12
URL:https://alcconline.org/event/youth-group/2027-04-16/
LOCATION:Abundant Life Community Church\, 10795 Alta Street\, Grass Valley\, CA\, 95945\, United States
ATTACH;FMTTYPE=image/jpeg:https://alcconline.org/wp-content/uploads/2026/03/youth.jpg
ORGANIZER;CN="ALCC Admin":MAILTO:office@alcconline.org
END:VEVENT
BEGIN:VEVENT
DTSTART;TZID=America/Los_Angeles:20270418T100000
DTEND;TZID=America/Los_Angeles:20270418T120000
DTSTAMP:20260425T054520
CREATED:20200827T002832Z
LAST-MODIFIED:20200827T002832Z
UID:5440-1808042400-1808049600@alcconline.org
SUMMARY:Sunday Service 10:00 AM
DESCRIPTION:
URL:https://alcconline.org/event/sunday-service-845-a-m/2027-04-18/
LOCATION:Abundant Life Community Church\, 10795 Alta Street\, Grass Valley\, CA\, 95945\, United States
ATTACH;FMTTYPE=image/jpeg:https://alcconline.org/wp-content/uploads/2020/08/20190816_173221820_iOS.jpg
ORGANIZER;CN="ALCC Admin":MAILTO:office@alcconline.org
END:VEVENT
BEGIN:VEVENT
DTSTART;TZID=America/Los_Angeles:20270423T173000
DTEND;TZID=America/Los_Angeles:20270423T190000
DTSTAMP:20260425T054520
CREATED:20260309T165331Z
LAST-MODIFIED:20260309T165331Z
UID:6153-1808501400-1808506800@alcconline.org
SUMMARY:Kingdom Kids
DESCRIPTION:Friday Nights 5:30 – 7:00 PM \nGrades K- 5th
URL:https://alcconline.org/event/kingdom-kids/2027-04-23/
LOCATION:Abundant Life Community Church\, 10795 Alta Street\, Grass Valley\, CA\, 95945\, United States
ATTACH;FMTTYPE=image/png:https://alcconline.org/wp-content/uploads/2026/03/Kingdom-.png
ORGANIZER;CN="ALCC Admin":MAILTO:office@alcconline.org
END:VEVENT
BEGIN:VEVENT
DTSTART;TZID=America/Los_Angeles:20270423T190000
DTEND;TZID=America/Los_Angeles:20270423T203000
DTSTAMP:20260425T054520
CREATED:20260309T165518Z
LAST-MODIFIED:20260309T165518Z
UID:6095-1808506800-1808512200@alcconline.org
SUMMARY:Youth Group
DESCRIPTION:Friday Nights 7:00 – 8:30 PM \nGrades 6 – 12
URL:https://alcconline.org/event/youth-group/2027-04-23/
LOCATION:Abundant Life Community Church\, 10795 Alta Street\, Grass Valley\, CA\, 95945\, United States
ATTACH;FMTTYPE=image/jpeg:https://alcconline.org/wp-content/uploads/2026/03/youth.jpg
ORGANIZER;CN="ALCC Admin":MAILTO:office@alcconline.org
END:VEVENT
BEGIN:VEVENT
DTSTART;TZID=America/Los_Angeles:20270425T100000
DTEND;TZID=America/Los_Angeles:20270425T120000
DTSTAMP:20260425T054520
CREATED:20200827T002832Z
LAST-MODIFIED:20200827T002832Z
UID:5449-1808647200-1808654400@alcconline.org
SUMMARY:Sunday Service 10:00 AM
DESCRIPTION:
URL:https://alcconline.org/event/sunday-service-845-a-m/2027-04-25/
LOCATION:Abundant Life Community Church\, 10795 Alta Street\, Grass Valley\, CA\, 95945\, United States
ATTACH;FMTTYPE=image/jpeg:https://alcconline.org/wp-content/uploads/2020/08/20190816_173221820_iOS.jpg
ORGANIZER;CN="ALCC Admin":MAILTO:office@alcconline.org
END:VEVENT
BEGIN:VEVENT
DTSTART;TZID=America/Los_Angeles:20270430T173000
DTEND;TZID=America/Los_Angeles:20270430T190000
DTSTAMP:20260425T054520
CREATED:20260309T165331Z
LAST-MODIFIED:20260309T165331Z
UID:6154-1809106200-1809111600@alcconline.org
SUMMARY:Kingdom Kids
DESCRIPTION:Friday Nights 5:30 – 7:00 PM \nGrades K- 5th
URL:https://alcconline.org/event/kingdom-kids/2027-04-30/
LOCATION:Abundant Life Community Church\, 10795 Alta Street\, Grass Valley\, CA\, 95945\, United States
ATTACH;FMTTYPE=image/png:https://alcconline.org/wp-content/uploads/2026/03/Kingdom-.png
ORGANIZER;CN="ALCC Admin":MAILTO:office@alcconline.org
END:VEVENT
BEGIN:VEVENT
DTSTART;TZID=America/Los_Angeles:20270430T190000
DTEND;TZID=America/Los_Angeles:20270430T203000
DTSTAMP:20260425T054520
CREATED:20260309T165518Z
LAST-MODIFIED:20260309T165518Z
UID:6096-1809111600-1809117000@alcconline.org
SUMMARY:Youth Group
DESCRIPTION:Friday Nights 7:00 – 8:30 PM \nGrades 6 – 12
URL:https://alcconline.org/event/youth-group/2027-04-30/
LOCATION:Abundant Life Community Church\, 10795 Alta Street\, Grass Valley\, CA\, 95945\, United States
ATTACH;FMTTYPE=image/jpeg:https://alcconline.org/wp-content/uploads/2026/03/youth.jpg
ORGANIZER;CN="ALCC Admin":MAILTO:office@alcconline.org
END:VEVENT
BEGIN:VEVENT
DTSTART;TZID=America/Los_Angeles:20270502T100000
DTEND;TZID=America/Los_Angeles:20270502T120000
DTSTAMP:20260425T054520
CREATED:20200827T002832Z
LAST-MODIFIED:20200827T002832Z
UID:5459-1809252000-1809259200@alcconline.org
SUMMARY:Sunday Service 10:00 AM
DESCRIPTION:
URL:https://alcconline.org/event/sunday-service-845-a-m/2027-05-02/
LOCATION:Abundant Life Community Church\, 10795 Alta Street\, Grass Valley\, CA\, 95945\, United States
ATTACH;FMTTYPE=image/jpeg:https://alcconline.org/wp-content/uploads/2020/08/20190816_173221820_iOS.jpg
ORGANIZER;CN="ALCC Admin":MAILTO:office@alcconline.org
END:VEVENT
BEGIN:VEVENT
DTSTART;TZID=UTC:20270506T133000
DTEND;TZID=UTC:20270506T143000
DTSTAMP:20260425T054520
CREATED:20240213T025044Z
LAST-MODIFIED:20240213T025044Z
UID:5470-1809610200-1809613800@alcconline.org
SUMMARY:Nursing Home Visit
DESCRIPTION:On the first Thursday of each month at 1:30 PM\, we visit Golden Empire Convalescent and sing songs\, share communion\, and love on the residents there. We’d love to have you join us!
URL:https://alcconline.org/event/nursing-home-visit/2027-05-06/
LOCATION:Abundant Life Community Church\, 10795 Alta Street\, Grass Valley\, CA\, 95945\, United States
CATEGORIES:Outreach
ATTACH;FMTTYPE=image/jpeg:https://alcconline.org/wp-content/uploads/2024/02/psalm-100-vs-1-2.jpg
ORGANIZER;CN="ALCC Admin":MAILTO:office@alcconline.org
END:VEVENT
BEGIN:VEVENT
DTSTART;TZID=America/Los_Angeles:20270507T173000
DTEND;TZID=America/Los_Angeles:20270507T190000
DTSTAMP:20260425T054520
CREATED:20260309T165331Z
LAST-MODIFIED:20260309T165331Z
UID:6155-1809711000-1809716400@alcconline.org
SUMMARY:Kingdom Kids
DESCRIPTION:Friday Nights 5:30 – 7:00 PM \nGrades K- 5th
URL:https://alcconline.org/event/kingdom-kids/2027-05-07/
LOCATION:Abundant Life Community Church\, 10795 Alta Street\, Grass Valley\, CA\, 95945\, United States
ATTACH;FMTTYPE=image/png:https://alcconline.org/wp-content/uploads/2026/03/Kingdom-.png
ORGANIZER;CN="ALCC Admin":MAILTO:office@alcconline.org
END:VEVENT
BEGIN:VEVENT
DTSTART;TZID=America/Los_Angeles:20270507T190000
DTEND;TZID=America/Los_Angeles:20270507T203000
DTSTAMP:20260425T054520
CREATED:20260309T165518Z
LAST-MODIFIED:20260309T165518Z
UID:6097-1809716400-1809721800@alcconline.org
SUMMARY:Youth Group
DESCRIPTION:Friday Nights 7:00 – 8:30 PM \nGrades 6 – 12
URL:https://alcconline.org/event/youth-group/2027-05-07/
LOCATION:Abundant Life Community Church\, 10795 Alta Street\, Grass Valley\, CA\, 95945\, United States
ATTACH;FMTTYPE=image/jpeg:https://alcconline.org/wp-content/uploads/2026/03/youth.jpg
ORGANIZER;CN="ALCC Admin":MAILTO:office@alcconline.org
END:VEVENT
BEGIN:VEVENT
DTSTART;TZID=America/Los_Angeles:20270509T100000
DTEND;TZID=America/Los_Angeles:20270509T120000
DTSTAMP:20260425T054520
CREATED:20200827T002832Z
LAST-MODIFIED:20200827T002832Z
UID:5477-1809856800-1809864000@alcconline.org
SUMMARY:Sunday Service 10:00 AM
DESCRIPTION:
URL:https://alcconline.org/event/sunday-service-845-a-m/2027-05-09/
LOCATION:Abundant Life Community Church\, 10795 Alta Street\, Grass Valley\, CA\, 95945\, United States
ATTACH;FMTTYPE=image/jpeg:https://alcconline.org/wp-content/uploads/2020/08/20190816_173221820_iOS.jpg
ORGANIZER;CN="ALCC Admin":MAILTO:office@alcconline.org
END:VEVENT
BEGIN:VEVENT
DTSTART;TZID=America/Los_Angeles:20270514T173000
DTEND;TZID=America/Los_Angeles:20270514T190000
DTSTAMP:20260425T054520
CREATED:20260309T165331Z
LAST-MODIFIED:20260309T165331Z
UID:6156-1810315800-1810321200@alcconline.org
SUMMARY:Kingdom Kids
DESCRIPTION:Friday Nights 5:30 – 7:00 PM \nGrades K- 5th
URL:https://alcconline.org/event/kingdom-kids/2027-05-14/
LOCATION:Abundant Life Community Church\, 10795 Alta Street\, Grass Valley\, CA\, 95945\, United States
ATTACH;FMTTYPE=image/png:https://alcconline.org/wp-content/uploads/2026/03/Kingdom-.png
ORGANIZER;CN="ALCC Admin":MAILTO:office@alcconline.org
END:VEVENT
BEGIN:VEVENT
DTSTART;TZID=America/Los_Angeles:20270514T190000
DTEND;TZID=America/Los_Angeles:20270514T203000
DTSTAMP:20260425T054520
CREATED:20260309T165518Z
LAST-MODIFIED:20260309T165518Z
UID:6098-1810321200-1810326600@alcconline.org
SUMMARY:Youth Group
DESCRIPTION:Friday Nights 7:00 – 8:30 PM \nGrades 6 – 12
URL:https://alcconline.org/event/youth-group/2027-05-14/
LOCATION:Abundant Life Community Church\, 10795 Alta Street\, Grass Valley\, CA\, 95945\, United States
ATTACH;FMTTYPE=image/jpeg:https://alcconline.org/wp-content/uploads/2026/03/youth.jpg
ORGANIZER;CN="ALCC Admin":MAILTO:office@alcconline.org
END:VEVENT
BEGIN:VEVENT
DTSTART;TZID=America/Los_Angeles:20270516T100000
DTEND;TZID=America/Los_Angeles:20270516T120000
DTSTAMP:20260425T054520
CREATED:20200827T002832Z
LAST-MODIFIED:20200827T002832Z
UID:5486-1810461600-1810468800@alcconline.org
SUMMARY:Sunday Service 10:00 AM
DESCRIPTION:
URL:https://alcconline.org/event/sunday-service-845-a-m/2027-05-16/
LOCATION:Abundant Life Community Church\, 10795 Alta Street\, Grass Valley\, CA\, 95945\, United States
ATTACH;FMTTYPE=image/jpeg:https://alcconline.org/wp-content/uploads/2020/08/20190816_173221820_iOS.jpg
ORGANIZER;CN="ALCC Admin":MAILTO:office@alcconline.org
END:VEVENT
BEGIN:VEVENT
DTSTART;TZID=America/Los_Angeles:20270521T173000
DTEND;TZID=America/Los_Angeles:20270521T190000
DTSTAMP:20260425T054520
CREATED:20260309T165331Z
LAST-MODIFIED:20260309T165331Z
UID:6157-1810920600-1810926000@alcconline.org
SUMMARY:Kingdom Kids
DESCRIPTION:Friday Nights 5:30 – 7:00 PM \nGrades K- 5th
URL:https://alcconline.org/event/kingdom-kids/2027-05-21/
LOCATION:Abundant Life Community Church\, 10795 Alta Street\, Grass Valley\, CA\, 95945\, United States
ATTACH;FMTTYPE=image/png:https://alcconline.org/wp-content/uploads/2026/03/Kingdom-.png
ORGANIZER;CN="ALCC Admin":MAILTO:office@alcconline.org
END:VEVENT
BEGIN:VEVENT
DTSTART;TZID=America/Los_Angeles:20270521T190000
DTEND;TZID=America/Los_Angeles:20270521T203000
DTSTAMP:20260425T054520
CREATED:20260309T165518Z
LAST-MODIFIED:20260309T165518Z
UID:6099-1810926000-1810931400@alcconline.org
SUMMARY:Youth Group
DESCRIPTION:Friday Nights 7:00 – 8:30 PM \nGrades 6 – 12
URL:https://alcconline.org/event/youth-group/2027-05-21/
LOCATION:Abundant Life Community Church\, 10795 Alta Street\, Grass Valley\, CA\, 95945\, United States
ATTACH;FMTTYPE=image/jpeg:https://alcconline.org/wp-content/uploads/2026/03/youth.jpg
ORGANIZER;CN="ALCC Admin":MAILTO:office@alcconline.org
END:VEVENT
BEGIN:VEVENT
DTSTART;TZID=America/Los_Angeles:20270523T100000
DTEND;TZID=America/Los_Angeles:20270523T120000
DTSTAMP:20260425T054520
CREATED:20200827T002832Z
LAST-MODIFIED:20200827T002832Z
UID:5497-1811066400-1811073600@alcconline.org
SUMMARY:Sunday Service 10:00 AM
DESCRIPTION:
URL:https://alcconline.org/event/sunday-service-845-a-m/2027-05-23/
LOCATION:Abundant Life Community Church\, 10795 Alta Street\, Grass Valley\, CA\, 95945\, United States
ATTACH;FMTTYPE=image/jpeg:https://alcconline.org/wp-content/uploads/2020/08/20190816_173221820_iOS.jpg
ORGANIZER;CN="ALCC Admin":MAILTO:office@alcconline.org
END:VEVENT
BEGIN:VEVENT
DTSTART;TZID=America/Los_Angeles:20270528T173000
DTEND;TZID=America/Los_Angeles:20270528T190000
DTSTAMP:20260425T054520
CREATED:20260309T165331Z
LAST-MODIFIED:20260309T165331Z
UID:6158-1811525400-1811530800@alcconline.org
SUMMARY:Kingdom Kids
DESCRIPTION:Friday Nights 5:30 – 7:00 PM \nGrades K- 5th
URL:https://alcconline.org/event/kingdom-kids/2027-05-28/
LOCATION:Abundant Life Community Church\, 10795 Alta Street\, Grass Valley\, CA\, 95945\, United States
ATTACH;FMTTYPE=image/png:https://alcconline.org/wp-content/uploads/2026/03/Kingdom-.png
ORGANIZER;CN="ALCC Admin":MAILTO:office@alcconline.org
END:VEVENT
BEGIN:VEVENT
DTSTART;TZID=America/Los_Angeles:20270528T190000
DTEND;TZID=America/Los_Angeles:20270528T203000
DTSTAMP:20260425T054520
CREATED:20260309T165518Z
LAST-MODIFIED:20260309T165518Z
UID:6100-1811530800-1811536200@alcconline.org
SUMMARY:Youth Group
DESCRIPTION:Friday Nights 7:00 – 8:30 PM \nGrades 6 – 12
URL:https://alcconline.org/event/youth-group/2027-05-28/
LOCATION:Abundant Life Community Church\, 10795 Alta Street\, Grass Valley\, CA\, 95945\, United States
ATTACH;FMTTYPE=image/jpeg:https://alcconline.org/wp-content/uploads/2026/03/youth.jpg
ORGANIZER;CN="ALCC Admin":MAILTO:office@alcconline.org
END:VEVENT
BEGIN:VEVENT
DTSTART;TZID=America/Los_Angeles:20270530T100000
DTEND;TZID=America/Los_Angeles:20270530T120000
DTSTAMP:20260425T054520
CREATED:20200827T002832Z
LAST-MODIFIED:20200827T002832Z
UID:5506-1811671200-1811678400@alcconline.org
SUMMARY:Sunday Service 10:00 AM
DESCRIPTION:
URL:https://alcconline.org/event/sunday-service-845-a-m/2027-05-30/
LOCATION:Abundant Life Community Church\, 10795 Alta Street\, Grass Valley\, CA\, 95945\, United States
ATTACH;FMTTYPE=image/jpeg:https://alcconline.org/wp-content/uploads/2020/08/20190816_173221820_iOS.jpg
ORGANIZER;CN="ALCC Admin":MAILTO:office@alcconline.org
END:VEVENT
BEGIN:VEVENT
DTSTART;TZID=UTC:20270603T133000
DTEND;TZID=UTC:20270603T143000
DTSTAMP:20260425T054520
CREATED:20240213T025044Z
LAST-MODIFIED:20240213T025044Z
UID:5513-1812029400-1812033000@alcconline.org
SUMMARY:Nursing Home Visit
DESCRIPTION:On the first Thursday of each month at 1:30 PM\, we visit Golden Empire Convalescent and sing songs\, share communion\, and love on the residents there. We’d love to have you join us!
URL:https://alcconline.org/event/nursing-home-visit/2027-06-03/
LOCATION:Abundant Life Community Church\, 10795 Alta Street\, Grass Valley\, CA\, 95945\, United States
CATEGORIES:Outreach
ATTACH;FMTTYPE=image/jpeg:https://alcconline.org/wp-content/uploads/2024/02/psalm-100-vs-1-2.jpg
ORGANIZER;CN="ALCC Admin":MAILTO:office@alcconline.org
END:VEVENT
END:VCALENDAR