BEGIN:VCALENDAR
VERSION:2.0
PRODID:-//Abundant Life Community Church - ECPv6.15.20//NONSGML v1.0//EN
CALSCALE:GREGORIAN
METHOD:PUBLISH
X-WR-CALNAME:Abundant Life Community Church
X-ORIGINAL-URL:https://alcconline.org
X-WR-CALDESC:Events for Abundant Life Community Church
REFRESH-INTERVAL;VALUE=DURATION:PT1H
X-Robots-Tag:noindex
X-PUBLISHED-TTL:PT1H
BEGIN:VTIMEZONE
TZID:America/Los_Angeles
BEGIN:DAYLIGHT
TZOFFSETFROM:-0800
TZOFFSETTO:-0700
TZNAME:PDT
DTSTART:20230312T100000
END:DAYLIGHT
BEGIN:STANDARD
TZOFFSETFROM:-0700
TZOFFSETTO:-0800
TZNAME:PST
DTSTART:20231105T090000
END:STANDARD
BEGIN:DAYLIGHT
TZOFFSETFROM:-0800
TZOFFSETTO:-0700
TZNAME:PDT
DTSTART:20240310T100000
END:DAYLIGHT
BEGIN:STANDARD
TZOFFSETFROM:-0700
TZOFFSETTO:-0800
TZNAME:PST
DTSTART:20241103T090000
END:STANDARD
BEGIN:DAYLIGHT
TZOFFSETFROM:-0800
TZOFFSETTO:-0700
TZNAME:PDT
DTSTART:20250309T100000
END:DAYLIGHT
BEGIN:STANDARD
TZOFFSETFROM:-0700
TZOFFSETTO:-0800
TZNAME:PST
DTSTART:20251102T090000
END:STANDARD
END:VTIMEZONE
BEGIN:VTIMEZONE
TZID:UTC
BEGIN:STANDARD
TZOFFSETFROM:+0000
TZOFFSETTO:+0000
TZNAME:UTC
DTSTART:20230101T000000
END:STANDARD
END:VTIMEZONE
BEGIN:VEVENT
DTSTART;TZID=America/Los_Angeles:20241027T100000
DTEND;TZID=America/Los_Angeles:20241027T120000
DTSTAMP:20260425T042254
CREATED:20200827T002832Z
LAST-MODIFIED:20200827T002832Z
UID:3875-1730023200-1730030400@alcconline.org
SUMMARY:Sunday Service 10:00 AM
DESCRIPTION:
URL:https://alcconline.org/event/sunday-service-845-a-m/2024-10-27/
LOCATION:Abundant Life Community Church\, 10795 Alta Street\, Grass Valley\, CA\, 95945\, United States
ATTACH;FMTTYPE=image/jpeg:https://alcconline.org/wp-content/uploads/2020/08/20190816_173221820_iOS.jpg
ORGANIZER;CN="ALCC Admin":MAILTO:office@alcconline.org
END:VEVENT
BEGIN:VEVENT
DTSTART;TZID=UTC:20241026T090000
DTEND;TZID=UTC:20241026T150000
DTSTAMP:20260425T042254
CREATED:20240924T040229Z
LAST-MODIFIED:20240924T040229Z
UID:4979-1729933200-1729954800@alcconline.org
SUMMARY:LiNC Serve Day
DESCRIPTION:
URL:https://alcconline.org/event/linc-serve-day/
LOCATION:Abundant Life Community Church\, 10795 Alta Street\, Grass Valley\, CA\, 95945\, United States
CATEGORIES:Family
ATTACH;FMTTYPE=image/jpeg:https://alcconline.org/wp-content/uploads/2024/09/LiNC_Fall_2024_Save_The_Date_media_slide-1-scaled.jpg
ORGANIZER;CN="ALCC Admin":MAILTO:office@alcconline.org
END:VEVENT
BEGIN:VEVENT
DTSTART;TZID=America/Los_Angeles:20241020T100000
DTEND;TZID=America/Los_Angeles:20241020T120000
DTSTAMP:20260425T042254
CREATED:20200827T002832Z
LAST-MODIFIED:20200827T002832Z
UID:3862-1729418400-1729425600@alcconline.org
SUMMARY:Sunday Service 10:00 AM
DESCRIPTION:
URL:https://alcconline.org/event/sunday-service-845-a-m/2024-10-20/
LOCATION:Abundant Life Community Church\, 10795 Alta Street\, Grass Valley\, CA\, 95945\, United States
ATTACH;FMTTYPE=image/jpeg:https://alcconline.org/wp-content/uploads/2020/08/20190816_173221820_iOS.jpg
ORGANIZER;CN="ALCC Admin":MAILTO:office@alcconline.org
END:VEVENT
BEGIN:VEVENT
DTSTART;TZID=America/Los_Angeles:20241013T100000
DTEND;TZID=America/Los_Angeles:20241013T120000
DTSTAMP:20260425T042254
CREATED:20200827T002832Z
LAST-MODIFIED:20200827T002832Z
UID:3860-1728813600-1728820800@alcconline.org
SUMMARY:Sunday Service 10:00 AM
DESCRIPTION:
URL:https://alcconline.org/event/sunday-service-845-a-m/2024-10-13/
LOCATION:Abundant Life Community Church\, 10795 Alta Street\, Grass Valley\, CA\, 95945\, United States
ATTACH;FMTTYPE=image/jpeg:https://alcconline.org/wp-content/uploads/2020/08/20190816_173221820_iOS.jpg
ORGANIZER;CN="ALCC Admin":MAILTO:office@alcconline.org
END:VEVENT
BEGIN:VEVENT
DTSTART;TZID=UTC:20241008T190000
DTEND;TZID=UTC:20241008T200000
DTSTAMP:20260425T042254
CREATED:20240924T032553Z
LAST-MODIFIED:20240924T032553Z
UID:4975-1728414000-1728417600@alcconline.org
SUMMARY:LiNC Planning Meeting
DESCRIPTION:LiNC (Love in Nevada County) \nPlanning Meeting Tuesday\, October 8th 7:00 PM
URL:https://alcconline.org/event/linc-planning-meeting/
LOCATION:Abundant Life Community Church\, 10795 Alta Street\, Grass Valley\, CA\, 95945\, United States
ORGANIZER;CN="ALCC Admin":MAILTO:office@alcconline.org
END:VEVENT
BEGIN:VEVENT
DTSTART;TZID=America/Los_Angeles:20241006T100000
DTEND;TZID=America/Los_Angeles:20241006T120000
DTSTAMP:20260425T042254
CREATED:20200827T002832Z
LAST-MODIFIED:20200827T002832Z
UID:3853-1728208800-1728216000@alcconline.org
SUMMARY:Sunday Service 10:00 AM
DESCRIPTION:
URL:https://alcconline.org/event/sunday-service-845-a-m/2024-10-06/
LOCATION:Abundant Life Community Church\, 10795 Alta Street\, Grass Valley\, CA\, 95945\, United States
ATTACH;FMTTYPE=image/jpeg:https://alcconline.org/wp-content/uploads/2020/08/20190816_173221820_iOS.jpg
ORGANIZER;CN="ALCC Admin":MAILTO:office@alcconline.org
END:VEVENT
BEGIN:VEVENT
DTSTART;TZID=UTC:20241003T190000
DTEND;TZID=UTC:20241003T200000
DTSTAMP:20260425T042254
CREATED:20240130T035548Z
LAST-MODIFIED:20240130T035548Z
UID:4452-1727982000-1727985600@alcconline.org
SUMMARY:Worship Night
DESCRIPTION:The 1st Thursday of each month \n7:00 PM \nSing & make music with our hearts to our Savior!
URL:https://alcconline.org/event/worship-night-2/2024-10-03/
LOCATION:Abundant Life Community Church\, 10795 Alta Street\, Grass Valley\, CA\, 95945\, United States
CATEGORIES:Family
ATTACH;FMTTYPE=image/jpeg:https://alcconline.org/wp-content/uploads/2024/01/worshipnightsplash.jpg
ORGANIZER;CN="ALCC Admin":MAILTO:office@alcconline.org
END:VEVENT
BEGIN:VEVENT
DTSTART;TZID=UTC:20241003T133000
DTEND;TZID=UTC:20241003T143000
DTSTAMP:20260425T042254
CREATED:20240213T025044Z
LAST-MODIFIED:20240213T025044Z
UID:4494-1727962200-1727965800@alcconline.org
SUMMARY:Nursing Home Visit
DESCRIPTION:On the first Thursday of each month at 1:30 PM\, we visit Golden Empire Convalescent and sing songs\, share communion\, and love on the residents there. We’d love to have you join us!
URL:https://alcconline.org/event/nursing-home-visit/2024-10-03/
LOCATION:Abundant Life Community Church\, 10795 Alta Street\, Grass Valley\, CA\, 95945\, United States
CATEGORIES:Outreach
ATTACH;FMTTYPE=image/jpeg:https://alcconline.org/wp-content/uploads/2024/02/psalm-100-vs-1-2.jpg
ORGANIZER;CN="ALCC Admin":MAILTO:office@alcconline.org
END:VEVENT
BEGIN:VEVENT
DTSTART;TZID=America/Los_Angeles:20240929T100000
DTEND;TZID=America/Los_Angeles:20240929T120000
DTSTAMP:20260425T042254
CREATED:20200827T002832Z
LAST-MODIFIED:20200827T002832Z
UID:3843-1727604000-1727611200@alcconline.org
SUMMARY:Sunday Service 10:00 AM
DESCRIPTION:
URL:https://alcconline.org/event/sunday-service-845-a-m/2024-09-29/
LOCATION:Abundant Life Community Church\, 10795 Alta Street\, Grass Valley\, CA\, 95945\, United States
ATTACH;FMTTYPE=image/jpeg:https://alcconline.org/wp-content/uploads/2020/08/20190816_173221820_iOS.jpg
ORGANIZER;CN="ALCC Admin":MAILTO:office@alcconline.org
END:VEVENT
BEGIN:VEVENT
DTSTART;TZID=UTC:20240928T100000
DTEND;TZID=UTC:20240928T150000
DTSTAMP:20260425T042254
CREATED:20240917T022930Z
LAST-MODIFIED:20240917T022930Z
UID:4964-1727517600-1727535600@alcconline.org
SUMMARY:Leadership Seminar
DESCRIPTION:When: Saturday\, September 28th\, 10:00 AM to 3:00 PM \nWhere: Nevada County Contractor’s Association \n149 Crown Point Circle\, Suite A \nEveryone is welcome!
URL:https://alcconline.org/event/leadership-seminar/
LOCATION:Abundant Life Community Church\, 10795 Alta Street\, Grass Valley\, CA\, 95945\, United States
ATTACH;FMTTYPE=image/jpeg:https://alcconline.org/wp-content/uploads/2024/09/leadership.jpg
ORGANIZER;CN="ALCC Admin":MAILTO:office@alcconline.org
END:VEVENT
BEGIN:VEVENT
DTSTART;TZID=America/Los_Angeles:20240922T100000
DTEND;TZID=America/Los_Angeles:20240922T120000
DTSTAMP:20260425T042254
CREATED:20200827T002832Z
LAST-MODIFIED:20200827T002832Z
UID:3836-1726999200-1727006400@alcconline.org
SUMMARY:Sunday Service 10:00 AM
DESCRIPTION:
URL:https://alcconline.org/event/sunday-service-845-a-m/2024-09-22/
LOCATION:Abundant Life Community Church\, 10795 Alta Street\, Grass Valley\, CA\, 95945\, United States
ATTACH;FMTTYPE=image/jpeg:https://alcconline.org/wp-content/uploads/2020/08/20190816_173221820_iOS.jpg
ORGANIZER;CN="ALCC Admin":MAILTO:office@alcconline.org
END:VEVENT
BEGIN:VEVENT
DTSTART;TZID=UTC:20240915T113000
DTEND;TZID=UTC:20240915T140000
DTSTAMP:20260425T042254
CREATED:20240820T004458Z
LAST-MODIFIED:20240820T004458Z
UID:4910-1726399800-1726408800@alcconline.org
SUMMARY:Fall Kick-Off Party
DESCRIPTION:Please join us after service on September 15th for a potluck BBQ (we’ll supply the burgers and hot dogs). After lunch\, we’ll have games\, a cupcake/muffin walk\, and a bounce house! Please invite your friends!
URL:https://alcconline.org/event/fall-kick-off-party/
LOCATION:Abundant Life Community Church\, 10795 Alta Street\, Grass Valley\, CA\, 95945\, United States
CATEGORIES:Family
ATTACH;FMTTYPE=image/jpeg:https://alcconline.org/wp-content/uploads/2024/08/bounce-house-with-slides.jpg
ORGANIZER;CN="ALCC Admin":MAILTO:office@alcconline.org
END:VEVENT
BEGIN:VEVENT
DTSTART;TZID=America/Los_Angeles:20240915T100000
DTEND;TZID=America/Los_Angeles:20240915T120000
DTSTAMP:20260425T042254
CREATED:20200827T002832Z
LAST-MODIFIED:20200827T002832Z
UID:3820-1726394400-1726401600@alcconline.org
SUMMARY:Sunday Service 10:00 AM
DESCRIPTION:
URL:https://alcconline.org/event/sunday-service-845-a-m/2024-09-15/
LOCATION:Abundant Life Community Church\, 10795 Alta Street\, Grass Valley\, CA\, 95945\, United States
ATTACH;FMTTYPE=image/jpeg:https://alcconline.org/wp-content/uploads/2020/08/20190816_173221820_iOS.jpg
ORGANIZER;CN="ALCC Admin":MAILTO:office@alcconline.org
END:VEVENT
BEGIN:VEVENT
DTSTART;TZID=America/Los_Angeles:20240908T100000
DTEND;TZID=America/Los_Angeles:20240908T120000
DTSTAMP:20260425T042254
CREATED:20200827T002832Z
LAST-MODIFIED:20200827T002832Z
UID:3811-1725789600-1725796800@alcconline.org
SUMMARY:Sunday Service 10:00 AM
DESCRIPTION:
URL:https://alcconline.org/event/sunday-service-845-a-m/2024-09-08/
LOCATION:Abundant Life Community Church\, 10795 Alta Street\, Grass Valley\, CA\, 95945\, United States
ATTACH;FMTTYPE=image/jpeg:https://alcconline.org/wp-content/uploads/2020/08/20190816_173221820_iOS.jpg
ORGANIZER;CN="ALCC Admin":MAILTO:office@alcconline.org
END:VEVENT
BEGIN:VEVENT
DTSTART;TZID=UTC:20240905T190000
DTEND;TZID=UTC:20240905T200000
DTSTAMP:20260425T042254
CREATED:20240130T035548Z
LAST-MODIFIED:20240130T035548Z
UID:4451-1725562800-1725566400@alcconline.org
SUMMARY:Worship Night
DESCRIPTION:The 1st Thursday of each month \n7:00 PM \nSing & make music with our hearts to our Savior!
URL:https://alcconline.org/event/worship-night-2/2024-09-05/
LOCATION:Abundant Life Community Church\, 10795 Alta Street\, Grass Valley\, CA\, 95945\, United States
CATEGORIES:Family
ATTACH;FMTTYPE=image/jpeg:https://alcconline.org/wp-content/uploads/2024/01/worshipnightsplash.jpg
ORGANIZER;CN="ALCC Admin":MAILTO:office@alcconline.org
END:VEVENT
BEGIN:VEVENT
DTSTART;TZID=UTC:20240905T133000
DTEND;TZID=UTC:20240905T143000
DTSTAMP:20260425T042254
CREATED:20240213T025044Z
LAST-MODIFIED:20240213T025044Z
UID:4493-1725543000-1725546600@alcconline.org
SUMMARY:Nursing Home Visit
DESCRIPTION:On the first Thursday of each month at 1:30 PM\, we visit Golden Empire Convalescent and sing songs\, share communion\, and love on the residents there. We’d love to have you join us!
URL:https://alcconline.org/event/nursing-home-visit/2024-09-05/
LOCATION:Abundant Life Community Church\, 10795 Alta Street\, Grass Valley\, CA\, 95945\, United States
CATEGORIES:Outreach
ATTACH;FMTTYPE=image/jpeg:https://alcconline.org/wp-content/uploads/2024/02/psalm-100-vs-1-2.jpg
ORGANIZER;CN="ALCC Admin":MAILTO:office@alcconline.org
END:VEVENT
BEGIN:VEVENT
DTSTART;TZID=America/Los_Angeles:20240901T100000
DTEND;TZID=America/Los_Angeles:20240901T120000
DTSTAMP:20260425T042254
CREATED:20200827T002832Z
LAST-MODIFIED:20200827T002832Z
UID:3801-1725184800-1725192000@alcconline.org
SUMMARY:Sunday Service 10:00 AM
DESCRIPTION:
URL:https://alcconline.org/event/sunday-service-845-a-m/2024-09-01/
LOCATION:Abundant Life Community Church\, 10795 Alta Street\, Grass Valley\, CA\, 95945\, United States
ATTACH;FMTTYPE=image/jpeg:https://alcconline.org/wp-content/uploads/2020/08/20190816_173221820_iOS.jpg
ORGANIZER;CN="ALCC Admin":MAILTO:office@alcconline.org
END:VEVENT
BEGIN:VEVENT
DTSTART;TZID=America/Los_Angeles:20240825T100000
DTEND;TZID=America/Los_Angeles:20240825T120000
DTSTAMP:20260425T042254
CREATED:20200827T002832Z
LAST-MODIFIED:20200827T002832Z
UID:3767-1724580000-1724587200@alcconline.org
SUMMARY:Sunday Service 10:00 AM
DESCRIPTION:
URL:https://alcconline.org/event/sunday-service-845-a-m/2024-08-25/
LOCATION:Abundant Life Community Church\, 10795 Alta Street\, Grass Valley\, CA\, 95945\, United States
ATTACH;FMTTYPE=image/jpeg:https://alcconline.org/wp-content/uploads/2020/08/20190816_173221820_iOS.jpg
ORGANIZER;CN="ALCC Admin":MAILTO:office@alcconline.org
END:VEVENT
BEGIN:VEVENT
DTSTART;TZID=America/Los_Angeles:20240818T100000
DTEND;TZID=America/Los_Angeles:20240818T120000
DTSTAMP:20260425T042254
CREATED:20200827T002832Z
LAST-MODIFIED:20200827T002832Z
UID:3760-1723975200-1723982400@alcconline.org
SUMMARY:Sunday Service 10:00 AM
DESCRIPTION:
URL:https://alcconline.org/event/sunday-service-845-a-m/2024-08-18/
LOCATION:Abundant Life Community Church\, 10795 Alta Street\, Grass Valley\, CA\, 95945\, United States
ATTACH;FMTTYPE=image/jpeg:https://alcconline.org/wp-content/uploads/2020/08/20190816_173221820_iOS.jpg
ORGANIZER;CN="ALCC Admin":MAILTO:office@alcconline.org
END:VEVENT
BEGIN:VEVENT
DTSTART;TZID=America/Los_Angeles:20240811T100000
DTEND;TZID=America/Los_Angeles:20240811T120000
DTSTAMP:20260425T042254
CREATED:20200827T002832Z
LAST-MODIFIED:20200827T002832Z
UID:3757-1723370400-1723377600@alcconline.org
SUMMARY:Sunday Service 10:00 AM
DESCRIPTION:
URL:https://alcconline.org/event/sunday-service-845-a-m/2024-08-11/
LOCATION:Abundant Life Community Church\, 10795 Alta Street\, Grass Valley\, CA\, 95945\, United States
ATTACH;FMTTYPE=image/jpeg:https://alcconline.org/wp-content/uploads/2020/08/20190816_173221820_iOS.jpg
ORGANIZER;CN="ALCC Admin":MAILTO:office@alcconline.org
END:VEVENT
BEGIN:VEVENT
DTSTART;TZID=America/Los_Angeles:20240804T100000
DTEND;TZID=America/Los_Angeles:20240804T120000
DTSTAMP:20260425T042254
CREATED:20200827T002832Z
LAST-MODIFIED:20200827T002832Z
UID:3749-1722765600-1722772800@alcconline.org
SUMMARY:Sunday Service 10:00 AM
DESCRIPTION:
URL:https://alcconline.org/event/sunday-service-845-a-m/2024-08-04/
LOCATION:Abundant Life Community Church\, 10795 Alta Street\, Grass Valley\, CA\, 95945\, United States
ATTACH;FMTTYPE=image/jpeg:https://alcconline.org/wp-content/uploads/2020/08/20190816_173221820_iOS.jpg
ORGANIZER;CN="ALCC Admin":MAILTO:office@alcconline.org
END:VEVENT
BEGIN:VEVENT
DTSTART;TZID=UTC:20240803T100000
DTEND;TZID=UTC:20240803T130000
DTSTAMP:20260425T042254
CREATED:20240730T034641Z
LAST-MODIFIED:20240730T034641Z
UID:4876-1722679200-1722690000@alcconline.org
SUMMARY:Hope for Nevada County
DESCRIPTION:WHEN:\nSaturday\, August 3\, 2024 \n10:00am-1:00pm (or until supplies run out) \nWHERE: \nNew Location! \nNevada Union\nHooper Stadium \nWHAT: \nMany families in Nevada County are struggling to provide basic necessities for their children\, let alone getting everything needed for the start of a new school year. That’s why local businesses\, non-profits\, and civic leaders are partnering together with Convoy of Hope to stand in the gap for them. \nOn August 3\, we are throwing a completely free Back-to-School event to help struggling families get ready for the start of the school year. We will be handing out backpacks filled with school supplies\, new shoes and socks\, and lots of groceries. There will also be free haircuts and activities for both kids and teens as well as free lunch for the whole family. Join us as we love our neighbors and spread a little hope in Nevada County. \nWant to volunteer to help? Please Contact Kathy at 530.273.6425\, ext. 400. 
URL:https://alcconline.org/event/hope-for-nevada-county/
LOCATION:Abundant Life Community Church\, 10795 Alta Street\, Grass Valley\, CA\, 95945\, United States
ATTACH;FMTTYPE=image/jpeg:https://alcconline.org/wp-content/uploads/2024/07/RC_-_HFNC_slide_071724-1-scaled.jpg
ORGANIZER;CN="ALCC Admin":MAILTO:office@alcconline.org
END:VEVENT
BEGIN:VEVENT
DTSTART;TZID=UTC:20240801T190000
DTEND;TZID=UTC:20240801T200000
DTSTAMP:20260425T042254
CREATED:20240130T035548Z
LAST-MODIFIED:20240130T035548Z
UID:4450-1722538800-1722542400@alcconline.org
SUMMARY:Worship Night
DESCRIPTION:The 1st Thursday of each month \n7:00 PM \nSing & make music with our hearts to our Savior!
URL:https://alcconline.org/event/worship-night-2/2024-08-01/
LOCATION:Abundant Life Community Church\, 10795 Alta Street\, Grass Valley\, CA\, 95945\, United States
CATEGORIES:Family
ATTACH;FMTTYPE=image/jpeg:https://alcconline.org/wp-content/uploads/2024/01/worshipnightsplash.jpg
ORGANIZER;CN="ALCC Admin":MAILTO:office@alcconline.org
END:VEVENT
BEGIN:VEVENT
DTSTART;TZID=UTC:20240801T133000
DTEND;TZID=UTC:20240801T143000
DTSTAMP:20260425T042254
CREATED:20240213T025044Z
LAST-MODIFIED:20240213T025044Z
UID:4492-1722519000-1722522600@alcconline.org
SUMMARY:Nursing Home Visit
DESCRIPTION:On the first Thursday of each month at 1:30 PM\, we visit Golden Empire Convalescent and sing songs\, share communion\, and love on the residents there. We’d love to have you join us!
URL:https://alcconline.org/event/nursing-home-visit/2024-08-01/
LOCATION:Abundant Life Community Church\, 10795 Alta Street\, Grass Valley\, CA\, 95945\, United States
CATEGORIES:Outreach
ATTACH;FMTTYPE=image/jpeg:https://alcconline.org/wp-content/uploads/2024/02/psalm-100-vs-1-2.jpg
ORGANIZER;CN="ALCC Admin":MAILTO:office@alcconline.org
END:VEVENT
BEGIN:VEVENT
DTSTART;TZID=America/Los_Angeles:20240728T100000
DTEND;TZID=America/Los_Angeles:20240728T120000
DTSTAMP:20260425T042254
CREATED:20200827T002832Z
LAST-MODIFIED:20200827T002832Z
UID:3740-1722160800-1722168000@alcconline.org
SUMMARY:Sunday Service 10:00 AM
DESCRIPTION:
URL:https://alcconline.org/event/sunday-service-845-a-m/2024-07-28/
LOCATION:Abundant Life Community Church\, 10795 Alta Street\, Grass Valley\, CA\, 95945\, United States
ATTACH;FMTTYPE=image/jpeg:https://alcconline.org/wp-content/uploads/2020/08/20190816_173221820_iOS.jpg
ORGANIZER;CN="ALCC Admin":MAILTO:office@alcconline.org
END:VEVENT
BEGIN:VEVENT
DTSTART;TZID=America/Los_Angeles:20240721T100000
DTEND;TZID=America/Los_Angeles:20240721T120000
DTSTAMP:20260425T042254
CREATED:20200827T002832Z
LAST-MODIFIED:20200827T002832Z
UID:3732-1721556000-1721563200@alcconline.org
SUMMARY:Sunday Service 10:00 AM
DESCRIPTION:
URL:https://alcconline.org/event/sunday-service-845-a-m/2024-07-21/
LOCATION:Abundant Life Community Church\, 10795 Alta Street\, Grass Valley\, CA\, 95945\, United States
ATTACH;FMTTYPE=image/jpeg:https://alcconline.org/wp-content/uploads/2020/08/20190816_173221820_iOS.jpg
ORGANIZER;CN="ALCC Admin":MAILTO:office@alcconline.org
END:VEVENT
BEGIN:VEVENT
DTSTART;TZID=America/Los_Angeles:20240714T100000
DTEND;TZID=America/Los_Angeles:20240714T120000
DTSTAMP:20260425T042254
CREATED:20200827T002832Z
LAST-MODIFIED:20200827T002832Z
UID:3675-1720951200-1720958400@alcconline.org
SUMMARY:Sunday Service 10:00 AM
DESCRIPTION:
URL:https://alcconline.org/event/sunday-service-845-a-m/2024-07-14/
LOCATION:Abundant Life Community Church\, 10795 Alta Street\, Grass Valley\, CA\, 95945\, United States
ATTACH;FMTTYPE=image/jpeg:https://alcconline.org/wp-content/uploads/2020/08/20190816_173221820_iOS.jpg
ORGANIZER;CN="ALCC Admin":MAILTO:office@alcconline.org
END:VEVENT
BEGIN:VEVENT
DTSTART;TZID=America/Los_Angeles:20240707T100000
DTEND;TZID=America/Los_Angeles:20240707T120000
DTSTAMP:20260425T042254
CREATED:20200827T002832Z
LAST-MODIFIED:20200827T002832Z
UID:3665-1720346400-1720353600@alcconline.org
SUMMARY:Sunday Service 10:00 AM
DESCRIPTION:
URL:https://alcconline.org/event/sunday-service-845-a-m/2024-07-07/
LOCATION:Abundant Life Community Church\, 10795 Alta Street\, Grass Valley\, CA\, 95945\, United States
ATTACH;FMTTYPE=image/jpeg:https://alcconline.org/wp-content/uploads/2020/08/20190816_173221820_iOS.jpg
ORGANIZER;CN="ALCC Admin":MAILTO:office@alcconline.org
END:VEVENT
BEGIN:VEVENT
DTSTART;TZID=UTC:20240704T190000
DTEND;TZID=UTC:20240704T200000
DTSTAMP:20260425T042254
CREATED:20240130T035548Z
LAST-MODIFIED:20240130T035548Z
UID:4449-1720119600-1720123200@alcconline.org
SUMMARY:Worship Night
DESCRIPTION:The 1st Thursday of each month \n7:00 PM \nSing & make music with our hearts to our Savior!
URL:https://alcconline.org/event/worship-night-2/2024-07-04/
LOCATION:Abundant Life Community Church\, 10795 Alta Street\, Grass Valley\, CA\, 95945\, United States
CATEGORIES:Family
ATTACH;FMTTYPE=image/jpeg:https://alcconline.org/wp-content/uploads/2024/01/worshipnightsplash.jpg
ORGANIZER;CN="ALCC Admin":MAILTO:office@alcconline.org
END:VEVENT
BEGIN:VEVENT
DTSTART;TZID=UTC:20240704T133000
DTEND;TZID=UTC:20240704T143000
DTSTAMP:20260425T042254
CREATED:20240213T025044Z
LAST-MODIFIED:20240213T025044Z
UID:4491-1720099800-1720103400@alcconline.org
SUMMARY:Nursing Home Visit
DESCRIPTION:On the first Thursday of each month at 1:30 PM\, we visit Golden Empire Convalescent and sing songs\, share communion\, and love on the residents there. We’d love to have you join us!
URL:https://alcconline.org/event/nursing-home-visit/2024-07-04/
LOCATION:Abundant Life Community Church\, 10795 Alta Street\, Grass Valley\, CA\, 95945\, United States
CATEGORIES:Outreach
ATTACH;FMTTYPE=image/jpeg:https://alcconline.org/wp-content/uploads/2024/02/psalm-100-vs-1-2.jpg
ORGANIZER;CN="ALCC Admin":MAILTO:office@alcconline.org
END:VEVENT
END:VCALENDAR