BEGIN:VCALENDAR
VERSION:2.0
PRODID:-//Abundant Life Community Church - ECPv6.15.20//NONSGML v1.0//EN
CALSCALE:GREGORIAN
METHOD:PUBLISH
X-WR-CALNAME:Abundant Life Community Church
X-ORIGINAL-URL:https://alcconline.org
X-WR-CALDESC:Events for Abundant Life Community Church
REFRESH-INTERVAL;VALUE=DURATION:PT1H
X-Robots-Tag:noindex
X-PUBLISHED-TTL:PT1H
BEGIN:VTIMEZONE
TZID:America/Los_Angeles
BEGIN:DAYLIGHT
TZOFFSETFROM:-0800
TZOFFSETTO:-0700
TZNAME:PDT
DTSTART:20250309T100000
END:DAYLIGHT
BEGIN:STANDARD
TZOFFSETFROM:-0700
TZOFFSETTO:-0800
TZNAME:PST
DTSTART:20251102T090000
END:STANDARD
BEGIN:DAYLIGHT
TZOFFSETFROM:-0800
TZOFFSETTO:-0700
TZNAME:PDT
DTSTART:20260308T100000
END:DAYLIGHT
BEGIN:STANDARD
TZOFFSETFROM:-0700
TZOFFSETTO:-0800
TZNAME:PST
DTSTART:20261101T090000
END:STANDARD
BEGIN:DAYLIGHT
TZOFFSETFROM:-0800
TZOFFSETTO:-0700
TZNAME:PDT
DTSTART:20270314T100000
END:DAYLIGHT
BEGIN:STANDARD
TZOFFSETFROM:-0700
TZOFFSETTO:-0800
TZNAME:PST
DTSTART:20271107T090000
END:STANDARD
END:VTIMEZONE
BEGIN:VTIMEZONE
TZID:UTC
BEGIN:STANDARD
TZOFFSETFROM:+0000
TZOFFSETTO:+0000
TZNAME:UTC
DTSTART:20250101T000000
END:STANDARD
END:VTIMEZONE
BEGIN:VEVENT
DTSTART;TZID=America/Los_Angeles:20260424T173000
DTEND;TZID=America/Los_Angeles:20260424T190000
DTSTAMP:20260423T172724
CREATED:20260309T165331Z
LAST-MODIFIED:20260309T165331Z
UID:5989-1777051800-1777057200@alcconline.org
SUMMARY:Kingdom Kids
DESCRIPTION:Friday Nights 5:30 – 7:00 PM \nGrades K- 5th
URL:https://alcconline.org/event/kingdom-kids/2026-04-24/
LOCATION:Abundant Life Community Church\, 10795 Alta Street\, Grass Valley\, CA\, 95945\, United States
ATTACH;FMTTYPE=image/png:https://alcconline.org/wp-content/uploads/2026/03/Kingdom-.png
ORGANIZER;CN="ALCC Admin":MAILTO:office@alcconline.org
END:VEVENT
BEGIN:VEVENT
DTSTART;TZID=America/Los_Angeles:20260424T190000
DTEND;TZID=America/Los_Angeles:20260424T203000
DTSTAMP:20260423T172724
CREATED:20260309T165518Z
LAST-MODIFIED:20260309T165518Z
UID:6042-1777057200-1777062600@alcconline.org
SUMMARY:Youth Group
DESCRIPTION:Friday Nights 7:00 – 8:30 PM \nGrades 6 – 12
URL:https://alcconline.org/event/youth-group/2026-04-24/
LOCATION:Abundant Life Community Church\, 10795 Alta Street\, Grass Valley\, CA\, 95945\, United States
ATTACH;FMTTYPE=image/jpeg:https://alcconline.org/wp-content/uploads/2026/03/youth.jpg
ORGANIZER;CN="ALCC Admin":MAILTO:office@alcconline.org
END:VEVENT
BEGIN:VEVENT
DTSTART;VALUE=DATE:20260425
DTEND;VALUE=DATE:20260426
DTSTAMP:20260423T172724
CREATED:20260129T184343Z
LAST-MODIFIED:20260129T184343Z
UID:5921-1777075200-1777161599@alcconline.org
SUMMARY:LiNC Spring Serve Day
DESCRIPTION:
URL:https://alcconline.org/event/linc-spring-serve-day/
LOCATION:Abundant Life Community Church\, 10795 Alta Street\, Grass Valley\, CA\, 95945\, United States
ATTACH;FMTTYPE=image/png:https://alcconline.org/wp-content/uploads/2026/01/LiNC-Spring-Event-Save-the-Date-scaled.png
ORGANIZER;CN="ALCC Admin":MAILTO:office@alcconline.org
END:VEVENT
BEGIN:VEVENT
DTSTART;TZID=America/Los_Angeles:20260426T100000
DTEND;TZID=America/Los_Angeles:20260426T120000
DTSTAMP:20260423T172724
CREATED:20200827T002832Z
LAST-MODIFIED:20200827T002832Z
UID:4747-1777197600-1777204800@alcconline.org
SUMMARY:Sunday Service 10:00 AM
DESCRIPTION:
URL:https://alcconline.org/event/sunday-service-845-a-m/2026-04-26/
LOCATION:Abundant Life Community Church\, 10795 Alta Street\, Grass Valley\, CA\, 95945\, United States
ATTACH;FMTTYPE=image/jpeg:https://alcconline.org/wp-content/uploads/2020/08/20190816_173221820_iOS.jpg
ORGANIZER;CN="ALCC Admin":MAILTO:office@alcconline.org
END:VEVENT
BEGIN:VEVENT
DTSTART;TZID=America/Los_Angeles:20260501T173000
DTEND;TZID=America/Los_Angeles:20260501T190000
DTSTAMP:20260423T172724
CREATED:20260309T165331Z
LAST-MODIFIED:20260309T165331Z
UID:5990-1777656600-1777662000@alcconline.org
SUMMARY:Kingdom Kids
DESCRIPTION:Friday Nights 5:30 – 7:00 PM \nGrades K- 5th
URL:https://alcconline.org/event/kingdom-kids/2026-05-01/
LOCATION:Abundant Life Community Church\, 10795 Alta Street\, Grass Valley\, CA\, 95945\, United States
ATTACH;FMTTYPE=image/png:https://alcconline.org/wp-content/uploads/2026/03/Kingdom-.png
ORGANIZER;CN="ALCC Admin":MAILTO:office@alcconline.org
END:VEVENT
BEGIN:VEVENT
DTSTART;TZID=America/Los_Angeles:20260501T190000
DTEND;TZID=America/Los_Angeles:20260501T203000
DTSTAMP:20260423T172724
CREATED:20260309T165518Z
LAST-MODIFIED:20260309T165518Z
UID:6043-1777662000-1777667400@alcconline.org
SUMMARY:Youth Group
DESCRIPTION:Friday Nights 7:00 – 8:30 PM \nGrades 6 – 12
URL:https://alcconline.org/event/youth-group/2026-05-01/
LOCATION:Abundant Life Community Church\, 10795 Alta Street\, Grass Valley\, CA\, 95945\, United States
ATTACH;FMTTYPE=image/jpeg:https://alcconline.org/wp-content/uploads/2026/03/youth.jpg
ORGANIZER;CN="ALCC Admin":MAILTO:office@alcconline.org
END:VEVENT
BEGIN:VEVENT
DTSTART;TZID=America/Los_Angeles:20260503T100000
DTEND;TZID=America/Los_Angeles:20260503T120000
DTSTAMP:20260423T172724
CREATED:20200827T002832Z
LAST-MODIFIED:20200827T002832Z
UID:4754-1777802400-1777809600@alcconline.org
SUMMARY:Sunday Service 10:00 AM
DESCRIPTION:
URL:https://alcconline.org/event/sunday-service-845-a-m/2026-05-03/
LOCATION:Abundant Life Community Church\, 10795 Alta Street\, Grass Valley\, CA\, 95945\, United States
ATTACH;FMTTYPE=image/jpeg:https://alcconline.org/wp-content/uploads/2020/08/20190816_173221820_iOS.jpg
ORGANIZER;CN="ALCC Admin":MAILTO:office@alcconline.org
END:VEVENT
BEGIN:VEVENT
DTSTART;TZID=UTC:20260507T133000
DTEND;TZID=UTC:20260507T143000
DTSTAMP:20260423T172724
CREATED:20240213T025044Z
LAST-MODIFIED:20240213T025044Z
UID:4763-1778160600-1778164200@alcconline.org
SUMMARY:Nursing Home Visit
DESCRIPTION:On the first Thursday of each month at 1:30 PM\, we visit Golden Empire Convalescent and sing songs\, share communion\, and love on the residents there. We’d love to have you join us!
URL:https://alcconline.org/event/nursing-home-visit/2026-05-07/
LOCATION:Abundant Life Community Church\, 10795 Alta Street\, Grass Valley\, CA\, 95945\, United States
CATEGORIES:Outreach
ATTACH;FMTTYPE=image/jpeg:https://alcconline.org/wp-content/uploads/2024/02/psalm-100-vs-1-2.jpg
ORGANIZER;CN="ALCC Admin":MAILTO:office@alcconline.org
END:VEVENT
BEGIN:VEVENT
DTSTART;TZID=America/Los_Angeles:20260508T173000
DTEND;TZID=America/Los_Angeles:20260508T190000
DTSTAMP:20260423T172724
CREATED:20260309T165331Z
LAST-MODIFIED:20260309T165331Z
UID:5991-1778261400-1778266800@alcconline.org
SUMMARY:Kingdom Kids
DESCRIPTION:Friday Nights 5:30 – 7:00 PM \nGrades K- 5th
URL:https://alcconline.org/event/kingdom-kids/2026-05-08/
LOCATION:Abundant Life Community Church\, 10795 Alta Street\, Grass Valley\, CA\, 95945\, United States
ATTACH;FMTTYPE=image/png:https://alcconline.org/wp-content/uploads/2026/03/Kingdom-.png
ORGANIZER;CN="ALCC Admin":MAILTO:office@alcconline.org
END:VEVENT
BEGIN:VEVENT
DTSTART;TZID=America/Los_Angeles:20260508T190000
DTEND;TZID=America/Los_Angeles:20260508T203000
DTSTAMP:20260423T172724
CREATED:20260309T165518Z
LAST-MODIFIED:20260309T165518Z
UID:6044-1778266800-1778272200@alcconline.org
SUMMARY:Youth Group
DESCRIPTION:Friday Nights 7:00 – 8:30 PM \nGrades 6 – 12
URL:https://alcconline.org/event/youth-group/2026-05-08/
LOCATION:Abundant Life Community Church\, 10795 Alta Street\, Grass Valley\, CA\, 95945\, United States
ATTACH;FMTTYPE=image/jpeg:https://alcconline.org/wp-content/uploads/2026/03/youth.jpg
ORGANIZER;CN="ALCC Admin":MAILTO:office@alcconline.org
END:VEVENT
BEGIN:VEVENT
DTSTART;TZID=America/Los_Angeles:20260510T100000
DTEND;TZID=America/Los_Angeles:20260510T120000
DTSTAMP:20260423T172724
CREATED:20200827T002832Z
LAST-MODIFIED:20200827T002832Z
UID:4764-1778407200-1778414400@alcconline.org
SUMMARY:Sunday Service 10:00 AM
DESCRIPTION:
URL:https://alcconline.org/event/sunday-service-845-a-m/2026-05-10/
LOCATION:Abundant Life Community Church\, 10795 Alta Street\, Grass Valley\, CA\, 95945\, United States
ATTACH;FMTTYPE=image/jpeg:https://alcconline.org/wp-content/uploads/2020/08/20190816_173221820_iOS.jpg
ORGANIZER;CN="ALCC Admin":MAILTO:office@alcconline.org
END:VEVENT
BEGIN:VEVENT
DTSTART;TZID=America/Los_Angeles:20260515T173000
DTEND;TZID=America/Los_Angeles:20260515T190000
DTSTAMP:20260423T172724
CREATED:20260309T165331Z
LAST-MODIFIED:20260309T165331Z
UID:5992-1778866200-1778871600@alcconline.org
SUMMARY:Kingdom Kids
DESCRIPTION:Friday Nights 5:30 – 7:00 PM \nGrades K- 5th
URL:https://alcconline.org/event/kingdom-kids/2026-05-15/
LOCATION:Abundant Life Community Church\, 10795 Alta Street\, Grass Valley\, CA\, 95945\, United States
ATTACH;FMTTYPE=image/png:https://alcconline.org/wp-content/uploads/2026/03/Kingdom-.png
ORGANIZER;CN="ALCC Admin":MAILTO:office@alcconline.org
END:VEVENT
BEGIN:VEVENT
DTSTART;TZID=America/Los_Angeles:20260515T190000
DTEND;TZID=America/Los_Angeles:20260515T203000
DTSTAMP:20260423T172724
CREATED:20260309T165518Z
LAST-MODIFIED:20260309T165518Z
UID:6045-1778871600-1778877000@alcconline.org
SUMMARY:Youth Group
DESCRIPTION:Friday Nights 7:00 – 8:30 PM \nGrades 6 – 12
URL:https://alcconline.org/event/youth-group/2026-05-15/
LOCATION:Abundant Life Community Church\, 10795 Alta Street\, Grass Valley\, CA\, 95945\, United States
ATTACH;FMTTYPE=image/jpeg:https://alcconline.org/wp-content/uploads/2026/03/youth.jpg
ORGANIZER;CN="ALCC Admin":MAILTO:office@alcconline.org
END:VEVENT
BEGIN:VEVENT
DTSTART;TZID=America/Los_Angeles:20260517T100000
DTEND;TZID=America/Los_Angeles:20260517T120000
DTSTAMP:20260423T172724
CREATED:20200827T002832Z
LAST-MODIFIED:20200827T002832Z
UID:4771-1779012000-1779019200@alcconline.org
SUMMARY:Sunday Service 10:00 AM
DESCRIPTION:
URL:https://alcconline.org/event/sunday-service-845-a-m/2026-05-17/
LOCATION:Abundant Life Community Church\, 10795 Alta Street\, Grass Valley\, CA\, 95945\, United States
ATTACH;FMTTYPE=image/jpeg:https://alcconline.org/wp-content/uploads/2020/08/20190816_173221820_iOS.jpg
ORGANIZER;CN="ALCC Admin":MAILTO:office@alcconline.org
END:VEVENT
BEGIN:VEVENT
DTSTART;TZID=America/Los_Angeles:20260522T173000
DTEND;TZID=America/Los_Angeles:20260522T190000
DTSTAMP:20260423T172724
CREATED:20260309T165331Z
LAST-MODIFIED:20260309T165331Z
UID:5993-1779471000-1779476400@alcconline.org
SUMMARY:Kingdom Kids
DESCRIPTION:Friday Nights 5:30 – 7:00 PM \nGrades K- 5th
URL:https://alcconline.org/event/kingdom-kids/2026-05-22/
LOCATION:Abundant Life Community Church\, 10795 Alta Street\, Grass Valley\, CA\, 95945\, United States
ATTACH;FMTTYPE=image/png:https://alcconline.org/wp-content/uploads/2026/03/Kingdom-.png
ORGANIZER;CN="ALCC Admin":MAILTO:office@alcconline.org
END:VEVENT
BEGIN:VEVENT
DTSTART;TZID=America/Los_Angeles:20260522T190000
DTEND;TZID=America/Los_Angeles:20260522T203000
DTSTAMP:20260423T172724
CREATED:20260309T165518Z
LAST-MODIFIED:20260309T165518Z
UID:6046-1779476400-1779481800@alcconline.org
SUMMARY:Youth Group
DESCRIPTION:Friday Nights 7:00 – 8:30 PM \nGrades 6 – 12
URL:https://alcconline.org/event/youth-group/2026-05-22/
LOCATION:Abundant Life Community Church\, 10795 Alta Street\, Grass Valley\, CA\, 95945\, United States
ATTACH;FMTTYPE=image/jpeg:https://alcconline.org/wp-content/uploads/2026/03/youth.jpg
ORGANIZER;CN="ALCC Admin":MAILTO:office@alcconline.org
END:VEVENT
BEGIN:VEVENT
DTSTART;TZID=America/Los_Angeles:20260524T100000
DTEND;TZID=America/Los_Angeles:20260524T120000
DTSTAMP:20260423T172724
CREATED:20200827T002832Z
LAST-MODIFIED:20200827T002832Z
UID:4776-1779616800-1779624000@alcconline.org
SUMMARY:Sunday Service 10:00 AM
DESCRIPTION:
URL:https://alcconline.org/event/sunday-service-845-a-m/2026-05-24/
LOCATION:Abundant Life Community Church\, 10795 Alta Street\, Grass Valley\, CA\, 95945\, United States
ATTACH;FMTTYPE=image/jpeg:https://alcconline.org/wp-content/uploads/2020/08/20190816_173221820_iOS.jpg
ORGANIZER;CN="ALCC Admin":MAILTO:office@alcconline.org
END:VEVENT
BEGIN:VEVENT
DTSTART;TZID=America/Los_Angeles:20260529T173000
DTEND;TZID=America/Los_Angeles:20260529T190000
DTSTAMP:20260423T172724
CREATED:20260309T165331Z
LAST-MODIFIED:20260309T165331Z
UID:5995-1780075800-1780081200@alcconline.org
SUMMARY:Kingdom Kids
DESCRIPTION:Friday Nights 5:30 – 7:00 PM \nGrades K- 5th
URL:https://alcconline.org/event/kingdom-kids/2026-05-29/
LOCATION:Abundant Life Community Church\, 10795 Alta Street\, Grass Valley\, CA\, 95945\, United States
ATTACH;FMTTYPE=image/png:https://alcconline.org/wp-content/uploads/2026/03/Kingdom-.png
ORGANIZER;CN="ALCC Admin":MAILTO:office@alcconline.org
END:VEVENT
BEGIN:VEVENT
DTSTART;TZID=America/Los_Angeles:20260529T190000
DTEND;TZID=America/Los_Angeles:20260529T203000
DTSTAMP:20260423T172724
CREATED:20260309T165518Z
LAST-MODIFIED:20260309T165518Z
UID:6048-1780081200-1780086600@alcconline.org
SUMMARY:Youth Group
DESCRIPTION:Friday Nights 7:00 – 8:30 PM \nGrades 6 – 12
URL:https://alcconline.org/event/youth-group/2026-05-29/
LOCATION:Abundant Life Community Church\, 10795 Alta Street\, Grass Valley\, CA\, 95945\, United States
ATTACH;FMTTYPE=image/jpeg:https://alcconline.org/wp-content/uploads/2026/03/youth.jpg
ORGANIZER;CN="ALCC Admin":MAILTO:office@alcconline.org
END:VEVENT
BEGIN:VEVENT
DTSTART;TZID=America/Los_Angeles:20260531T100000
DTEND;TZID=America/Los_Angeles:20260531T120000
DTSTAMP:20260423T172724
CREATED:20200827T002832Z
LAST-MODIFIED:20200827T002832Z
UID:4781-1780221600-1780228800@alcconline.org
SUMMARY:Sunday Service 10:00 AM
DESCRIPTION:
URL:https://alcconline.org/event/sunday-service-845-a-m/2026-05-31/
LOCATION:Abundant Life Community Church\, 10795 Alta Street\, Grass Valley\, CA\, 95945\, United States
ATTACH;FMTTYPE=image/jpeg:https://alcconline.org/wp-content/uploads/2020/08/20190816_173221820_iOS.jpg
ORGANIZER;CN="ALCC Admin":MAILTO:office@alcconline.org
END:VEVENT
BEGIN:VEVENT
DTSTART;TZID=UTC:20260604T133000
DTEND;TZID=UTC:20260604T143000
DTSTAMP:20260423T172724
CREATED:20240213T025044Z
LAST-MODIFIED:20240213T025044Z
UID:4788-1780579800-1780583400@alcconline.org
SUMMARY:Nursing Home Visit
DESCRIPTION:On the first Thursday of each month at 1:30 PM\, we visit Golden Empire Convalescent and sing songs\, share communion\, and love on the residents there. We’d love to have you join us!
URL:https://alcconline.org/event/nursing-home-visit/2026-06-04/
LOCATION:Abundant Life Community Church\, 10795 Alta Street\, Grass Valley\, CA\, 95945\, United States
CATEGORIES:Outreach
ATTACH;FMTTYPE=image/jpeg:https://alcconline.org/wp-content/uploads/2024/02/psalm-100-vs-1-2.jpg
ORGANIZER;CN="ALCC Admin":MAILTO:office@alcconline.org
END:VEVENT
BEGIN:VEVENT
DTSTART;TZID=America/Los_Angeles:20260605T173000
DTEND;TZID=America/Los_Angeles:20260605T190000
DTSTAMP:20260423T172724
CREATED:20260309T165331Z
LAST-MODIFIED:20260309T165331Z
UID:5996-1780680600-1780686000@alcconline.org
SUMMARY:Kingdom Kids
DESCRIPTION:Friday Nights 5:30 – 7:00 PM \nGrades K- 5th
URL:https://alcconline.org/event/kingdom-kids/2026-06-05/
LOCATION:Abundant Life Community Church\, 10795 Alta Street\, Grass Valley\, CA\, 95945\, United States
ATTACH;FMTTYPE=image/png:https://alcconline.org/wp-content/uploads/2026/03/Kingdom-.png
ORGANIZER;CN="ALCC Admin":MAILTO:office@alcconline.org
END:VEVENT
BEGIN:VEVENT
DTSTART;TZID=America/Los_Angeles:20260605T190000
DTEND;TZID=America/Los_Angeles:20260605T203000
DTSTAMP:20260423T172724
CREATED:20260309T165518Z
LAST-MODIFIED:20260309T165518Z
UID:6049-1780686000-1780691400@alcconline.org
SUMMARY:Youth Group
DESCRIPTION:Friday Nights 7:00 – 8:30 PM \nGrades 6 – 12
URL:https://alcconline.org/event/youth-group/2026-06-05/
LOCATION:Abundant Life Community Church\, 10795 Alta Street\, Grass Valley\, CA\, 95945\, United States
ATTACH;FMTTYPE=image/jpeg:https://alcconline.org/wp-content/uploads/2026/03/youth.jpg
ORGANIZER;CN="ALCC Admin":MAILTO:office@alcconline.org
END:VEVENT
BEGIN:VEVENT
DTSTART;TZID=America/Los_Angeles:20260607T100000
DTEND;TZID=America/Los_Angeles:20260607T120000
DTSTAMP:20260423T172724
CREATED:20200827T002832Z
LAST-MODIFIED:20200827T002832Z
UID:4792-1780826400-1780833600@alcconline.org
SUMMARY:Sunday Service 10:00 AM
DESCRIPTION:
URL:https://alcconline.org/event/sunday-service-845-a-m/2026-06-07/
LOCATION:Abundant Life Community Church\, 10795 Alta Street\, Grass Valley\, CA\, 95945\, United States
ATTACH;FMTTYPE=image/jpeg:https://alcconline.org/wp-content/uploads/2020/08/20190816_173221820_iOS.jpg
ORGANIZER;CN="ALCC Admin":MAILTO:office@alcconline.org
END:VEVENT
BEGIN:VEVENT
DTSTART;TZID=America/Los_Angeles:20260612T173000
DTEND;TZID=America/Los_Angeles:20260612T190000
DTSTAMP:20260423T172724
CREATED:20260309T165331Z
LAST-MODIFIED:20260309T165331Z
UID:5997-1781285400-1781290800@alcconline.org
SUMMARY:Kingdom Kids
DESCRIPTION:Friday Nights 5:30 – 7:00 PM \nGrades K- 5th
URL:https://alcconline.org/event/kingdom-kids/2026-06-12/
LOCATION:Abundant Life Community Church\, 10795 Alta Street\, Grass Valley\, CA\, 95945\, United States
ATTACH;FMTTYPE=image/png:https://alcconline.org/wp-content/uploads/2026/03/Kingdom-.png
ORGANIZER;CN="ALCC Admin":MAILTO:office@alcconline.org
END:VEVENT
BEGIN:VEVENT
DTSTART;TZID=America/Los_Angeles:20260612T190000
DTEND;TZID=America/Los_Angeles:20260612T203000
DTSTAMP:20260423T172724
CREATED:20260309T165518Z
LAST-MODIFIED:20260309T165518Z
UID:6050-1781290800-1781296200@alcconline.org
SUMMARY:Youth Group
DESCRIPTION:Friday Nights 7:00 – 8:30 PM \nGrades 6 – 12
URL:https://alcconline.org/event/youth-group/2026-06-12/
LOCATION:Abundant Life Community Church\, 10795 Alta Street\, Grass Valley\, CA\, 95945\, United States
ATTACH;FMTTYPE=image/jpeg:https://alcconline.org/wp-content/uploads/2026/03/youth.jpg
ORGANIZER;CN="ALCC Admin":MAILTO:office@alcconline.org
END:VEVENT
BEGIN:VEVENT
DTSTART;TZID=America/Los_Angeles:20260614T100000
DTEND;TZID=America/Los_Angeles:20260614T120000
DTSTAMP:20260423T172724
CREATED:20200827T002832Z
LAST-MODIFIED:20200827T002832Z
UID:4801-1781431200-1781438400@alcconline.org
SUMMARY:Sunday Service 10:00 AM
DESCRIPTION:
URL:https://alcconline.org/event/sunday-service-845-a-m/2026-06-14/
LOCATION:Abundant Life Community Church\, 10795 Alta Street\, Grass Valley\, CA\, 95945\, United States
ATTACH;FMTTYPE=image/jpeg:https://alcconline.org/wp-content/uploads/2020/08/20190816_173221820_iOS.jpg
ORGANIZER;CN="ALCC Admin":MAILTO:office@alcconline.org
END:VEVENT
BEGIN:VEVENT
DTSTART;TZID=America/Los_Angeles:20260619T173000
DTEND;TZID=America/Los_Angeles:20260619T190000
DTSTAMP:20260423T172724
CREATED:20260309T165331Z
LAST-MODIFIED:20260309T165331Z
UID:5998-1781890200-1781895600@alcconline.org
SUMMARY:Kingdom Kids
DESCRIPTION:Friday Nights 5:30 – 7:00 PM \nGrades K- 5th
URL:https://alcconline.org/event/kingdom-kids/2026-06-19/
LOCATION:Abundant Life Community Church\, 10795 Alta Street\, Grass Valley\, CA\, 95945\, United States
ATTACH;FMTTYPE=image/png:https://alcconline.org/wp-content/uploads/2026/03/Kingdom-.png
ORGANIZER;CN="ALCC Admin":MAILTO:office@alcconline.org
END:VEVENT
BEGIN:VEVENT
DTSTART;TZID=America/Los_Angeles:20260619T190000
DTEND;TZID=America/Los_Angeles:20260619T203000
DTSTAMP:20260423T172724
CREATED:20260309T165518Z
LAST-MODIFIED:20260309T165518Z
UID:6051-1781895600-1781901000@alcconline.org
SUMMARY:Youth Group
DESCRIPTION:Friday Nights 7:00 – 8:30 PM \nGrades 6 – 12
URL:https://alcconline.org/event/youth-group/2026-06-19/
LOCATION:Abundant Life Community Church\, 10795 Alta Street\, Grass Valley\, CA\, 95945\, United States
ATTACH;FMTTYPE=image/jpeg:https://alcconline.org/wp-content/uploads/2026/03/youth.jpg
ORGANIZER;CN="ALCC Admin":MAILTO:office@alcconline.org
END:VEVENT
BEGIN:VEVENT
DTSTART;TZID=America/Los_Angeles:20260621T100000
DTEND;TZID=America/Los_Angeles:20260621T120000
DTSTAMP:20260423T172724
CREATED:20200827T002832Z
LAST-MODIFIED:20200827T002832Z
UID:4807-1782036000-1782043200@alcconline.org
SUMMARY:Sunday Service 10:00 AM
DESCRIPTION:
URL:https://alcconline.org/event/sunday-service-845-a-m/2026-06-21/
LOCATION:Abundant Life Community Church\, 10795 Alta Street\, Grass Valley\, CA\, 95945\, United States
ATTACH;FMTTYPE=image/jpeg:https://alcconline.org/wp-content/uploads/2020/08/20190816_173221820_iOS.jpg
ORGANIZER;CN="ALCC Admin":MAILTO:office@alcconline.org
END:VEVENT
END:VCALENDAR