BEGIN:VCALENDAR
VERSION:2.0
PRODID:-//Abundant Life Community Church - ECPv6.15.20//NONSGML v1.0//EN
CALSCALE:GREGORIAN
METHOD:PUBLISH
X-ORIGINAL-URL:https://alcconline.org
X-WR-CALDESC:Events for Abundant Life Community Church
REFRESH-INTERVAL;VALUE=DURATION:PT1H
X-Robots-Tag:noindex
X-PUBLISHED-TTL:PT1H
BEGIN:VTIMEZONE
TZID:UTC
BEGIN:STANDARD
TZOFFSETFROM:+0000
TZOFFSETTO:+0000
TZNAME:UTC
DTSTART:20230101T000000
END:STANDARD
END:VTIMEZONE
BEGIN:VEVENT
DTSTART;TZID=UTC:20250403T133000
DTEND;TZID=UTC:20250403T143000
DTSTAMP:20260423T124813
CREATED:20240213T025044Z
LAST-MODIFIED:20240213T025044Z
UID:4501-1743687000-1743690600@alcconline.org
SUMMARY:Nursing Home Visit
DESCRIPTION:On the first Thursday of each month at 1:30 PM\, we visit Golden Empire Convalescent and sing songs\, share communion\, and love on the residents there. We’d love to have you join us!
URL:https://alcconline.org/event/nursing-home-visit/2025-04-03/
LOCATION:Abundant Life Community Church\, 10795 Alta Street\, Grass Valley\, CA\, 95945\, United States
CATEGORIES:Outreach
ATTACH;FMTTYPE=image/jpeg:https://alcconline.org/wp-content/uploads/2024/02/psalm-100-vs-1-2.jpg
ORGANIZER;CN="ALCC Admin":MAILTO:office@alcconline.org
END:VEVENT
BEGIN:VEVENT
DTSTART;TZID=UTC:20250306T133000
DTEND;TZID=UTC:20250306T143000
DTSTAMP:20260423T124813
CREATED:20240213T025044Z
LAST-MODIFIED:20240213T025044Z
UID:4500-1741267800-1741271400@alcconline.org
SUMMARY:Nursing Home Visit
DESCRIPTION:On the first Thursday of each month at 1:30 PM\, we visit Golden Empire Convalescent and sing songs\, share communion\, and love on the residents there. We’d love to have you join us!
URL:https://alcconline.org/event/nursing-home-visit/2025-03-06/
LOCATION:Abundant Life Community Church\, 10795 Alta Street\, Grass Valley\, CA\, 95945\, United States
CATEGORIES:Outreach
ATTACH;FMTTYPE=image/jpeg:https://alcconline.org/wp-content/uploads/2024/02/psalm-100-vs-1-2.jpg
ORGANIZER;CN="ALCC Admin":MAILTO:office@alcconline.org
END:VEVENT
BEGIN:VEVENT
DTSTART;TZID=UTC:20250206T133000
DTEND;TZID=UTC:20250206T143000
DTSTAMP:20260423T124813
CREATED:20240213T025044Z
LAST-MODIFIED:20240213T025044Z
UID:4499-1738848600-1738852200@alcconline.org
SUMMARY:Nursing Home Visit
DESCRIPTION:On the first Thursday of each month at 1:30 PM\, we visit Golden Empire Convalescent and sing songs\, share communion\, and love on the residents there. We’d love to have you join us!
URL:https://alcconline.org/event/nursing-home-visit/2025-02-06/
LOCATION:Abundant Life Community Church\, 10795 Alta Street\, Grass Valley\, CA\, 95945\, United States
CATEGORIES:Outreach
ATTACH;FMTTYPE=image/jpeg:https://alcconline.org/wp-content/uploads/2024/02/psalm-100-vs-1-2.jpg
ORGANIZER;CN="ALCC Admin":MAILTO:office@alcconline.org
END:VEVENT
BEGIN:VEVENT
DTSTART;TZID=UTC:20250102T133000
DTEND;TZID=UTC:20250102T143000
DTSTAMP:20260423T124813
CREATED:20240213T025044Z
LAST-MODIFIED:20240213T025044Z
UID:4497-1735824600-1735828200@alcconline.org
SUMMARY:Nursing Home Visit
DESCRIPTION:On the first Thursday of each month at 1:30 PM\, we visit Golden Empire Convalescent and sing songs\, share communion\, and love on the residents there. We’d love to have you join us!
URL:https://alcconline.org/event/nursing-home-visit/2025-01-02/
LOCATION:Abundant Life Community Church\, 10795 Alta Street\, Grass Valley\, CA\, 95945\, United States
CATEGORIES:Outreach
ATTACH;FMTTYPE=image/jpeg:https://alcconline.org/wp-content/uploads/2024/02/psalm-100-vs-1-2.jpg
ORGANIZER;CN="ALCC Admin":MAILTO:office@alcconline.org
END:VEVENT
BEGIN:VEVENT
DTSTART;TZID=UTC:20241205T133000
DTEND;TZID=UTC:20241205T143000
DTSTAMP:20260423T124813
CREATED:20240213T025044Z
LAST-MODIFIED:20240213T025044Z
UID:4496-1733405400-1733409000@alcconline.org
SUMMARY:Nursing Home Visit
DESCRIPTION:On the first Thursday of each month at 1:30 PM\, we visit Golden Empire Convalescent and sing songs\, share communion\, and love on the residents there. We’d love to have you join us!
URL:https://alcconline.org/event/nursing-home-visit/2024-12-05/
LOCATION:Abundant Life Community Church\, 10795 Alta Street\, Grass Valley\, CA\, 95945\, United States
CATEGORIES:Outreach
ATTACH;FMTTYPE=image/jpeg:https://alcconline.org/wp-content/uploads/2024/02/psalm-100-vs-1-2.jpg
ORGANIZER;CN="ALCC Admin":MAILTO:office@alcconline.org
END:VEVENT
BEGIN:VEVENT
DTSTART;TZID=UTC:20241107T133000
DTEND;TZID=UTC:20241107T143000
DTSTAMP:20260423T124813
CREATED:20240213T025044Z
LAST-MODIFIED:20240213T025044Z
UID:4495-1730986200-1730989800@alcconline.org
SUMMARY:Nursing Home Visit
DESCRIPTION:On the first Thursday of each month at 1:30 PM\, we visit Golden Empire Convalescent and sing songs\, share communion\, and love on the residents there. We’d love to have you join us!
URL:https://alcconline.org/event/nursing-home-visit/2024-11-07/
LOCATION:Abundant Life Community Church\, 10795 Alta Street\, Grass Valley\, CA\, 95945\, United States
CATEGORIES:Outreach
ATTACH;FMTTYPE=image/jpeg:https://alcconline.org/wp-content/uploads/2024/02/psalm-100-vs-1-2.jpg
ORGANIZER;CN="ALCC Admin":MAILTO:office@alcconline.org
END:VEVENT
BEGIN:VEVENT
DTSTART;TZID=UTC:20241003T133000
DTEND;TZID=UTC:20241003T143000
DTSTAMP:20260423T124813
CREATED:20240213T025044Z
LAST-MODIFIED:20240213T025044Z
UID:4494-1727962200-1727965800@alcconline.org
SUMMARY:Nursing Home Visit
DESCRIPTION:On the first Thursday of each month at 1:30 PM\, we visit Golden Empire Convalescent and sing songs\, share communion\, and love on the residents there. We’d love to have you join us!
URL:https://alcconline.org/event/nursing-home-visit/2024-10-03/
LOCATION:Abundant Life Community Church\, 10795 Alta Street\, Grass Valley\, CA\, 95945\, United States
CATEGORIES:Outreach
ATTACH;FMTTYPE=image/jpeg:https://alcconline.org/wp-content/uploads/2024/02/psalm-100-vs-1-2.jpg
ORGANIZER;CN="ALCC Admin":MAILTO:office@alcconline.org
END:VEVENT
BEGIN:VEVENT
DTSTART;TZID=UTC:20240905T133000
DTEND;TZID=UTC:20240905T143000
DTSTAMP:20260423T124813
CREATED:20240213T025044Z
LAST-MODIFIED:20240213T025044Z
UID:4493-1725543000-1725546600@alcconline.org
SUMMARY:Nursing Home Visit
DESCRIPTION:On the first Thursday of each month at 1:30 PM\, we visit Golden Empire Convalescent and sing songs\, share communion\, and love on the residents there. We’d love to have you join us!
URL:https://alcconline.org/event/nursing-home-visit/2024-09-05/
LOCATION:Abundant Life Community Church\, 10795 Alta Street\, Grass Valley\, CA\, 95945\, United States
CATEGORIES:Outreach
ATTACH;FMTTYPE=image/jpeg:https://alcconline.org/wp-content/uploads/2024/02/psalm-100-vs-1-2.jpg
ORGANIZER;CN="ALCC Admin":MAILTO:office@alcconline.org
END:VEVENT
BEGIN:VEVENT
DTSTART;TZID=UTC:20240801T133000
DTEND;TZID=UTC:20240801T143000
DTSTAMP:20260423T124813
CREATED:20240213T025044Z
LAST-MODIFIED:20240213T025044Z
UID:4492-1722519000-1722522600@alcconline.org
SUMMARY:Nursing Home Visit
DESCRIPTION:On the first Thursday of each month at 1:30 PM\, we visit Golden Empire Convalescent and sing songs\, share communion\, and love on the residents there. We’d love to have you join us!
URL:https://alcconline.org/event/nursing-home-visit/2024-08-01/
LOCATION:Abundant Life Community Church\, 10795 Alta Street\, Grass Valley\, CA\, 95945\, United States
CATEGORIES:Outreach
ATTACH;FMTTYPE=image/jpeg:https://alcconline.org/wp-content/uploads/2024/02/psalm-100-vs-1-2.jpg
ORGANIZER;CN="ALCC Admin":MAILTO:office@alcconline.org
END:VEVENT
BEGIN:VEVENT
DTSTART;TZID=UTC:20240704T133000
DTEND;TZID=UTC:20240704T143000
DTSTAMP:20260423T124813
CREATED:20240213T025044Z
LAST-MODIFIED:20240213T025044Z
UID:4491-1720099800-1720103400@alcconline.org
SUMMARY:Nursing Home Visit
DESCRIPTION:On the first Thursday of each month at 1:30 PM\, we visit Golden Empire Convalescent and sing songs\, share communion\, and love on the residents there. We’d love to have you join us!
URL:https://alcconline.org/event/nursing-home-visit/2024-07-04/
LOCATION:Abundant Life Community Church\, 10795 Alta Street\, Grass Valley\, CA\, 95945\, United States
CATEGORIES:Outreach
ATTACH;FMTTYPE=image/jpeg:https://alcconline.org/wp-content/uploads/2024/02/psalm-100-vs-1-2.jpg
ORGANIZER;CN="ALCC Admin":MAILTO:office@alcconline.org
END:VEVENT
BEGIN:VEVENT
DTSTART;TZID=UTC:20240606T133000
DTEND;TZID=UTC:20240606T143000
DTSTAMP:20260423T124813
CREATED:20240213T025044Z
LAST-MODIFIED:20240213T025044Z
UID:4490-1717680600-1717684200@alcconline.org
SUMMARY:Nursing Home Visit
DESCRIPTION:On the first Thursday of each month at 1:30 PM\, we visit Golden Empire Convalescent and sing songs\, share communion\, and love on the residents there. We’d love to have you join us!
URL:https://alcconline.org/event/nursing-home-visit/2024-06-06/
LOCATION:Abundant Life Community Church\, 10795 Alta Street\, Grass Valley\, CA\, 95945\, United States
CATEGORIES:Outreach
ATTACH;FMTTYPE=image/jpeg:https://alcconline.org/wp-content/uploads/2024/02/psalm-100-vs-1-2.jpg
ORGANIZER;CN="ALCC Admin":MAILTO:office@alcconline.org
END:VEVENT
BEGIN:VEVENT
DTSTART;TZID=UTC:20240502T133000
DTEND;TZID=UTC:20240502T143000
DTSTAMP:20260423T124813
CREATED:20240213T025044Z
LAST-MODIFIED:20240213T025044Z
UID:4489-1714656600-1714660200@alcconline.org
SUMMARY:Nursing Home Visit
DESCRIPTION:On the first Thursday of each month at 1:30 PM\, we visit Golden Empire Convalescent and sing songs\, share communion\, and love on the residents there. We’d love to have you join us!
URL:https://alcconline.org/event/nursing-home-visit/2024-05-02/
LOCATION:Abundant Life Community Church\, 10795 Alta Street\, Grass Valley\, CA\, 95945\, United States
CATEGORIES:Outreach
ATTACH;FMTTYPE=image/jpeg:https://alcconline.org/wp-content/uploads/2024/02/psalm-100-vs-1-2.jpg
ORGANIZER;CN="ALCC Admin":MAILTO:office@alcconline.org
END:VEVENT
BEGIN:VEVENT
DTSTART;TZID=UTC:20240307T133000
DTEND;TZID=UTC:20240307T143000
DTSTAMP:20260423T124813
CREATED:20240213T025044Z
LAST-MODIFIED:20240213T025044Z
UID:4486-1709818200-1709821800@alcconline.org
SUMMARY:Nursing Home Visit
DESCRIPTION:On the first Thursday of each month at 1:30 PM\, we visit Golden Empire Convalescent and sing songs\, share communion\, and love on the residents there. We’d love to have you join us!
URL:https://alcconline.org/event/nursing-home-visit/2024-03-07/
LOCATION:Abundant Life Community Church\, 10795 Alta Street\, Grass Valley\, CA\, 95945\, United States
CATEGORIES:Outreach
ATTACH;FMTTYPE=image/jpeg:https://alcconline.org/wp-content/uploads/2024/02/psalm-100-vs-1-2.jpg
ORGANIZER;CN="ALCC Admin":MAILTO:office@alcconline.org
END:VEVENT
END:VCALENDAR