BEGIN:VCALENDAR
VERSION:2.0
PRODID:-//Abundant Life Community Church - ECPv6.15.20//NONSGML v1.0//EN
CALSCALE:GREGORIAN
METHOD:PUBLISH
X-WR-CALNAME:Abundant Life Community Church
X-ORIGINAL-URL:https://alcconline.org
X-WR-CALDESC:Events for Abundant Life Community Church
REFRESH-INTERVAL;VALUE=DURATION:PT1H
X-Robots-Tag:noindex
X-PUBLISHED-TTL:PT1H
BEGIN:VTIMEZONE
TZID:UTC
BEGIN:STANDARD
TZOFFSETFROM:+0000
TZOFFSETTO:+0000
TZNAME:UTC
DTSTART:20210101T000000
END:STANDARD
END:VTIMEZONE
BEGIN:VEVENT
DTSTART;TZID=UTC:20221224T160000
DTEND;TZID=UTC:20221224T170000
DTSTAMP:20260424T041843
CREATED:20221213T035354Z
LAST-MODIFIED:20221213T035354Z
UID:3931-1671897600-1671901200@alcconline.org
SUMMARY:Christmas Eve Candlelight Service 4:00 PM
DESCRIPTION:Please join us on Christmas Eve for our candlelight service at 4:00 PM
URL:https://alcconline.org/event/christmas-eve-candlelight-service-400-pm/
LOCATION:Abundant Life Community Church\, 10795 Alta Street\, Grass Valley\, CA\, 95945\, United States
CATEGORIES:Family,Holiday
ATTACH;FMTTYPE=image/jpeg:https://alcconline.org/wp-content/uploads/2021/12/candle-burning-candles-large-small-fire-15092.jpg
ORGANIZER;CN="ALCC Admin":MAILTO:office@alcconline.org
END:VEVENT
END:VCALENDAR