BEGIN:VCALENDAR
VERSION:2.0
PRODID:-//Abundant Life Community Church - ECPv6.15.20//NONSGML v1.0//EN
CALSCALE:GREGORIAN
METHOD:PUBLISH
X-ORIGINAL-URL:https://alcconline.org
X-WR-CALDESC:Events for Abundant Life Community Church
REFRESH-INTERVAL;VALUE=DURATION:PT1H
X-Robots-Tag:noindex
X-PUBLISHED-TTL:PT1H
BEGIN:VTIMEZONE
TZID:UTC
BEGIN:STANDARD
TZOFFSETFROM:+0000
TZOFFSETTO:+0000
TZNAME:UTC
DTSTART:20220101T000000
END:STANDARD
END:VTIMEZONE
BEGIN:VEVENT
DTSTART;TZID=UTC:20230730T113000
DTEND;TZID=UTC:20230730T133000
DTSTAMP:20260425T213815
CREATED:20230717T013632Z
LAST-MODIFIED:20230717T013632Z
UID:4192-1690716600-1690723800@alcconline.org
SUMMARY:BBQ Potluck
DESCRIPTION:BBQ Potluck after church on July 30th
URL:https://alcconline.org/event/bbq-potluck-4/
LOCATION:Abundant Life Community Church\, 10795 Alta Street\, Grass Valley\, CA\, 95945\, United States
CATEGORIES:Family
ATTACH;FMTTYPE=image/jpeg:https://alcconline.org/wp-content/uploads/2023/05/DIY-BBQ-Bar-1.jpg
ORGANIZER;CN="ALCC Admin":MAILTO:office@alcconline.org
END:VEVENT
END:VCALENDAR