BEGIN:VCALENDAR
VERSION:2.0
PRODID:-//Abundant Life Community Church - ECPv6.15.20//NONSGML v1.0//EN
CALSCALE:GREGORIAN
METHOD:PUBLISH
X-WR-CALNAME:Abundant Life Community Church
X-ORIGINAL-URL:https://alcconline.org
X-WR-CALDESC:Events for Abundant Life Community Church
REFRESH-INTERVAL;VALUE=DURATION:PT1H
X-Robots-Tag:noindex
X-PUBLISHED-TTL:PT1H
BEGIN:VTIMEZONE
TZID:UTC
BEGIN:STANDARD
TZOFFSETFROM:+0000
TZOFFSETTO:+0000
TZNAME:UTC
DTSTART:20240101T000000
END:STANDARD
END:VTIMEZONE
BEGIN:VTIMEZONE
TZID:America/Los_Angeles
BEGIN:DAYLIGHT
TZOFFSETFROM:-0800
TZOFFSETTO:-0700
TZNAME:PDT
DTSTART:20240310T100000
END:DAYLIGHT
BEGIN:STANDARD
TZOFFSETFROM:-0700
TZOFFSETTO:-0800
TZNAME:PST
DTSTART:20241103T090000
END:STANDARD
BEGIN:DAYLIGHT
TZOFFSETFROM:-0800
TZOFFSETTO:-0700
TZNAME:PDT
DTSTART:20250309T100000
END:DAYLIGHT
BEGIN:STANDARD
TZOFFSETFROM:-0700
TZOFFSETTO:-0800
TZNAME:PST
DTSTART:20251102T090000
END:STANDARD
BEGIN:DAYLIGHT
TZOFFSETFROM:-0800
TZOFFSETTO:-0700
TZNAME:PDT
DTSTART:20260308T100000
END:DAYLIGHT
BEGIN:STANDARD
TZOFFSETFROM:-0700
TZOFFSETTO:-0800
TZNAME:PST
DTSTART:20261101T090000
END:STANDARD
END:VTIMEZONE
BEGIN:VEVENT
DTSTART;TZID=UTC:20250807T190000
DTEND;TZID=UTC:20250807T200000
DTSTAMP:20260424T050436
CREATED:20240130T035548Z
LAST-MODIFIED:20240130T035548Z
UID:4463-1754593200-1754596800@alcconline.org
SUMMARY:Worship Night
DESCRIPTION:The 1st Thursday of each month \n7:00 PM \nSing & make music with our hearts to our Savior!
URL:https://alcconline.org/event/worship-night-2/2025-08-07/
LOCATION:Abundant Life Community Church\, 10795 Alta Street\, Grass Valley\, CA\, 95945\, United States
CATEGORIES:Family
ATTACH;FMTTYPE=image/jpeg:https://alcconline.org/wp-content/uploads/2024/01/worshipnightsplash.jpg
ORGANIZER;CN="ALCC Admin":MAILTO:office@alcconline.org
END:VEVENT
BEGIN:VEVENT
DTSTART;TZID=America/Los_Angeles:20250831T100000
DTEND;TZID=America/Los_Angeles:20250831T120000
DTSTAMP:20260424T050436
CREATED:20250819T163622Z
LAST-MODIFIED:20250819T163622Z
UID:5655-1756634400-1756641600@alcconline.org
SUMMARY:FAMILY CAMP CHURCH SERVICE
DESCRIPTION:Please join us for church at Diamond Arrow Christian Conference Center on August 31st at 10:00 AM. \nNote: there will be NO SERVICE HERE AT THE CHURCH BUILDING ON THAT DAY
URL:https://alcconline.org/event/family-camp-church-service/
LOCATION:Abundant Life Community Church\, 10795 Alta Street\, Grass Valley\, CA\, 95945\, United States
CATEGORIES:Family
ATTACH;FMTTYPE=image/jpeg:https://alcconline.org/wp-content/uploads/2025/08/Family-Camp.jpg
ORGANIZER;CN="ALCC Admin":MAILTO:office@alcconline.org
END:VEVENT
END:VCALENDAR